Workbook
Name DIAS_AUSENCIAS_LEGAIS: '[1]DADOS-ESTATISTICOS'!$F$29
Name DIAS_LICENCA_MATERNIDADE: '[1]DADOS-ESTATISTICOS'!$F$35
Name DIAS_LICENCA_PATERNIDADE: '[1]DADOS-ESTATISTICOS'!$F$30
Name DIAS_NO_MES: '[1]DADOS-ESTATISTICOS'!$F$24
Name DIAS_PAGOS_EMPRESA_ACID_TRAB: '[1]DADOS-ESTATISTICOS'!$F$34
Name MESES_NO_ANO: '[1]DADOS-ESTATISTICOS'!$F$8
Name PERC_EMPREG_AFAST_TRAB: '[1]DADOS-ESTATISTICOS'!$F$33
Name PERC_GPS_FGTS: 'SEGUNDA A DOMINGO 12H DIURNO'!#REF!
Name PERC_GPS_FGTS: 'SEGUNDA A DOMINGO 12H NOTURNO'!#REF!
Name PERC_GPS_FGTS: #REF!
Name PERC_NASCIDOS_VIVOS_POPUL_FEM: '[1]DADOS-ESTATISTICOS'!$F$31
Name PERC_PARTIC_FEM_VIGIL: '[1]DADOS-ESTATISTICOS'!$F$36
Name PERC_PARTIC_MASC_VIGIL: '[1]DADOS-ESTATISTICOS'!$F$32
Name PERC_SUBSTITUTO_OUTRAS_AUSENCIAS: '[1]INSERÇÃO-DE-DADOS'!$F$51

Sheet Resumo
B2: Tipo de Serviço | D2: Valor por Empregado | E2: Qtde. de Empregados por Posto | F2: Valor por Posto | G2: Qtde. de Postos | H2: Valor Total do Serviço
B3: (A) | D3: (B) | E3: ( C) | F3: (D) = (B x C) | G3: (E) | H3: (F) = (D x E)
B4: 1 | C4: Segunda a domingo (12 horas diurnas) | D4: ='SEGUNDA A DOMINGO 12H DIURNO'!D122 -> 8128.976 | E4: 2 | F4: =D4*E4 -> 16257.952 | G4: 1 | H4: =F4*G4 -> 16257.952
B5: 2 | C5: Segunda a domingo (12 horas noturnas) | D5: ='SEGUNDA A DOMINGO 12H NOTURNO'!D122 -> 9066.4103 | E5: 2 | F5: =D5*E5 -> 18132.821 | G5: 1 | H5: =F5*G5 -> 18132.821
B6: Valor Mensal dos Serviços | H6: =SUM(H4:H5) -> 34390.773
B7: Valor Total (12 Meses) | H7: =H6*12 -> 412689.27

Sheet SEGUNDA A DOMINGO 12H DIURNO
A1: PLANILHA DE CUSTOS E FORMAÇÃO DE PREÇOS
A4: DISCRIMINAÇÃO DOS SERVIÇOS
A5: Vigilância – 12 horas diurnas, de segunda a domingo em turnos de 12x36 horas
A6: 1. MÓDULOS
A7: Mão de obra
A8: Mão de obra vinculada à execução contratual
A9: Dados para composição dos custos referentes a mão de obra
A10: 1 | B10: Tipo de serviço (mesmo serviço com características distintas)
A11: 2 | B11: Classificação Brasileira de Ocupações (CBO) | D11: CBO517330
A12: 3 | B12: Salário Normativo da Categoria Profissional | D12: 2370.63
A13: 4 | B13: Categoria Profissional (vinculada à execução contratual) | D13: SIND DOS VIGILANTE
A14: 5 | B14: Data-Base da Categoria (dia/mês/ano) | D14: 2025 a 2026
A16: Módulo 1 – Composição da Remuneração
A17: 1 | B17: Composição da Remuneração | D17: Valor (R$)
A18: A | B18: Salário-Base | D18: 2370.63
A19: B | B19: Adicional de Periculosidade | D19: =D18*30% -> 711.189
A20: C | B20: Adicional de Insalubridade
A21: D | B21: Adicional Noturno
A22: E | B22: Adicional de Hora Noturna Reduzida
A23: F | B23: Outros (especificar)
B24: Total | D24: =SUM(D18:D23) -> 3081.819
A26: Módulo 2 – Encargos e Benefícios Anuais, Mensais e Diários
A27: Submódulo 2.1 – 13º (décimo terceiro) Salário e Adicional de Férias
A28: 2.1 | B28: 13º (décimo terceiro) Salário, Férias e Adicional de Férias | D28: Valor (R$)
A29: A | B29: 13º (décimo terceiro) Salário | C29: =1/12 -> 0.083333333 | D29: =D24*C29 -> 256.81825
A30: B | B30: Adicional de Férias | C30: =(1/3)/12 -> 0.027777778 | D30: =D24*C30 -> 85.606083
B31: Total | C31: =SUM(C29:C30) -> 0.11111111 | D31: =SUM(D29:D30) -> 342.42433
A33: Submódulo 2.2 – Encargos Previdenciários (GPS), Fundo de Garantia por Tempo
A34: de Serviço (FGTS) e outras contribuições.
A35: 2.2 | B35: GPS, FGTS e outras contribuições | C35: Percentual (%) | D35: Valor (R$)
A36: A | B36: INSS | C36: 0.2 | D36: =(D24+D31)*C36 -> 684.84867
A37: B | B37: Salário Educação | C37: 0.025 | D37: =(D24+D31)*C37 -> 85.606083
A38: C | B38: SAT | C38: 0.03 | D38: =(D24+D31)*C38 -> 102.7273
A39: D | B39: SESC ou SESI | C39: 0.015 | D39: =(D24+D31)*C39 -> 51.36365
A40: E | B40: SENAI – SENAC | C40: 0.01 | D40: =(D24+D31)*C40 -> 34.242433
A41: F | B41: SEBRAE | C41: 0.006 | D41: =(D24+D31)*C41 -> 20.54546
A42: G | B42: INCRA | C42: 0.002 | D42: =(D24+D31)*C42 -> 6.8484867
A43: H | B43: FGTS | C43: 0.08 | D43: =(D24+D31)*C43 -> 273.93947
B44: Total | C44: =SUM(C36:C43) -> 0.368 | D44: =SUM(D36:D43) -> 1260.1215
A46: Submódulo 2.3 – Benefícios Mensais e Diários
...

Sheet SEGUNDA A DOMINGO 12H NOTURNO
A1: PLANILHA DE CUSTOS E FORMAÇÃO DE PREÇOS
A4: DISCRIMINAÇÃO DOS SERVIÇOS
A5: Vigilância – 12 horas noturnas, de segunda a domingo em turnos de 12x36 horas.
A6: 1. MÓDULOS
A7: Mão de obra
A8: Mão de obra vinculada à execução contratual
A9: Dados para composição dos custos referentes a mão de obra
A10: 1 | B10: Tipo de serviço (mesmo serviço com características distintas)
A11: 2 | B11: Classificação Brasileira de Ocupações (CBO) | D11: CBO517330
A12: 3 | B12: Salário Normativo da Categoria Profissional | D12: 2370.63
A13: 4 | B13: Categoria Profissional (vinculada à execução contratual) | D13: SIND DOS VIGILANTE
A14: 5 | B14: Data-Base da Categoria (dia/mês/ano) | D14: 2025 a 2026
A16: Módulo 1 – Composição da Remuneração
A17: 1 | B17: Composição da Remuneração | D17: Valor (R$)
A18: A | B18: Salário-Base | D18: 2370.63
A19: B | B19: Adicional de Periculosidade | D19: =D18*30% -> 711.189
A20: C | B20: Adicional de Insalubridade
A21: D | B21: Adicional Noturno | D21: =(D18+D19)/220*20%*137.13 -> 384.19076
A22: E | B22: Adicional de Hora Noturna Reduzida
A23: F | B23: Outros (especificar)
B24: Total | D24: =SUM(D18:D23) -> 3466.0098
A26: Módulo 2 – Encargos e Benefícios Anuais, Mensais e Diários
A27: Submódulo 2.1 – 13º (décimo terceiro) Salário e Adicional de Férias
A28: 2.1 | B28: 13º (décimo terceiro) Salário, Férias e Adicional de Férias | D28: Valor (R$)
A29: A | B29: 13º (décimo terceiro) Salário | C29: =1/12 -> 0.083333333 | D29: =D24*C29 -> 288.83415
A30: B | B30: Adicional de Férias | C30: =(1/3)/12 -> 0.027777778 | D30: =D24*C30 -> 96.278049
B31: Total | C31: =SUM(C29:C30) -> 0.11111111 | D31: =SUM(D29:D30) -> 385.1122
A33: Submódulo 2.2 – Encargos Previdenciários (GPS), Fundo de Garantia por Tempo
A34: de Serviço (FGTS) e outras contribuições.
A35: 2.2 | B35: GPS, FGTS e outras contribuições | C35: Percentual (%) | D35: Valor (R$)
A36: A | B36: INSS | C36: 0.2 | D36: =(D24+D31)*C36 -> 770.22439
A37: B | B37: Salário Educação | C37: 0.025 | D37: =(D24+D31)*C37 -> 96.278049
A38: C | B38: SAT | C38: 0.03 | D38: =(D24+D31)*C38 -> 115.53366
A39: D | B39: SESC ou SESI | C39: 0.015 | D39: =(D24+D31)*C39 -> 57.766829
A40: E | B40: SENAI – SENAC | C40: 0.01 | D40: =(D24+D31)*C40 -> 38.51122
A41: F | B41: SEBRAE | C41: 0.006 | D41: =(D24+D31)*C41 -> 23.106732
A42: G | B42: INCRA | C42: 0.002 | D42: =(D24+D31)*C42 -> 7.7022439
A43: H | B43: FGTS | C43: 0.08 | D43: =(D24+D31)*C43 -> 308.08976
B44: Total | C44: =SUM(C36:C43) -> 0.368 | D44: =SUM(D36:D43) -> 1417.2129
A46: Submódulo 2.3 – Benefícios Mensais e Diários
...

Sheet  Insumos 
A1: Descrição dos Insumo Diversos – Custo por Funcionário
A2: Uniformes
A3: Descrição | B3: Quantidade p/ 12 meses | C3: Valor Unit. | D3: Valor Total p/ 12 meses | E3: Valor Mensal p/ Posto | F3: Valor Mensal por funcionário
A4: Calça | B4: 16 | C4: 148.6 | D4: =B4*C4 -> 2377.6 | E4: =D4/12 -> 198.13333 | F4: =E4/4 -> 49.533333
A5: Camisa de manga curta | B5: 16 | C5: 103.27 | D5: =B5*C5 -> 1652.32 | E5: =D5/12 -> 137.69333 | F5: =E5/4 -> 34.423333
A6: Camisa de manga comprida | B6: 16 | C6: 99.57 | D6: =B6*C6 -> 1593.12 | E6: =D6/12 -> 132.76 | F6: =E6/4 -> 33.19
A7: Cinto de Nylon | B7: 4 | C7: 24.97 | D7: =B7*C7 -> 99.88 | E7: =D7/12 -> 8.3233333 | F7: =E7/4 -> 2.0808333
A8: Par de coturnos ou sapatos | B8: 8 | C8: 138.3 | D8: =B8*C8 -> 1106.4 | E8: =D8/12 -> 92.2 | F8: =E8/4 -> 23.05
A9: Par de meias | B9: 24 | C9: 24.4 | D9: =B9*C9 -> 585.6 | E9: =D9/12 -> 48.8 | F9: =E9/4 -> 12.2
A10: Jaqueta forrada | B10: 4 | C10: 176.3 | D10: =B10*C10 -> 705.2 | E10: =D10/12 -> 58.766667 | F10: =E10/4 -> 14.691667
A11: Capa de chuva | B11: 4 | C11: 27.1 | D11: =B11*C11 -> 108.4 | E11: =D11/12 -> 9.0333333 | F11: =E11/4 -> 2.2583333
A12: Cracha | B12: 4 | C12: 6.03 | D12: =B12*C12 -> 24.12 | E12: =D12/12 -> 2.01 | F12: =E12/4 -> 0.5025
A13: Apito | B13: 4 | C13: 11.83 | D13: =B13*C13 -> 47.32 | E13: =D13/12 -> 3.9433333 | F13: =E13/4 -> 0.98583333
A14: Cordão de apito | B14: 4 | C14: 12.57 | D14: =B14*C14 -> 50.28 | E14: =D14/12 -> 4.19 | F14: =E14/4 -> 1.0475
A15: Boné ou equivalente | B15: 8 | C15: 32.66 | D15: =B15*C15 -> 261.28 | E15: =D15/12 -> 21.773333 | F15: =E15/4 -> 5.4433333
A16: Subtotal | D16: =SUM(D4:D15) -> 8611.52 | E16: =SUM(E4,E5,E6,E7,E8,E9,E10,E11,E12,E13,E14,E15) -> 717.62667 | F16: =SUM(F4,F5,F6,F7,F8,F9,F10,F11,F12,F13,F14,F15) -> 179.40667
A18: Equipamentos Coletivos Por Postos
A19: Descrição | B19: Quantidade p/ 12 meses | C19: Valor Unit. | D19: Valor Total p/ 12 meses | E19: Valor Mensal p/ Posto | F19: Valor Mensal por funcionário
A20: Livro de ocorrência | B20: 1 | C20: 17.92 | D20: =B20*C20 -> 17.92 | E20: =D20/12 -> 1.4933333 | F20: =E20/4 -> 0.37333333
A21: Cassetete | B21: 2 | C21: 48.73 | D21: =B21*C21 -> 97.46 | E21: =D21/12 -> 8.1216667 | F21: =E21/4 -> 2.0304167
A22: Porta cassetete | B22: 2 | C22: 20.97 | D22: =B22*C22 -> 41.94 | E22: =D22/12 -> 3.495 | F22: =E22/4 -> 0.87375
A23: Lanterna Portatil em LED recarregável | B23: 1 | C23: 28.16 | D23: =B23*C23 -> 28.16 | E23: =D23/12 -> 2.3466667 | F23: =E23/4 -> 0.58666667
A24: Subtotal | D24: =SUM(D20:D23) -> 185.48 | E24: =SUM(E20:E23) -> 15.456667 | F24: =E24/4 -> 3.8641667
A25: Total geral | D25: =D16+D24 -> 8797
