Workbook
Name DIAS_AUSENCIAS_LEGAIS: '[1]DADOS-ESTATISTICOS'!$F$29
Name DIAS_LICENCA_MATERNIDADE: '[1]DADOS-ESTATISTICOS'!$F$35
Name DIAS_LICENCA_PATERNIDADE: '[1]DADOS-ESTATISTICOS'!$F$30
Name DIAS_NO_MES: '[1]DADOS-ESTATISTICOS'!$F$24
Name DIAS_PAGOS_EMPRESA_ACID_TRAB: '[1]DADOS-ESTATISTICOS'!$F$34
Name MESES_NO_ANO: '[1]DADOS-ESTATISTICOS'!$F$8
Name OUTRAS_AUSENCIAS_DESCRICAO: '[1]INSERÇÃO-DE-DADOS'!$C$51
Name PERC_EMPREG_AFAST_TRAB: '[1]DADOS-ESTATISTICOS'!$F$33
Name PERC_GPS_FGTS: #REF!
Name PERC_GPS_FGTS: #REF!
Name PERC_GPS_FGTS: #REF!
Name PERC_GPS_FGTS: #REF!
Name PERC_GPS_FGTS: #REF!
Name PERC_GPS_FGTS: #REF!
Name PERC_GPS_FGTS: #REF!
Name PERC_GPS_FGTS: #REF!
Name PERC_GPS_FGTS: #REF!
Name PERC_NASCIDOS_VIVOS_POPUL_FEM: '[1]DADOS-ESTATISTICOS'!$F$31
Name PERC_PARTIC_FEM_VIGIL: '[1]DADOS-ESTATISTICOS'!$F$36
Name PERC_PARTIC_MASC_VIGIL: '[1]DADOS-ESTATISTICOS'!$F$32
Name PERC_SUBSTITUTO_OUTRAS_AUSENCIAS: '[1]INSERÇÃO-DE-DADOS'!$F$51

Sheet proposta

Sheet Planilha1

Sheet Resumo Geral 
A1: {=A1:D3ERAL} -> #NAME?
A2: QUANTIDADE DE PESSOAL | B2: SERVIÇOS | C2: VALORES (R$)
C3: SERVIÇO (MENSAL) | D3: TOTAL ANUAL MÃO DE OBRA
A4: ='Recepção (40h) '!E16 -> 1 | B4: Recepção | C4: ='Recepção (40h) '!I153 -> 5868.8657 | D4: ='Recepção (40h) '!I154 -> 70426.388
A5: ='Motorista 1 (44h) '!E16 -> 1 | B5: *Motorista (1) | C5: ='Motorista 1 (44h) '!I153 -> 7033.71 | D5: ='Motorista 1 (44h) '!I154 -> 84404.52
A6: ='Motorista 2 (44h) '!E16 -> 1 | B6: *Motorista (2) | C6: ='Motorista 2 (44h) '!I153 -> 7033.71 | D6: ='Motorista 2 (44h) '!I154 -> 84404.52
A7: ='Recepção (40h) '!E16 -> 1 | B7: Portaria (SEDE) | C7: ='Portaria Diurno SEDE (40h)'!I152 -> 6015.015 | D7: ='Portaria Diurno SEDE (40h)'!I153 -> 72180.18
A8: ='Recepção (40h) '!E16 -> 1 | B8: **Portaria (SEDE) | C8: ='Portaria Diurno Temp. SED (40h)'!I152 -> 6015.015 | D8: ='Portaria Diurno Temp. SED (40h)'!I153 -> 6015.015
A9: ='Portaria Diurno Mgá (40h) '!E16 -> 1 | B9: *Portaria (Maringá) | C9: ='Portaria Diurno Mgá (40h) '!I153 -> 6012.0685 | D9: ='Portaria Diurno Mgá (40h) '!I154 -> 72144.822
A10: ='Aux. Manut. Pred. (40h) '!E16 -> 1 | B10: Aux. Mant. Predial | C10: ='Aux. Manut. Pred. (40h) '!I153 -> 5003.2319 | D10: ='Aux. Manut. Pred. (40h) '!I154 -> 60038.783
A11: ='Supervisor '!E16 -> 1 | B11: Supervisor | C11: ='Supervisor '!I153 -> 7536.3797 | D11: ='Supervisor '!I154 -> 90436.556
A12: ='Limpeza Sede Administrativa '!E16 -> 2 | B12: Limp. Curitiba - Sede | C12: ='Limpeza Sede Administrativa '!I172 -> 11929.736 | D12: ='Limpeza Sede Administrativa '!I175 -> 143156.83
A13: ='Limpeza Regional Curitiba'!E16 -> 2 | B13: Limp. Curitiba - Reg. Ctba | C13: ='Limpeza Regional Curitiba'!I172 -> 12025.856 | D13: ='Limpeza Regional Curitiba'!I175 -> 144310.27
A14: ='Limpeza Regional Apucarana '!E16 -> 1 | B14: Limp. Apucarana | C14: ='Limpeza Regional Apucarana '!I172 -> 7547.0013 | D14: ='Limpeza Regional Apucarana '!I175 -> 90564.016
A15: ='Limpeza Regional Cascavel'!E16 -> 1 | B15: **Limp. Cascavel | C15: ='Limpeza Regional Cascavel'!I172 -> 3339.9799 | D15: ='Limpeza Regional Cascavel'!I175 -> 6679.9598
A16: ='Limpeza Regional Guarapuava '!E16 -> 1 | B16: Limp. Guarapuava | C16: ='Limpeza Regional Guarapuava '!I151 -> 5281.1935 | D16: ='Limpeza Regional Guarapuava '!I154 -> 63374.322
A17: ='Limpeza Regional Londrina'!E16 -> 1 | B17: Limp. Londrina | C17: ='Limpeza Regional Londrina'!I172 -> 7557.287 | D17: ='Limpeza Regional Londrina'!I175 -> 90687.444
A18: ='Limpeza Regional Maringá'!E16 -> 2 | B18: Limp. Maringá | C18: ='Limpeza Regional Maringá'!I172 -> 17497.021 | D18: ='Limpeza Regional Maringá'!I175 -> 209964.26
A19: ='Limpeza Regional Pato Branco '!E16 -> 1 | B19: Limp. Pato Branco | C19: ='Limpeza Regional Pato Branco '!I151 -> 5026.4058 | D19: ='Limpeza Regional Pato Branco '!I154 -> 60316.87
A20: ='Limpeza Regional Ponta Gros '!E16 -> 1 | B20: Limp. Ponta Grossa | C20: ='Limpeza Regional Ponta Gros '!I172 -> 5791.6739 | D20: ='Limpeza Regional Ponta Gros '!I175 -> 69500.087
A21: ='Limpeza Água Verde '!E16 -> 1 | B21: Limp. Água Verde (Curitiba) | C21: ='Limpeza Água Verde '!I151 -> 2037.3395 | D21: ='Limpeza Água Verde '!I154 -> 24448.074
A22: ='Limpeza Insp Arapongas '!E16 -> 1 | B22: Limp. Arapongas | C22: ='Limpeza Insp Arapongas '!I151 -> 1993.3834 | D22: ='Limpeza Insp Arapongas '!I154 -> 23920.601
A23: ='Limpeza Insp Bandeirantes'!E16 -> 1 | B23: Limp. Bandeirantes | C23: ='Limpeza Insp Bandeirantes'!I151 -> 1865.3767 | D23: ='Limpeza Insp Bandeirantes'!I154 -> 22384.52
A24: ='Limpeza Insp Campo Largo'!E16 -> 1 | B24: Limp. Campo Largo | C24: ='Limpeza Insp Campo Largo'!I151 -> 1991.9733 | D24: ='Limpeza Insp Campo Largo'!I154 -> 23903.68
A25: ='Limpeza Insp Campo Mourão'!E16 -> 1 | B25: Limp. Campo Mourão | C25: ='Limpeza Insp Campo Mourão'!I151 -> 1995.4951 | D25: ='Limpeza Insp Campo Mourão'!I154 -> 23945.941
A26: ='Limpeza Insp Castro'!E16 -> 1 | B26: Limp. Castro | C26: ='Limpeza Insp Castro'!I151 -> 1959.2807 | D26: ='Limpeza Insp Castro'!I154 -> 23511.368
A27: ='Limpeza Insp Cianorte'!E16 -> 1 | B27: Limp. Cianorte | C27: ='Limpeza Insp Cianorte'!I151 -> 2002.1769 | D27: ='Limpeza Insp Cianorte'!I154 -> 24026.123
A28: ='Limpeza Insp Cornélio Proc.'!E16 -> 1 | B28: Limp. Cornélio Procópio | C28: ='Limpeza Insp Cornélio Proc.'!I151 -> 2054.9263 | D28: ='Limpeza Insp Cornélio Proc.'!I154 -> 24659.116
A29: ='Limpeza Insp Foz do Iguaçu'!E16 -> 1 | B29: Limp. Foz do Iguaçu | C29: ='Limpeza Insp Foz do Iguaçu'!I151 -> 1980.4965 | D29: ='Limpeza Insp Foz do Iguaçu'!I154 -> 23765.958
A30: ='Limpeza Insp Francisco Belt.'!E16 -> 1 | B30: Limp. Francisco Beltrão | C30: ='Limpeza Insp Francisco Belt.'!I151 -> 1945.1757 | D30: ='Limpeza Insp Francisco Belt.'!I154 -> 23342.108
A31: ='Limpeza Insp Ibaiti'!E16 -> 1 | B31: Limp. Ibaiti | C31: ='Limpeza Insp Ibaiti'!I151 -> 1855.2223 | D31: ='Limpeza Insp Ibaiti'!I154 -> 22262.668
A32: ='Limpeza Insp Irati'!E16 -> 1 | B32: Limp. Irati | C32: ='Limpeza Insp Irati'!I151 -> 1865.3767 | D32: ='Limpeza Insp Irati'!I154 -> 22384.52
A33: ='Limpeza Insp Ivaiporã'!E16 -> 1 | B33: Limp. Ivaiporã | C33: ='Limpeza Insp Ivaiporã'!I151 -> 1845.1778 | D33: ='Limpeza Insp Ivaiporã'!I154 -> 22142.134
A34: ='Limpeza Insp Jacarezinho'!E16 -> 1 | B34: Limp. Jacarezinho | C34: ='Limpeza Insp Jacarezinho'!I151 -> 1993.3834 | D34: ='Limpeza Insp Jacarezinho'!I154 -> 23920.601
A35: ='Limpeza Insp Mal Cândido Ron'!E16 -> 1 | B35: Limp. Marechal Cândido Rondon | C35: ='Limpeza Insp Mal Cândido Ron'!I151 -> 1825.4115 | D35: ='Limpeza Insp Mal Cândido Ron'!I154 -> 21904.938
A36: ='Limpeza Insp Medianeira'!E16 -> 1 | B36: Limp. Medianeira | C36: ='Limpeza Insp Medianeira'!I151 -> 1954.1198 | D36: ='Limpeza Insp Medianeira'!I154 -> 23449.438
A37: ='Limpeza Insp Palmas'!E16 -> 1 | B37: Limp. Palmas | C37: ='Limpeza Insp Palmas'!I151 -> 1825.4115 | D37: ='Limpeza Insp Palmas'!I154 -> 21904.938
A38: ='Limpeza Insp Paranaguá'!E16 -> 1 | B38: Limp. Paranaguá | C38: ='Limpeza Insp Paranaguá'!I151 -> 1931.8405 | D38: ='Limpeza Insp Paranaguá'!I154 -> 23182.086
A39: ='Limpeza Insp Paranavaí'!E16 -> 1 | B39: Limp. Paranavaí | C39: ='Limpeza Insp Paranavaí'!I151 -> 1983.978 | D39: ='Limpeza Insp Paranavaí'!I154 -> 23807.736
A40: ='Limpeza Insp Realeza'!E16 -> 1 | B40: Limp. Realeza | C40: ='Limpeza Insp Realeza'!I151 -> 1825.4115 | D40: ='Limpeza Insp Realeza'!I154 -> 21904.938
...

Sheet Recepção (40h) 
A1: PLANILHA DE CUSTOS E FORMAÇÃO DE PREÇOS
A3: Pregão Eletrônico n.º:
A4: Data: | C4: Horário:
A6: Categoria profissional:
A8: DISCRIMINAÇÃO DOS SERVIÇOS (DADOS REFERENTES À CONTRATAÇÃO)
A9: A | B9: Data de apresentação da proposta (dia/mês/ano):
A10: B | B10: Município/UF: CURITIBA/PR (SEDE) | I10: PR
A11: C | B11: Ano do Acordo, Convenção ou Dissídio Coletivo | I11: 2025 á 2027
A12: D | B12: Nº de meses de execução contratual | I12: 12
A14: IDENTIFICAÇÃO DO SERVIÇO
A15: Tipo de Serviço | C15: Unidade de Medida (m2) | E15: Quantidade total a contratar (Em função da unidade de medida)
A16: Recepção | C16: Não se aplica | E16: 1
A20: 1. MÓDULOS
A21: Mão de Obra
A22: Dados para composição dos custos referentes à mão-de-obra
A23: 1 | B23: Tipo de serviço (mesmo serviço com características distintas) | I23: Recepção
A24: 2 | B24: Classificação Brasileira de Ocupações (CBO) | I24: 4221-05
A25: 3 | B25: Salário Nominativo da Categoria Profissional | I25: 1988
A26: 4 | B26: Categoria profissional (vinculada à execução contratual) | I26: Recepcionista
A27: 5 | B27: Data base da categoria (dia/mês/ano) | I27: 46053
A29: MÓDULO 1 - COMPOSIÇÃO DA REMUNERAÇÃO
A30: 1 | B30: COMPOSIÇÃO DA REMUNERAÇÃO | H30: VALOR (R$) | I30: VALOR (R$)
A31: A | B31: Salário Base | I31: =(I25/220)*220 -> 1988
A32: B | B32: Gratificação de função | H32: 0 | I32: 40
A33: C | B33: Adicional Insalubridade | I33: =H33*I31 -> 0
A34: D | B34: Adicional Noturno | I34: 0
A35: E | B35: Adicional de Hora Noturna Reduzida | I35: 0
A36: F | B36: Adicional de Hora Extra no Feriado Trabalhado | I36: 0
A37: G | B37: Outros (especificar) | I37: 0
A38: TOTAL | I38: =TRUNC(SUM(I31:I37),4) -> 2028
A40: MÓDULO 2 – ENCARGOS E BENEFÍCIOS ANUAIS, MENSAIS E DIÁRIOS
A41: Submódulo 2.1 - 13º (décimo terceiro) Salário, Férias e Adicional de Férias
A42: 2.1 | B42: 13º (Décimo terceiro) Salário, Férias e Adicional de Férias | H42: % | I42: VALOR (R$)
A43: A | B43: 13 (Décimo-terceiro) salário | H43: 0.0833 | I43: =$I$38*H43 -> 168.9324
A44: B | B44: Férias e Adicional de Férias | H44: 0.0278 | I44: =H44*I38 -> 56.3784
A45: TOTAL | H45: =TRUNC(SUM(H43:H44),4) -> 0.1111 | I45: =TRUNC(SUM(I43:I44),4) -> 225.3108
A47: Submódulo 2.2 - Encargos Previdenciários (GPS), Fundo de Garantia por Tempo de Serviço (FGTS) e outras contribuições
A48: 2.2 | B48: GPS, FGTS e Outras Contribuições | H48: % | I48: VALOR (R$)
A49: A | B49: INSS | H49: 0.2 | I49: =(I38+I45)*H49 -> 450.66216
A50: B | B50: Salário Educação | H50: 0.025 | I50: =(I38+I45)*H50 -> 56.33277
...

Sheet Motorista 1 (44h) 
A1: PLANILHA DE CUSTOS E FORMAÇÃO DE PREÇOS
A3: Pregão Eletrônico n.º:
A4: Data: | C4: Horário:
A6: Categoria profissional:
A8: DISCRIMINAÇÃO DOS SERVIÇOS (DADOS REFERENTES À CONTRATAÇÃO)
A9: A | B9: Data de apresentação da proposta (dia/mês/ano):
A10: B | B10: Município/UF: CURITIBA/PR (SEDE) | I10: PR
A11: C | B11: Ano do Acordo, Convenção ou Dissídio Coletivo | I11: 2025 á 2026
A12: D | B12: Nº de meses de execução contratual | I12: 12
A14: IDENTIFICAÇÃO DO SERVIÇO
A15: Tipo de Serviço | C15: Unidade de Medida (m2) | E15: Quantidade total a contratar (Em função da unidade de medida)
A16: Motorista | C16: Não se aplica | E16: 1
A20: 1. MÓDULOS
A21: Mão de Obra
A22: Dados para composição dos custos referentes à mão-de-obra
A23: 1 | B23: Tipo de serviço (mesmo serviço com características distintas) | I23: Motorista
A24: 2 | B24: Classificação Brasileira de Ocupações (CBO) | I24: 7823-10
A25: 3 | B25: Salário Nominativo da Categoria Profissional | I25: 2656
A26: 4 | B26: Categoria profissional (vinculada à execução contratual) | I26: Motorista
A27: 5 | B27: Data base da categoria (dia/mês/ano) | I27: 45808
A29: MÓDULO 1 - COMPOSIÇÃO DA REMUNERAÇÃO
A30: 1 | B30: COMPOSIÇÃO DA REMUNERAÇÃO | F30: QTDE. | G30: VLR. HR | H30: % | I30: VALOR (R$)
A31: A | B31: Salário Base | I31: =I25 -> 2656
A32: B | B32: Gratificação de função | H32: 0 | I32: 0
A33: C | B33: Adicional Insalubridade | H33: 0 | I33: =H33*I31 -> 0
A34: D | B34: Hora extra período entre 05h00 as 22h00 - Seg. a Sab. | F34: 0 | G34: 0 | H34: 0 | I34: =F34*G34 -> 0
A35: E | B35: Hora extra período entre 22h00 as 05h00 | F35: 0 | G35: 0 | H35: 0 | I35: =F35*G35 -> 0
A36: F | B36: Trabalho aos domingos e feriados | F36: 0 | G36: =I174 -> 241.45 | H36: 0 | I36: =F36*G36 -> 0
A37: G | B37: Outros (especificar) | H37: 0 | I37: 0
A38: TOTAL | I38: =TRUNC(SUM(I31:I37),2) -> 2656
A40: MÓDULO 2 – ENCARGOS E BENEFÍCIOS ANUAIS, MENSAIS E DIÁRIOS
A41: Submódulo 2.1 - 13º (décimo terceiro) Salário, Férias e Adicional de Férias
A42: 2.1 | B42: 13º (Décimo terceiro) Salário, Férias e Adicional de Férias | H42: % | I42: VALOR (R$)
A43: A | B43: 13 (Décimo-terceiro) salário | H43: 0.0833 | I43: =$I$38*H43 -> 221.2448
A44: B | B44: Férias e Adicional de Férias | H44: 0.0278 | I44: =H44*I38 -> 73.8368
A45: TOTAL | H45: =TRUNC(SUM(H43:H44),4) -> 0.1111 | I45: =TRUNC(SUM(I43:I44),2) -> 295.08
A47: Submódulo 2.2 - Encargos Previdenciários (GPS), Fundo de Garantia por Tempo de Serviço (FGTS) e outras contribuições
A48: 2.2 | B48: GPS, FGTS e Outras Contribuições | H48: % | I48: VALOR (R$)
A49: A | B49: INSS | H49: 0.2 | I49: =(I38+I45)*H49 -> 590.216
A50: B | B50: Salário Educação | H50: 0.025 | I50: =(I38+I45)*H50 -> 73.777
...

Sheet Motorista 2 (44h)  
A1: PLANILHA DE CUSTOS E FORMAÇÃO DE PREÇOS
A3: Pregão Eletrônico n.º:
A4: Data: | C4: Horário:
A6: Categoria profissional:
A8: DISCRIMINAÇÃO DOS SERVIÇOS (DADOS REFERENTES À CONTRATAÇÃO)
A9: A | B9: Data de apresentação da proposta (dia/mês/ano):
A10: B | B10: Município/UF: CURITIBA/PR (SEDE) | I10: PR
A11: C | B11: Ano do Acordo, Convenção ou Dissídio Coletivo | I11: 2025 á 2026
A12: D | B12: Nº de meses de execução contratual | I12: 12
A14: IDENTIFICAÇÃO DO SERVIÇO
A15: Tipo de Serviço | C15: Unidade de Medida (m2) | E15: Quantidade total a contratar (Em função da unidade de medida)
A16: Motorista | C16: Não se aplica | E16: 1
A20: 1. MÓDULOS
A21: Mão de Obra
A22: Dados para composição dos custos referentes à mão-de-obra
A23: 1 | B23: Tipo de serviço (mesmo serviço com características distintas) | I23: Motorista
A24: 2 | B24: Classificação Brasileira de Ocupações (CBO) | I24: 7823-10
A25: 3 | B25: Salário Nominativo da Categoria Profissional | I25: 2656
A26: 4 | B26: Categoria profissional (vinculada à execução contratual) | I26: Motorista
A27: 5 | B27: Data base da categoria (dia/mês/ano) | I27: 45808
A29: MÓDULO 1 - COMPOSIÇÃO DA REMUNERAÇÃO
A30: 1 | B30: COMPOSIÇÃO DA REMUNERAÇÃO | F30: QTDE. | G30: VLR. HR | H30: % | I30: VALOR (R$)
A31: A | B31: Salário Base | I31: =I25 -> 2656
A32: B | B32: Gratificação de função | H32: 0 | I32: 0
A33: C | B33: Adicional Insalubridade | H33: 0 | I33: =H33*I31 -> 0
A34: D | B34: Hora extra período entre 05h00 as 22h00 - Seg. a Sab. | F34: 0 | G34: 0 | H34: 0 | I34: =F34*G34 -> 0
A35: E | B35: Hora extra período entre 22h00 as 05h00 | F35: 0 | G35: 0 | H35: 0 | I35: =F35*G35 -> 0
A36: F | B36: Trabalho aos domingos e feriados | F36: 0 | G36: =I174 -> 241.45 | H36: 0 | I36: =F36*G36 -> 0
A37: G | B37: Outros (especificar) | H37: 0 | I37: 0
A38: TOTAL | I38: =TRUNC(SUM(I31:I37),2) -> 2656
A40: MÓDULO 2 – ENCARGOS E BENEFÍCIOS ANUAIS, MENSAIS E DIÁRIOS
A41: Submódulo 2.1 - 13º (décimo terceiro) Salário, Férias e Adicional de Férias
A42: 2.1 | B42: 13º (Décimo terceiro) Salário, Férias e Adicional de Férias | H42: % | I42: VALOR (R$)
A43: A | B43: 13 (Décimo-terceiro) salário | H43: 0.0833 | I43: =$I$38*H43 -> 221.2448
A44: B | B44: Férias e Adicional de Férias | H44: 0.0278 | I44: =H44*I38 -> 73.8368
A45: TOTAL | H45: =TRUNC(SUM(H43:H44),4) -> 0.1111 | I45: =TRUNC(SUM(I43:I44),2) -> 295.08
A47: Submódulo 2.2 - Encargos Previdenciários (GPS), Fundo de Garantia por Tempo de Serviço (FGTS) e outras contribuições
A48: 2.2 | B48: GPS, FGTS e Outras Contribuições | H48: % | I48: VALOR (R$)
A49: A | B49: INSS | H49: 0.2 | I49: =(I38+I45)*H49 -> 590.216
A50: B | B50: Salário Educação | H50: 0.025 | I50: =(I38+I45)*H50 -> 73.777
...

Sheet Portaria Diurno Temp. SED (40h)
A1: PLANILHA DE CUSTOS E FORMAÇÃO DE PREÇOS | J1: ok
J2: ok
A3: Pregão Eletrônico n.º: | J3: ok
A4: Data: | C4: Horário: | J4: ok
J5: ok
A6: Categoria profissional: | J6: ok
J7: ok
A8: DISCRIMINAÇÃO DOS SERVIÇOS (DADOS REFERENTES À CONTRATAÇÃO) | J8: ok
A9: A | B9: Data de apresentação da proposta (dia/mês/ano): | J9: ok
A10: B | B10: Município/UF: CURITIBA/PR (SEDE) | I10: PR | J10: ok
A11: C | B11: Ano do Acordo, Convenção ou Dissídio Coletivo | I11: 2025 á 2027 | J11: ok
A12: D | B12: Nº de meses de execução contratual | I12: 12 | J12: ok
J13: ok
A14: IDENTIFICAÇÃO DO SERVIÇO | J14: ok
A15: Tipo de Serviço | C15: Unidade de Medida (m2) | E15: Quantidade total a contratar (Em função da unidade de medida) | J15: ok
A16: Portaria | C16: Não se aplica | E16: 1 | J16: ok
J17: ok
J18: ok
J19: ok
A20: 1. MÓDULOS | J20: ok
A21: Mão de Obra | J21: ok
A22: Dados para composição dos custos referentes à mão-de-obra | J22: ok
A23: 1 | B23: Tipo de serviço (mesmo serviço com características distintas) | I23: Portaria | J23: ok
A24: 2 | B24: Classificação Brasileira de Ocupações (CBO) | I24: 5174-10 | J24: ok
A25: 3 | B25: Salário Nominativo da Categoria Profissional | I25: 2242
A26: 4 | B26: Categoria profissional (vinculada à execução contratual) | I26: Portaria
A27: 5 | B27: Data base da categoria (dia/mês/ano) | I27: 46053
A29: MÓDULO 1 - COMPOSIÇÃO DA REMUNERAÇÃO
A30: 1 | B30: COMPOSIÇÃO DA REMUNERAÇÃO | H30: VALOR (R$) | I30: VALOR (R$)
A31: A | B31: Salário Base | I31: =(I25/220)*200 -> 2038.1818
A32: B | B32: Gratificação de função | I32: 0
A33: C | B33: Adicional Insalubridade | I33: =H33*I31 -> 0
A34: D | B34: Adicional Noturno | I34: 0
A35: E | B35: Adicional de Hora Noturna Reduzida | I35: 0
A36: F | B36: Adicional de Hora Extra no Feriado Trabalhado | I36: 0
A37: G | B37: Adicional de risco | H37: 80 | I37: 80
A38: TOTAL | I38: =TRUNC(SUM(I31:I37),4) -> 2118.1818
A40: MÓDULO 2 – ENCARGOS E BENEFÍCIOS ANUAIS, MENSAIS E DIÁRIOS
A41: Submódulo 2.1 - 13º (décimo terceiro) Salário, Férias e Adicional de Férias
A42: 2.1 | B42: 13º (Décimo terceiro) Salário, Férias e Adicional de Férias | H42: % | I42: VALOR (R$)
...

Sheet Portaria Diurno SEDE (40h)
A1: PLANILHA DE CUSTOS E FORMAÇÃO DE PREÇOS
A3: Pregão Eletrônico n.º:
A4: Data: | C4: Horário:
A6: Categoria profissional:
A8: DISCRIMINAÇÃO DOS SERVIÇOS (DADOS REFERENTES À CONTRATAÇÃO)
A9: A | B9: Data de apresentação da proposta (dia/mês/ano):
A10: B | B10: Município/UF: CURITIBA/PR (SEDE) | I10: PR
A11: C | B11: Ano do Acordo, Convenção ou Dissídio Coletivo | I11: 2025 á 2027
A12: D | B12: Nº de meses de execução contratual | I12: 12
A14: IDENTIFICAÇÃO DO SERVIÇO
A15: Tipo de Serviço | C15: Unidade de Medida (m2) | E15: Quantidade total a contratar (Em função da unidade de medida)
A16: Portaria | C16: Não se aplica | E16: 1
A20: 1. MÓDULOS
A21: Mão de Obra
A22: Dados para composição dos custos referentes à mão-de-obra
A23: 1 | B23: Tipo de serviço (mesmo serviço com características distintas) | I23: Portaria
A24: 2 | B24: Classificação Brasileira de Ocupações (CBO) | I24: 5174-10
A25: 3 | B25: Salário Nominativo da Categoria Profissional | I25: 2242
A26: 4 | B26: Categoria profissional (vinculada à execução contratual) | I26: Portaria
A27: 5 | B27: Data base da categoria (dia/mês/ano) | I27: 46053
A29: MÓDULO 1 - COMPOSIÇÃO DA REMUNERAÇÃO
A30: 1 | B30: COMPOSIÇÃO DA REMUNERAÇÃO | H30: VALOR (R$) | I30: VALOR (R$)
A31: A | B31: Salário Base | I31: =(I25/220)*200 -> 2038.1818
A32: B | B32: Gratificação de função | I32: 0
A33: C | B33: Adicional Insalubridade | I33: =H33*I31 -> 0
A34: D | B34: Adicional Noturno | I34: 0
A35: E | B35: Adicional de Hora Noturna Reduzida | I35: 0
A36: F | B36: Adicional de Hora Extra no Feriado Trabalhado | I36: 0
A37: G | B37: Adicional de risco | H37: 80 | I37: 80
A38: TOTAL | I38: =TRUNC(SUM(I31:I37),4) -> 2118.1818
A40: MÓDULO 2 – ENCARGOS E BENEFÍCIOS ANUAIS, MENSAIS E DIÁRIOS
A41: Submódulo 2.1 - 13º (décimo terceiro) Salário, Férias e Adicional de Férias
A42: 2.1 | B42: 13º (Décimo terceiro) Salário, Férias e Adicional de Férias | H42: % | I42: VALOR (R$)
A43: A | B43: 13 (Décimo-terceiro) salário | H43: 0.0833 | I43: =$I$38*H43 -> 176.44454
A44: B | B44: Férias e Adicional de Férias | H44: 0.0278 | I44: =H44*I38 -> 58.885454
A45: TOTAL | H45: =TRUNC(SUM(H43:H44),4) -> 0.1111 | I45: =TRUNC(SUM(I43:I44),4) -> 235.3299
A47: Submódulo 2.2 - Encargos Previdenciários (GPS), Fundo de Garantia por Tempo de Serviço (FGTS) e outras contribuições
A48: 2.2 | B48: GPS, FGTS e Outras Contribuições | H48: % | I48: VALOR (R$)
A49: A | B49: INSS | H49: 0.2 | I49: =(I38+I45)*H49 -> 470.70234
A50: B | B50: Salário Educação | H50: 0.025 | I50: =(I38+I45)*H50 -> 58.837793
...

Sheet Portaria Diurno Mgá (40h) 
A1: PLANILHA DE CUSTOS E FORMAÇÃO DE PREÇOS
A3: Pregão Eletrônico n.º:
A4: Data: | C4: Horário:
A6: Categoria profissional:
A8: DISCRIMINAÇÃO DOS SERVIÇOS (DADOS REFERENTES À CONTRATAÇÃO)
A9: A | B9: Data de apresentação da proposta (dia/mês/ano):
A10: B | B10: Município/UF: CURITIBA/PR (SEDE) | I10: PR
A11: C | B11: Ano do Acordo, Convenção ou Dissídio Coletivo | I11: 2025 á 2027
A12: D | B12: Nº de meses de execução contratual | I12: 12
A14: IDENTIFICAÇÃO DO SERVIÇO
A15: Tipo de Serviço | C15: Unidade de Medida (m2) | E15: Quantidade total a contratar (Em função da unidade de medida)
A16: Portaria | C16: Não se aplica | E16: 1
A20: 1. MÓDULOS
A21: Mão de Obra
A22: Dados para composição dos custos referentes à mão-de-obra
A23: 1 | B23: Tipo de serviço (mesmo serviço com características distintas) | I23: Portaria
A24: 2 | B24: Classificação Brasileira de Ocupações (CBO) | I24: 5174-10
A25: 3 | B25: Salário Nominativo da Categoria Profissional | I25: 2242
A26: 4 | B26: Categoria profissional (vinculada à execução contratual) | I26: Portaria
A27: 5 | B27: Data base da categoria (dia/mês/ano) | I27: 46053
A29: MÓDULO 1 - COMPOSIÇÃO DA REMUNERAÇÃO
A30: 1 | B30: COMPOSIÇÃO DA REMUNERAÇÃO | E30: QTDE. | F30: VLR. HR | G30: % | H30: VALOR (R$) | I30: VALOR (R$)
A31: A | B31: Salário Base | I31: =(I25/220)*200 -> 2038.1818
A32: B | B32: Gratificação de função | G32: 0 | I32: 0
A33: C | B33: Adicional Insalubridade | G33: 0 | I33: =H33*I31 -> 0
A34: D | B34: Hora extra período entre 05h00 as 22h00 - Seg. a Sab. | E34: 5 | F34: =I169 -> 91.71 | G34: 0 | I34: 0
A35: E | B35: Hora extra período entre 22h00 as 05h00 | E35: 0 | F35: =H170 -> 0 | G35: 0 | I35: 0
A36: F | B36: Trabalho aos domingos e feriados | E36: 1 | F36: =I174 -> 101.9 | G36: 0 | I36: 0
A37: G | B37: Adicional de risco | G37: 0 | H37: 80 | I37: 80
A38: TOTAL | I38: =TRUNC(SUM(I31:I37),4) -> 2118.1818
A40: MÓDULO 2 – ENCARGOS E BENEFÍCIOS ANUAIS, MENSAIS E DIÁRIOS
A41: Submódulo 2.1 - 13º (décimo terceiro) Salário, Férias e Adicional de Férias
A42: 2.1 | B42: 13º (Décimo terceiro) Salário, Férias e Adicional de Férias | H42: % | I42: VALOR (R$)
A43: A | B43: 13 (Décimo-terceiro) salário | H43: 0.0833 | I43: =$I$38*H43 -> 176.44454
A44: B | B44: Férias e Adicional de Férias | H44: 0.0278 | I44: =H44*I38 -> 58.885454
A45: TOTAL | H45: =TRUNC(SUM(H43:H44),4) -> 0.1111 | I45: =TRUNC(SUM(I43:I44),4) -> 235.3299
A47: Submódulo 2.2 - Encargos Previdenciários (GPS), Fundo de Garantia por Tempo de Serviço (FGTS) e outras contribuições
A48: 2.2 | B48: GPS, FGTS e Outras Contribuições | H48: % | I48: VALOR (R$)
A49: A | B49: INSS | H49: 0.2 | I49: =(I38+I45)*H49 -> 470.70234
A50: B | B50: Salário Educação | H50: 0.025 | I50: =(I38+I45)*H50 -> 58.837793
...

Sheet Aux. Manut. Pred. (40h) 
A1: PLANILHA DE CUSTOS E FORMAÇÃO DE PREÇOS
A3: Pregão Eletrônico n.º:
A4: Data: | C4: Horário:
A6: Categoria profissional:
A8: DISCRIMINAÇÃO DOS SERVIÇOS (DADOS REFERENTES À CONTRATAÇÃO)
A9: A | B9: Data de apresentação da proposta (dia/mês/ano):
A10: B | B10: Município/UF: CURITIBA/PR (SEDE) | I10: PR
A11: C | B11: Ano do Acordo, Convenção ou Dissídio Coletivo | I11: 2025 á 2027
A12: D | B12: Nº de meses de execução contratual | I12: 12
A14: IDENTIFICAÇÃO DO SERVIÇO
A15: Tipo de Serviço | C15: Unidade de Medida (m2) | E15: Quantidade total a contratar (Em função da unidade de medida)
A16: Auxiliar Manut. | C16: Não se aplica | E16: 1
A20: 1. MÓDULOS
A21: Mão de Obra
A22: Dados para composição dos custos referentes à mão-de-obra
A23: 1 | B23: Tipo de serviço (mesmo serviço com características distintas) | I23: Auxiliar Manut.
A24: 2 | B24: Classificação Brasileira de Ocupações (CBO) | I24: 5143-10
A25: 3 | B25: Salário Nominativo da Categoria Profissional | I25: 1764
A26: 4 | B26: Categoria profissional (vinculada à execução contratual) | I26: Auxiliar Manut.
A27: 5 | B27: Data base da categoria (dia/mês/ano) | I27: 46053
A29: MÓDULO 1 - COMPOSIÇÃO DA REMUNERAÇÃO
A30: 1 | B30: COMPOSIÇÃO DA REMUNERAÇÃO | H30: % | I30: VALOR (R$)
A31: A | B31: Salário Base | I31: =(I25/220)*200 -> 1603.6364
A32: B | B32: Gratificação de função | H32: 0 | I32: 0
A33: C | B33: Adicional Insalubridade | H33: 0 | I33: =H33*I31 -> 0
A34: D | B34: Adicional Noturno | H34: 0 | I34: 0
A35: E | B35: Adicional de Hora Noturna Reduzida | H35: 0 | I35: 0
A36: F | B36: Adicional de Hora Extra no Feriado Trabalhado | H36: 0 | I36: 0
A37: G | B37: Adicional Periculosidade | H37: 0 | I37: 0
A38: TOTAL | I38: =TRUNC(SUM(I31:I37),4) -> 1603.6363
A40: MÓDULO 2 – ENCARGOS E BENEFÍCIOS ANUAIS, MENSAIS E DIÁRIOS
A41: Submódulo 2.1 - 13º (décimo terceiro) Salário, Férias e Adicional de Férias
A42: 2.1 | B42: 13º (Décimo terceiro) Salário, Férias e Adicional de Férias | H42: % | I42: VALOR (R$)
A43: A | B43: 13 (Décimo-terceiro) salário | H43: 0.0833 | I43: =$I$38*H43 -> 133.5829
A44: B | B44: Férias e Adicional de Férias | H44: 0.0278 | I44: =H44*I38 -> 44.581089
A45: TOTAL | H45: =TRUNC(SUM(H43:H44),4) -> 0.1111 | I45: =TRUNC(SUM(I43:I44),4) -> 178.1639
A47: Submódulo 2.2 - Encargos Previdenciários (GPS), Fundo de Garantia por Tempo de Serviço (FGTS) e outras contribuições
A48: 2.2 | B48: GPS, FGTS e Outras Contribuições | H48: % | I48: VALOR (R$)
A49: A | B49: INSS | H49: 0.2 | I49: =(I38+I45)*H49 -> 356.36004
A50: B | B50: Salário Educação | H50: 0.025 | I50: =(I38+I45)*H50 -> 44.545005
...

Sheet Supervisor 
A1: PLANILHA DE CUSTOS E FORMAÇÃO DE PREÇOS
A3: Pregão Eletrônico n.º:
A4: Data: | C4: Horário:
A6: Categoria profissional:
A8: DISCRIMINAÇÃO DOS SERVIÇOS (DADOS REFERENTES À CONTRATAÇÃO)
A9: A | B9: Data de apresentação da proposta (dia/mês/ano):
A10: B | B10: Município/UF: CURITIBA/PR (SEDE) | I10: PR
A11: C | B11: Ano do Acordo, Convenção ou Dissídio Coletivo | I11: 2025 á 2027
A12: D | B12: Nº de meses de execução contratual | I12: 12
A14: IDENTIFICAÇÃO DO SERVIÇO
A15: Tipo de Serviço | C15: Unidade de Medida (m2) | E15: Quantidade total a contratar (Em função da unidade de medida)
A16: Supervisor Administrativo | C16: Não se aplica | E16: 1
A20: 1. MÓDULOS
A21: Mão de Obra
A22: Dados para composição dos custos referentes à mão-de-obra
A23: 1 | B23: Tipo de serviço (mesmo serviço com características distintas) | I23: Supervisor
A24: 2 | B24: Classificação Brasileira de Ocupações (CBO) | I24: 4101-05
A25: 3 | B25: Salário Nominativo da Categoria Profissional | I25: 2807
A26: 4 | B26: Categoria profissional (vinculada à execução contratual) | I26: Supervisor
A27: 5 | B27: Data base da categoria (dia/mês/ano) | I27: 46053
A29: MÓDULO 1 - COMPOSIÇÃO DA REMUNERAÇÃO
A30: 1 | B30: COMPOSIÇÃO DA REMUNERAÇÃO | H30: % | I30: VALOR (R$)
A31: A | B31: Salário Base | I31: =(I25/220)*200 -> 2551.8182
A32: B | B32: Gratificação de função | H32: 280 | I32: =(H32/220)*220 -> 280
A33: C | B33: Adicional Insalubridade | H33: 0 | I33: =H33*I31 -> 0
A34: D | B34: Adicional Noturno | H34: 0 | I34: 0
A35: E | B35: Adicional de Hora Noturna Reduzida | H35: 0 | I35: 0
A36: F | B36: Adicional de Hora Extra no Feriado Trabalhado | H36: 0 | I36: 0
A37: G | B37: Adicional Periculosidade | H37: 0 | I37: =ROUND(I31*H37,2) -> 0
A38: TOTAL | I38: =TRUNC(SUM(I31:I37),4) -> 2831.8181
A40: MÓDULO 2 – ENCARGOS E BENEFÍCIOS ANUAIS, MENSAIS E DIÁRIOS
A41: Submódulo 2.1 - 13º (décimo terceiro) Salário, Férias e Adicional de Férias
A42: 2.1 | B42: 13º (Décimo terceiro) Salário, Férias e Adicional de Férias | H42: % | I42: VALOR (R$)
A43: A | B43: 13 (Décimo-terceiro) salário | H43: 0.0833 | I43: =$I$38*H43 -> 235.89045
A44: B | B44: Férias e Adicional de Férias | H44: 0.0278 | I44: =H44*I38 -> 78.724543
A45: TOTAL | H45: =TRUNC(SUM(H43:H44),4) -> 0.1111 | I45: =TRUNC(SUM(I43:I44),4) -> 314.6149
A47: Submódulo 2.2 - Encargos Previdenciários (GPS), Fundo de Garantia por Tempo de Serviço (FGTS) e outras contribuições
A48: 2.2 | B48: GPS, FGTS e Outras Contribuições | H48: % | I48: VALOR (R$)
A49: A | B49: INSS | H49: 0.2 | I49: =(I38+I45)*H49 -> 629.2866
A50: B | B50: Salário Educação | H50: 0.025 | I50: =(I38+I45)*H50 -> 78.660825
...

Sheet Planilha2

Sheet Limpeza Sede Administrativa 
A1: PLANILHA DE CUSTOS E FORMAÇÃO DE PREÇOS
A3: Pregão Eletrônico n.º:
A4: Data: | C4: Horário:
A6: Categoria profissional:
A8: DISCRIMINAÇÃO DOS SERVIÇOS (DADOS REFERENTES À CONTRATAÇÃO)
A9: A | B9: Data de apresentação da proposta (dia/mês/ano):
A10: B | B10: Município/UF: CURITIBA/PR (SEDE) | I10: PR
A11: C | B11: Ano do Acordo, Convenção ou Dissídio Coletivo | I11: 2025 á 2027
A12: D | B12: Nº de meses de execução contratual | I12: 12
A14: IDENTIFICAÇÃO DO SERVIÇO
A15: Tipo de Serviço | C15: Unidade de Medida (m2) | E15: Quantidade total a contratar (Em função da unidade de medida)
A16: Limpeza e conservação | E16: 2
A20: 1. MÓDULOS
A21: Mão de Obra
A22: Dados para composição dos custos referentes à mão-de-obra
A23: 1 | B23: Tipo de serviço (mesmo serviço com características distintas) | I23: Limpeza
A24: 2 | B24: Classificação Brasileira de Ocupações (CBO) | I24: 5143-20
A25: 3 | B25: Salário Nominativo da Categoria Profissional | I25: 1764
A26: 4 | B26: Categoria profissional (vinculada à execução contratual) | I26: Servente
A27: 5 | B27: Data base da categoria (dia/mês/ano) | I27: 46053
A29: MÓDULO 1 - COMPOSIÇÃO DA REMUNERAÇÃO
A30: 1 | B30: COMPOSIÇÃO DA REMUNERAÇÃO | H30: VALOR (R$) | I30: VALOR (R$)
A31: A | B31: Salário Base | I31: =(I25) -> 1764
A32: B | B32: Gratificação de função | H32: 122 | I32: =H32 -> 122
A33: C | B33: Adicional Insalubridade | I33: =H33*I31 -> 0
A34: D | B34: Adicional Noturno | I34: =H34*I31 -> 0
A35: E | B35: Adicional de Hora Noturna Reduzida | I35: 0
A36: F | B36: Adicional de Hora Extra no Feriado Trabalhado | I36: 0
A37: G | B37: Outros (especificar) | I37: 0
A38: TOTAL | I38: =TRUNC(SUM(I31:I37),4) -> 1886
A40: MÓDULO 2 – ENCARGOS E BENEFÍCIOS ANUAIS, MENSAIS E DIÁRIOS
A41: Submódulo 2.1 - 13º (décimo terceiro) Salário, Férias e Adicional de Férias
A42: 2.1 | B42: 13º (Décimo terceiro) Salário, Férias e Adicional de Férias | H42: % | I42: VALOR (R$)
A43: A | B43: 13 (Décimo-terceiro) salário | H43: 0.0833 | I43: =$I$38*H43 -> 157.1038
A44: B | B44: Férias e Adicional de Férias | H44: 0.0278 | I44: =H44*I38 -> 52.4308
A45: TOTAL | H45: =TRUNC(SUM(H43:H44),4) -> 0.1111 | I45: =TRUNC(SUM(I43:I44),4) -> 209.5346
A47: Submódulo 2.2 - Encargos Previdenciários (GPS), Fundo de Garantia por Tempo de Serviço (FGTS) e outras contribuições
A48: 2.2 | B48: GPS, FGTS e Outras Contribuições | H48: % | I48: VALOR (R$)
A49: A | B49: INSS | H49: 0.2 | I49: =(I38+I45)*H49 -> 419.10692
A50: B | B50: Salário Educação | H50: 0.025 | I50: =(I38+I45)*H50 -> 52.388365
...

Sheet Limpeza Regional Curitiba
A1: PLANILHA DE CUSTOS E FORMAÇÃO DE PREÇOS
A3: Pregão Eletrônico n.º:
A4: Data: | C4: Horário:
A6: Categoria profissional:
A8: DISCRIMINAÇÃO DOS SERVIÇOS (DADOS REFERENTES À CONTRATAÇÃO)
A9: A | B9: Data de apresentação da proposta (dia/mês/ano):
A10: B | B10: Município/UF: CURITIBA/PR (REGIONAL CURITIBA) | I10: PR
A11: C | B11: Ano do Acordo, Convenção ou Dissídio Coletivo | I11: 2025 á 2027
A12: D | B12: Nº de meses de execução contratual | I12: 12
A14: IDENTIFICAÇÃO DO SERVIÇO
A15: Tipo de Serviço | C15: Unidade de Medida (m2) | E15: Quantidade total a contratar (Em função da unidade de medida)
A16: Limpeza e conservação | E16: 2
A20: 1. MÓDULOS
A21: Mão de Obra
A22: Dados para composição dos custos referentes à mão-de-obra
A23: 1 | B23: Tipo de serviço (mesmo serviço com características distintas) | I23: Limpeza
A24: 2 | B24: Classificação Brasileira de Ocupações (CBO) | I24: 5143-20
A25: 3 | B25: Salário Nominativo da Categoria Profissional | I25: 1764
A26: 4 | B26: Categoria profissional (vinculada à execução contratual) | I26: Servente
A27: 5 | B27: Data base da categoria (dia/mês/ano) | I27: 46053
A29: MÓDULO 1 - COMPOSIÇÃO DA REMUNERAÇÃO
A30: 1 | B30: COMPOSIÇÃO DA REMUNERAÇÃO | H30: VALOR (R$) | I30: VALOR (R$)
A31: A | B31: Salário Base | I31: =(I25) -> 1764
A32: B | B32: Gratificação de função | H32: 122 | I32: =H32 -> 122
A33: C | B33: Adicional Insalubridade | I33: =H33*I31 -> 0
A34: D | B34: Adicional Noturno | I34: 0
A35: E | B35: Adicional de Hora Noturna Reduzida | I35: 0
A36: F | B36: Adicional de Hora Extra no Feriado Trabalhado | I36: 0
A37: G | B37: Outros (especificar) | I37: 0
A38: TOTAL | I38: =TRUNC(SUM(I31:I37),4) -> 1886
A40: MÓDULO 2 – ENCARGOS E BENEFÍCIOS ANUAIS, MENSAIS E DIÁRIOS
A41: Submódulo 2.1 - 13º (décimo terceiro) Salário, Férias e Adicional de Férias
A42: 2.1 | B42: 13º (Décimo terceiro) Salário, Férias e Adicional de Férias | H42: % | I42: VALOR (R$)
A43: A | B43: 13 (Décimo-terceiro) salário | H43: 0.0833 | I43: =$I$38*H43 -> 157.1038
A44: B | B44: Férias e Adicional de Férias | H44: 0.0278 | I44: =H44*I38 -> 52.4308
A45: TOTAL | H45: =TRUNC(SUM(H43:H44),4) -> 0.1111 | I45: =TRUNC(SUM(I43:I44),4) -> 209.5346
A47: Submódulo 2.2 - Encargos Previdenciários (GPS), Fundo de Garantia por Tempo de Serviço (FGTS) e outras contribuições
A48: 2.2 | B48: GPS, FGTS e Outras Contribuições | H48: % | I48: VALOR (R$)
A49: A | B49: INSS | H49: 0.2 | I49: =(I38+I45)*H49 -> 419.10692
A50: B | B50: Salário Educação | H50: 0.025 | I50: =(I38+I45)*H50 -> 52.388365
...

Sheet Limpeza Regional Apucarana 
A1: PLANILHA DE CUSTOS E FORMAÇÃO DE PREÇOS
A3: Pregão Eletrônico n.º:
A4: Data: | C4: Horário:
A6: Categoria profissional:
A8: DISCRIMINAÇÃO DOS SERVIÇOS (DADOS REFERENTES À CONTRATAÇÃO)
A9: A | B9: Data de apresentação da proposta (dia/mês/ano):
A10: B | B10: Município/UF: APUCARANA/PR | I10: PR
A11: C | B11: Ano do Acordo, Convenção ou Dissídio Coletivo | I11: 2025 á 2027
A12: D | B12: Nº de meses de execução contratual | I12: 12
A14: IDENTIFICAÇÃO DO SERVIÇO
A15: Tipo de Serviço | C15: Unidade de Medida (m2) | E15: Quantidade total a contratar (Em função da unidade de medida)
A16: Limpeza e conservação | E16: 1
A20: 1. MÓDULOS
A21: Mão de Obra
A22: Dados para composição dos custos referentes à mão-de-obra
A23: 1 | B23: Tipo de serviço (mesmo serviço com características distintas) | I23: Limpeza
A24: 2 | B24: Classificação Brasileira de Ocupações (CBO) | I24: 5143-20
A25: 3 | B25: Salário Nominativo da Categoria Profissional | I25: 1764
A26: 4 | B26: Categoria profissional (vinculada à execução contratual) | I26: Servente
A27: 5 | B27: Data base da categoria (dia/mês/ano) | I27: 46053
A29: MÓDULO 1 - COMPOSIÇÃO DA REMUNERAÇÃO
A30: 1 | B30: COMPOSIÇÃO DA REMUNERAÇÃO | H30: VALOR (R$) | I30: VALOR (R$)
A31: A | B31: Salário Base | I31: =(I25) -> 1764
A32: B | B32: Gratificação de função | I32: 122
A33: C | B33: Adicional Insalubridade | I33: =H33*I31 -> 0
A34: D | B34: Adicional Noturno | I34: 0
A35: E | B35: Adicional de Hora Noturna Reduzida | I35: 0
A36: F | B36: Adicional de Hora Extra no Feriado Trabalhado | I36: 0
A37: G | B37: Outros (especificar) | I37: 0
A38: TOTAL | I38: =TRUNC(SUM(I31:I37),4) -> 1886
A40: MÓDULO 2 – ENCARGOS E BENEFÍCIOS ANUAIS, MENSAIS E DIÁRIOS
A41: Submódulo 2.1 - 13º (décimo terceiro) Salário, Férias e Adicional de Férias
A42: 2.1 | B42: 13º (Décimo terceiro) Salário, Férias e Adicional de Férias | H42: % | I42: VALOR (R$)
A43: A | B43: 13 (Décimo-terceiro) salário | H43: 0.0833 | I43: =$I$38*H43 -> 157.1038
A44: B | B44: Férias e Adicional de Férias | H44: 0.0278 | I44: =H44*I38 -> 52.4308
A45: TOTAL | H45: =TRUNC(SUM(H43:H44),4) -> 0.1111 | I45: =TRUNC(SUM(I43:I44),4) -> 209.5346
A47: Submódulo 2.2 - Encargos Previdenciários (GPS), Fundo de Garantia por Tempo de Serviço (FGTS) e outras contribuições
A48: 2.2 | B48: GPS, FGTS e Outras Contribuições | H48: % | I48: VALOR (R$)
A49: A | B49: INSS | H49: 0.2 | I49: =(I38+I45)*H49 -> 419.10692
A50: B | B50: Salário Educação | H50: 0.025 | I50: =(I38+I45)*H50 -> 52.388365
...

Sheet Limpeza Regional Cascavel
A1: PLANILHA DE CUSTOS E FORMAÇÃO DE PREÇOS | J1: ok
J2: ok
A3: Pregão Eletrônico n.º: | J3: ok
A4: Data: | C4: Horário: | J4: ok
J5: ok
A6: Categoria profissional: | J6: ok
J7: ok
A8: DISCRIMINAÇÃO DOS SERVIÇOS (DADOS REFERENTES À CONTRATAÇÃO) | J8: ok
A9: A | B9: Data de apresentação da proposta (dia/mês/ano): | J9: ok
A10: B | B10: Município/UF: CASCAVEL/PR | I10: PR | J10: ok
A11: C | B11: Ano do Acordo, Convenção ou Dissídio Coletivo | I11: 2025 á 2027 | J11: ok
A12: D | B12: Nº de meses de execução contratual | I12: 12 | J12: ok
J13: ok
A14: IDENTIFICAÇÃO DO SERVIÇO | J14: ok
A15: Tipo de Serviço | C15: Unidade de Medida (m2) | E15: Quantidade total a contratar (Em função da unidade de medida) | J15: ok
A16: Limpeza e conservação | E16: 1 | J16: ok
J17: ok
J18: ok
J19: ok
A20: 1. MÓDULOS | J20: ok
A21: Mão de Obra | J21: ok
A22: Dados para composição dos custos referentes à mão-de-obra | J22: ok
A23: 1 | B23: Tipo de serviço (mesmo serviço com características distintas) | I23: Limpeza | J23: ok
A24: 2 | B24: Classificação Brasileira de Ocupações (CBO) | I24: 5143-20 | J24: ok
A25: 3 | B25: Salário Nominativo da Categoria Profissional | I25: 1641 | J25: ok
A26: 4 | B26: Categoria profissional (vinculada à execução contratual) | I26: Servente | J26: ok
A27: 5 | B27: Data base da categoria (dia/mês/ano) | I27: 46053 | J27: ok
J28: ok
A29: MÓDULO 1 - COMPOSIÇÃO DA REMUNERAÇÃO | J29: ok
A30: 1 | B30: COMPOSIÇÃO DA REMUNERAÇÃO | H30: VALOR (R$) | I30: VALOR (R$) | J30: ok
A31: A | B31: Salário Base | I31: 1764 | J31: ok
A32: B | B32: Gratificação de função) | H32: 122 | I32: =(H32) -> 122 | J32: ok
A33: C | B33: Adicional Insalubridade | J33: ok
A34: D | B34: Adicional Noturno | I34: 0 | J34: ok
A35: E | B35: Adicional de Hora Noturna Reduzida | I35: 0 | J35: ok
A36: F | B36: Adicional de Hora Extra no Feriado Trabalhado | I36: 0 | J36: ok
A37: G | B37: Outros (especificar) | I37: 0 | J37: ok
A38: TOTAL | I38: =TRUNC(SUM(I31:I37),4) -> 1886 | J38: ok
J39: ok
A40: MÓDULO 2 – ENCARGOS E BENEFÍCIOS ANUAIS, MENSAIS E DIÁRIOS | J40: ok
...

Sheet Limpeza Regional Guarapuava 
A1: PLANILHA DE CUSTOS E FORMAÇÃO DE PREÇOS
A3: Pregão Eletrônico n.º:
A4: Data: | C4: Horário:
A6: Categoria profissional:
A8: DISCRIMINAÇÃO DOS SERVIÇOS (DADOS REFERENTES À CONTRATAÇÃO)
A9: A | B9: Data de apresentação da proposta (dia/mês/ano):
A10: B | B10: Município/UF: GUARAPUAVA/PR | I10: PR
A11: C | B11: Ano do Acordo, Convenção ou Dissídio Coletivo | I11: 2025 á 2027
A12: D | B12: Nº de meses de execução contratual | I12: 12
A14: IDENTIFICAÇÃO DO SERVIÇO
A15: Tipo de Serviço | C15: Unidade de Medida (m2) | E15: Quantidade total a contratar (Em função da unidade de medida)
A16: Limpeza e conservação | E16: 1
A20: 1. MÓDULOS
A21: Mão de Obra
A22: Dados para composição dos custos referentes à mão-de-obra
A23: 1 | B23: Tipo de serviço (mesmo serviço com características distintas) | I23: Limpeza
A24: 2 | B24: Classificação Brasileira de Ocupações (CBO) | I24: 5143-20
A25: 3 | B25: Salário Nominativo da Categoria Profissional | I25: 1764
A26: 4 | B26: Categoria profissional (vinculada à execução contratual) | I26: Servente
A27: 5 | B27: Data base da categoria (dia/mês/ano) | I27: 46053
A29: MÓDULO 1 - COMPOSIÇÃO DA REMUNERAÇÃO
A30: 1 | B30: COMPOSIÇÃO DA REMUNERAÇÃO | H30: VALOR (R$) | I30: VALOR (R$)
A31: A | B31: Salário Base | I31: =(I25/220)*200 -> 1603.6364
A32: B | B32: Gratificação de função) | H32: 122 | I32: 122
A33: C | B33: Adicional Insalubridade | I33: =H33*I31 -> 0
A34: D | B34: Adicional Noturno | I34: 0
A35: E | B35: Adicional de Hora Noturna Reduzida | I35: 0
A36: F | B36: Adicional de Hora Extra no Feriado Trabalhado | I36: 0
A37: G | B37: Outros (especificar) | I37: 0
A38: TOTAL | I38: =TRUNC(SUM(I31:I37),4) -> 1725.6363
A40: MÓDULO 2 – ENCARGOS E BENEFÍCIOS ANUAIS, MENSAIS E DIÁRIOS
A41: Submódulo 2.1 - 13º (décimo terceiro) Salário, Férias e Adicional de Férias
A42: 2.1 | B42: 13º (Décimo terceiro) Salário, Férias e Adicional de Férias | H42: % | I42: VALOR (R$)
A43: A | B43: 13 (Décimo-terceiro) salário | H43: 0.0833 | I43: =$I$38*H43 -> 143.7455
A44: B | B44: Férias e Adicional de Férias | H44: 0.0278 | I44: =H44*I38 -> 47.972689
A45: TOTAL | H45: =TRUNC(SUM(H43:H44),4) -> 0.1111 | I45: =TRUNC(SUM(I43:I44),4) -> 191.7181
A47: Submódulo 2.2 - Encargos Previdenciários (GPS), Fundo de Garantia por Tempo de Serviço (FGTS) e outras contribuições
A48: 2.2 | B48: GPS, FGTS e Outras Contribuições | H48: % | I48: VALOR (R$)
A49: A | B49: INSS | H49: 0.2 | I49: =(I38+I45)*H49 -> 383.47088
A50: B | B50: Salário Educação | H50: 0.025 | I50: =(I38+I45)*H50 -> 47.93386
...

Sheet Limpeza Regional Londrina
A1: PLANILHA DE CUSTOS E FORMAÇÃO DE PREÇOS | J1: ok
J2: ok
A3: Pregão Eletrônico n.º: | J3: ok
A4: Data: | C4: Horário: | J4: ok
J5: ok
A6: Categoria profissional: | J6: ok
J7: ok
A8: DISCRIMINAÇÃO DOS SERVIÇOS (DADOS REFERENTES À CONTRATAÇÃO) | J8: ok
A9: A | B9: Data de apresentação da proposta (dia/mês/ano): | J9: ok
A10: B | B10: Município/UF: LONDRINA/PR | I10: PR | J10: ok
A11: C | B11: Ano do Acordo, Convenção ou Dissídio Coletivo | I11: 2025 á 2027 | J11: ok
A12: D | B12: Nº de meses de execução contratual | I12: 12 | J12: ok
J13: ok
A14: IDENTIFICAÇÃO DO SERVIÇO | J14: ok
A15: Tipo de Serviço | C15: Unidade de Medida (m2) | E15: Quantidade total a contratar (Em função da unidade de medida) | J15: ok
A16: Limpeza e conservação | E16: 1 | J16: ok
J17: ok
J18: ok
J19: ok
A20: 1. MÓDULOS | J20: ok
A21: Mão de Obra | J21: ok
A22: Dados para composição dos custos referentes à mão-de-obra | J22: ok
A23: 1 | B23: Tipo de serviço (mesmo serviço com características distintas) | I23: Limpeza | J23: ok
A24: 2 | B24: Classificação Brasileira de Ocupações (CBO) | I24: 5143-20 | J24: ok
A25: 3 | B25: Salário Nominativo da Categoria Profissional | I25: 1764 | J25: ok
A26: 4 | B26: Categoria profissional (vinculada à execução contratual) | I26: Servente | J26: ok
A27: 5 | B27: Data base da categoria (dia/mês/ano) | I27: 46053 | J27: ok
J28: ok
A29: MÓDULO 1 - COMPOSIÇÃO DA REMUNERAÇÃO | J29: ok
A30: 1 | B30: COMPOSIÇÃO DA REMUNERAÇÃO | H30: VALOR (R$) | I30: VALOR (R$) | J30: ok
A31: A | B31: Salário Base | I31: =(I25) -> 1764 | J31: ok
A32: B | B32: Gratificação de função | H32: 0 | I32: 122 | J32: ok
A33: C | B33: Adicional Insalubridade | I33: =H33*I31 -> 0 | J33: ok
A34: D | B34: Adicional Noturno | I34: 0 | J34: ok
A35: E | B35: Adicional de Hora Noturna Reduzida | I35: 0 | J35: ok
A36: F | B36: Adicional de Hora Extra no Feriado Trabalhado | I36: 0 | J36: ok
A37: G | B37: Outros (especificar) | I37: 0 | J37: ok
A38: TOTAL | I38: =TRUNC(SUM(I31:I37),4) -> 1886 | J38: ok
J39: ok
A40: MÓDULO 2 – ENCARGOS E BENEFÍCIOS ANUAIS, MENSAIS E DIÁRIOS | J40: ok
...

Sheet Limpeza Regional Maringá
A1: PLANILHA DE CUSTOS E FORMAÇÃO DE PREÇOS | J1: ok
J2: ok
A3: Pregão Eletrônico n.º: | J3: ok
A4: Data: | C4: Horário: | J4: ok
J5: ok
A6: Categoria profissional: | J6: ok
J7: ok
A8: DISCRIMINAÇÃO DOS SERVIÇOS (DADOS REFERENTES À CONTRATAÇÃO) | J8: ok
A9: A | B9: Data de apresentação da proposta (dia/mês/ano): | J9: ok
A10: B | B10: Município/UF: MARINGÁ/PR | I10: PR | J10: ok
A11: C | B11: Ano do Acordo, Convenção ou Dissídio Coletivo | I11: 2025 á 2027 | J11: ok
A12: D | B12: Nº de meses de execução contratual | I12: 12 | J12: ok
J13: ok
A14: IDENTIFICAÇÃO DO SERVIÇO | J14: ok
A15: Tipo de Serviço | C15: Unidade de Medida (m2) | E15: Quantidade total a contratar (Em função da unidade de medida) | J15: ok
A16: Limpeza e conservação | E16: 2 | J16: ok
J17: ok
J18: ok
J19: ok
A20: 1. MÓDULOS | J20: ok
A21: Mão de Obra | J21: ok
A22: Dados para composição dos custos referentes à mão-de-obra | J22: ok
A23: 1 | B23: Tipo de serviço (mesmo serviço com características distintas) | I23: Limpeza | J23: ok
A24: 2 | B24: Classificação Brasileira de Ocupações (CBO) | I24: 5143-20 | J24: ok
A25: 3 | B25: Salário Nominativo da Categoria Profissional | I25: 1764 | J25: ok
A26: 4 | B26: Categoria profissional (vinculada à execução contratual) | I26: Servente | J26: ok
A27: 5 | B27: Data base da categoria (dia/mês/ano) | I27: 46053 | J27: ok
J28: ok
A29: MÓDULO 1 - COMPOSIÇÃO DA REMUNERAÇÃO | J29: ok
A30: 1 | B30: COMPOSIÇÃO DA REMUNERAÇÃO | H30: VALOR (R$) | I30: VALOR (R$) | J30: ok
A31: A | B31: Salário Base | I31: =(I25) -> 1764 | J31: ok
A32: B | B32: Gratificação de função | I32: 122 | J32: ok
A33: C | B33: Adicional Insalubridade | I33: =H33*I31 -> 0 | J33: ok
A34: D | B34: Adicional Noturno | I34: 0 | J34: ok
A35: E | B35: Adicional de Hora Noturna Reduzida | I35: 0 | J35: ok
A36: F | B36: Adicional de Hora Extra no Feriado Trabalhado | I36: 0 | J36: ok
A37: G | B37: Outros (especificar) | I37: 0 | J37: ok
A38: TOTAL | I38: =TRUNC(SUM(I31:I37),4) -> 1886 | J38: ok
J39: ok
A40: MÓDULO 2 – ENCARGOS E BENEFÍCIOS ANUAIS, MENSAIS E DIÁRIOS | J40: ok
...

Sheet Limpeza Regional Pato Branco 
A1: PLANILHA DE CUSTOS E FORMAÇÃO DE PREÇOS
A3: Pregão Eletrônico n.º:
A4: Data: | C4: Horário:
A6: Categoria profissional:
A8: DISCRIMINAÇÃO DOS SERVIÇOS (DADOS REFERENTES À CONTRATAÇÃO)
A9: A | B9: Data de apresentação da proposta (dia/mês/ano):
A10: B | B10: Município/UF: PATO BRANCO/PR | I10: PR
A11: C | B11: Ano do Acordo, Convenção ou Dissídio Coletivo | I11: 2025 á 2027
A12: D | B12: Nº de meses de execução contratual | I12: 12
A14: IDENTIFICAÇÃO DO SERVIÇO
A15: Tipo de Serviço | C15: Unidade de Medida (m2) | E15: Quantidade total a contratar (Em função da unidade de medida)
A16: Limpeza e conservação | E16: 1
A20: 1. MÓDULOS
A21: Mão de Obra
A22: Dados para composição dos custos referentes à mão-de-obra
A23: 1 | B23: Tipo de serviço (mesmo serviço com características distintas) | I23: Limpeza
A24: 2 | B24: Classificação Brasileira de Ocupações (CBO) | I24: 5143-20
A25: 3 | B25: Salário Nominativo da Categoria Profissional | I25: 1764
A26: 4 | B26: Categoria profissional (vinculada à execução contratual) | I26: Servente
A27: 5 | B27: Data base da categoria (dia/mês/ano) | I27: 46053
A29: MÓDULO 1 - COMPOSIÇÃO DA REMUNERAÇÃO
A30: 1 | B30: COMPOSIÇÃO DA REMUNERAÇÃO | H30: VALOR (R$) | I30: VALOR (R$)
A31: A | B31: Salário Base | I31: =(I25/220)*200 -> 1603.6364
A32: B | B32: Gratificação de função) | I32: 122
A33: C | B33: Adicional Insalubridade | I33: =H33*I31 -> 0
A34: D | B34: Adicional Noturno | I34: 0
A35: E | B35: Adicional de Hora Noturna Reduzida | I35: 0
A36: F | B36: Adicional de Hora Extra no Feriado Trabalhado | I36: 0
A37: G | B37: Outros (especificar) | I37: 0
A38: TOTAL | I38: =TRUNC(SUM(I31:I37),4) -> 1725.6363
A40: MÓDULO 2 – ENCARGOS E BENEFÍCIOS ANUAIS, MENSAIS E DIÁRIOS
A41: Submódulo 2.1 - 13º (décimo terceiro) Salário, Férias e Adicional de Férias
A42: 2.1 | B42: 13º (Décimo terceiro) Salário, Férias e Adicional de Férias | H42: % | I42: VALOR (R$)
A43: A | B43: 13 (Décimo-terceiro) salário | H43: 0.0833 | I43: =$I$38*H43 -> 143.7455
A44: B | B44: Férias e Adicional de Férias | H44: 0.0278 | I44: =H44*I38 -> 47.972689
A45: TOTAL | H45: =TRUNC(SUM(H43:H44),4) -> 0.1111 | I45: =TRUNC(SUM(I43:I44),4) -> 191.7181
A47: Submódulo 2.2 - Encargos Previdenciários (GPS), Fundo de Garantia por Tempo de Serviço (FGTS) e outras contribuições
A48: 2.2 | B48: GPS, FGTS e Outras Contribuições | H48: % | I48: VALOR (R$)
A49: A | B49: INSS | H49: 0.2 | I49: =(I38+I45)*H49 -> 383.47088
A50: B | B50: Salário Educação | H50: 0.025 | I50: =(I38+I45)*H50 -> 47.93386
...

Sheet Limpeza Regional Ponta Gros 
A1: PLANILHA DE CUSTOS E FORMAÇÃO DE PREÇOS
A3: Pregão Eletrônico n.º:
A4: Data: | C4: Horário:
A6: Categoria profissional:
A8: DISCRIMINAÇÃO DOS SERVIÇOS (DADOS REFERENTES À CONTRATAÇÃO)
A9: A | B9: Data de apresentação da proposta (dia/mês/ano):
A10: B | B10: Município/UF: PONTA GROSSA/PR | I10: PR
A11: C | B11: Ano do Acordo, Convenção ou Dissídio Coletivo | I11: 2025 á 2027
A12: D | B12: Nº de meses de execução contratual | I12: 12
A14: IDENTIFICAÇÃO DO SERVIÇO
A15: Tipo de Serviço | C15: Unidade de Medida (m2) | E15: Quantidade total a contratar (Em função da unidade de medida)
A16: Limpeza e conservação | E16: 1
A20: 1. MÓDULOS
A21: Mão de Obra
A22: Dados para composição dos custos referentes à mão-de-obra
A23: 1 | B23: Tipo de serviço (mesmo serviço com características distintas) | I23: Limpeza
A24: 2 | B24: Classificação Brasileira de Ocupações (CBO) | I24: 5143-20
A25: 3 | B25: Salário Nominativo da Categoria Profissional | I25: 1764
A26: 4 | B26: Categoria profissional (vinculada à execução contratual) | I26: Servente
A27: 5 | B27: Data base da categoria (dia/mês/ano) | I27: 46053
A29: MÓDULO 1 - COMPOSIÇÃO DA REMUNERAÇÃO
A30: 1 | B30: COMPOSIÇÃO DA REMUNERAÇÃO | H30: VALOR (R$) | I30: VALOR (R$)
A31: A | B31: Salário Base | I31: =(I25) -> 1764
A32: B | B32: Gratificação de função | I32: 122
A33: C | B33: Adicional Insalubridade | I33: =H33*I31 -> 0
A34: D | B34: Adicional Noturno | I34: 0
A35: E | B35: Adicional de Hora Noturna Reduzida | I35: 0
A36: F | B36: Adicional de Hora Extra no Feriado Trabalhado | I36: 0
A37: G | B37: Outros (especificar) | I37: 0
A38: TOTAL | I38: =TRUNC(SUM(I31:I37),4) -> 1886
A40: MÓDULO 2 – ENCARGOS E BENEFÍCIOS ANUAIS, MENSAIS E DIÁRIOS
A41: Submódulo 2.1 - 13º (décimo terceiro) Salário, Férias e Adicional de Férias
A42: 2.1 | B42: 13º (Décimo terceiro) Salário, Férias e Adicional de Férias | H42: % | I42: VALOR (R$)
A43: A | B43: 13 (Décimo-terceiro) salário | H43: 0.0833 | I43: =$I$38*H43 -> 157.1038
A44: B | B44: Férias e Adicional de Férias | H44: 0.0278 | I44: =H44*I38 -> 52.4308
A45: TOTAL | H45: =TRUNC(SUM(H43:H44),4) -> 0.1111 | I45: =TRUNC(SUM(I43:I44),4) -> 209.5346
A47: Submódulo 2.2 - Encargos Previdenciários (GPS), Fundo de Garantia por Tempo de Serviço (FGTS) e outras contribuições
A48: 2.2 | B48: GPS, FGTS e Outras Contribuições | H48: % | I48: VALOR (R$)
A49: A | B49: INSS | H49: 0.2 | I49: =(I38+I45)*H49 -> 419.10692
A50: B | B50: Salário Educação | H50: 0.025 | I50: =(I38+I45)*H50 -> 52.388365
...

Sheet Limpeza Água Verde 
A1: PLANILHA DE CUSTOS E FORMAÇÃO DE PREÇOS
A3: Pregão Eletrônico n.º:
A4: Data: | C4: Horário:
A6: Categoria profissional:
A8: DISCRIMINAÇÃO DOS SERVIÇOS (DADOS REFERENTES À CONTRATAÇÃO)
A9: A | B9: Data de apresentação da proposta (dia/mês/ano):
A10: B | B10: Município/UF: CURITIBA/PR (ÁGUA VERDE) | I10: PR
A11: C | B11: Ano do Acordo, Convenção ou Dissídio Coletivo | I11: 2025 á 2027
A12: D | B12: Nº de meses de execução contratual | I12: 12
A14: IDENTIFICAÇÃO DO SERVIÇO
A15: Tipo de Serviço | C15: Unidade de Medida (m2) | E15: Quantidade total a contratar (Em função da unidade de medida)
A16: Limpeza e conservação | E16: 1
A20: 1. MÓDULOS
A21: Mão de Obra
A22: Dados para composição dos custos referentes à mão-de-obra
A23: 1 | B23: Tipo de serviço (mesmo serviço com características distintas) | I23: Limpeza
A24: 2 | B24: Classificação Brasileira de Ocupações (CBO) | I24: 5143-20
A25: 0 | B25: Salário Nominativo da Categoria Profissional | I25: 1764
A26: 4 | B26: Categoria profissional (vinculada à execução contratual) | I26: Servente
A27: 5 | B27: Data base da categoria (dia/mês/ano) | I27: 46053
A29: MÓDULO 1 - COMPOSIÇÃO DA REMUNERAÇÃO
A30: 1 | B30: COMPOSIÇÃO DA REMUNERAÇÃO | H30: % | I30: VALOR (R$)
A31: A | B31: Salário Base | I31: =(I25/220)*60 -> 481.09091
A32: B | B32: Gratificação de função | H32: 0 | I32: 0
A33: C | B33: Adicional Insalubridade | H33: 0 | I33: =H33*I31 -> 0
A34: D | B34: Adicional Noturno | H34: 0 | I34: 0
A35: E | B35: Adicional de Hora Noturna Reduzida | H35: 0 | I35: 0
A36: F | B36: Adicional de Hora Extra no Feriado Trabalhado | H36: 0 | I36: 0
A37: G | B37: Outros (especificar) | H37: 0 | I37: 0
A38: TOTAL | I38: =TRUNC(SUM(I31:I37),4) -> 481.0909
A40: MÓDULO 2 – ENCARGOS E BENEFÍCIOS ANUAIS, MENSAIS E DIÁRIOS
A41: Submódulo 2.1 - 13º (décimo terceiro) Salário, Férias e Adicional de Férias
A42: 2.1 | B42: 13º (Décimo terceiro) Salário, Férias e Adicional de Férias | H42: % | I42: VALOR (R$)
A43: A | B43: 13 (Décimo-terceiro) salário | H43: 0.0833 | I43: =$I$38*H43 -> 40.074872
A44: B | B44: Férias e Adicional de Férias | H44: 0.0278 | I44: =H44*I38 -> 13.374327
A45: TOTAL | H45: =TRUNC(SUM(H43:H44),4) -> 0.1111 | I45: =TRUNC(SUM(I43:I44),4) -> 53.4491
A47: Submódulo 2.2 - Encargos Previdenciários (GPS), Fundo de Garantia por Tempo de Serviço (FGTS) e outras contribuições
A48: 2.2 | B48: GPS, FGTS e Outras Contribuições | H48: % | I48: VALOR (R$)
A49: A | B49: INSS | H49: 0.2 | I49: =(I38+I45)*H49 -> 106.908
A50: B | B50: Salário Educação | H50: 0.025 | I50: =(I38+I45)*H50 -> 13.3635
...

Sheet Limpeza Insp Arapongas 
A1: PLANILHA DE CUSTOS E FORMAÇÃO DE PREÇOS
A3: Pregão Eletrônico n.º:
A4: Data: | C4: Horário:
A6: Categoria profissional:
A8: DISCRIMINAÇÃO DOS SERVIÇOS (DADOS REFERENTES À CONTRATAÇÃO)
A9: A | B9: Data de apresentação da proposta (dia/mês/ano):
A10: B | B10: Município/UF: ARAPONGAS/PR | I10: PR
A11: C | B11: Ano do Acordo, Convenção ou Dissídio Coletivo | I11: 2025 á 2027
A12: D | B12: Nº de meses de execução contratual | I12: 12
A14: IDENTIFICAÇÃO DO SERVIÇO
A15: Tipo de Serviço | C15: Unidade de Medida (m2) | E15: Quantidade total a contratar (Em função da unidade de medida)
A16: Limpeza e conservação | E16: 1
A20: 1. MÓDULOS
A21: Mão de Obra
A22: Dados para composição dos custos referentes à mão-de-obra
A23: 1 | B23: Tipo de serviço (mesmo serviço com características distintas) | I23: Limpeza
A24: 2 | B24: Classificação Brasileira de Ocupações (CBO) | I24: 5143-20
A25: 3 | B25: Salário Nominativo da Categoria Profissional | I25: 1764
A26: 4 | B26: Categoria profissional (vinculada à execução contratual) | I26: Servente
A27: 5 | B27: Data base da categoria (dia/mês/ano) | I27: 46053
A29: MÓDULO 1 - COMPOSIÇÃO DA REMUNERAÇÃO
A30: 1 | B30: COMPOSIÇÃO DA REMUNERAÇÃO | H30: % | I30: VALOR (R$)
A31: A | B31: Salário Base | I31: =(I25/220)*60 -> 481.09091
A32: B | B32: Gratificação de função | H32: 0 | I32: 0
A33: C | B33: Adicional Insalubridade | H33: 0 | I33: =H33*I31 -> 0
A34: D | B34: Adicional Noturno | H34: 0 | I34: 0
A35: E | B35: Adicional de Hora Noturna Reduzida | H35: 0 | I35: 0
A36: F | B36: Adicional de Hora Extra no Feriado Trabalhado | H36: 0 | I36: 0
A37: G | B37: Outros (especificar) | H37: 0 | I37: 0
A38: TOTAL | I38: =TRUNC(SUM(I31:I37),4) -> 481.0909
A40: MÓDULO 2 – ENCARGOS E BENEFÍCIOS ANUAIS, MENSAIS E DIÁRIOS
A41: Submódulo 2.1 - 13º (décimo terceiro) Salário, Férias e Adicional de Férias
A42: 2.1 | B42: 13º (Décimo terceiro) Salário, Férias e Adicional de Férias | H42: % | I42: VALOR (R$)
A43: A | B43: 13 (Décimo-terceiro) salário | H43: 0.0833 | I43: =$I$38*H43 -> 40.074872
A44: B | B44: Férias e Adicional de Férias | H44: 0.0278 | I44: =H44*I38 -> 13.374327
A45: TOTAL | H45: =TRUNC(SUM(H43:H44),4) -> 0.1111 | I45: =TRUNC(SUM(I43:I44),4) -> 53.4491
A47: Submódulo 2.2 - Encargos Previdenciários (GPS), Fundo de Garantia por Tempo de Serviço (FGTS) e outras contribuições
A48: 2.2 | B48: GPS, FGTS e Outras Contribuições | H48: % | I48: VALOR (R$)
A49: A | B49: INSS | H49: 0.2 | I49: =(I38+I45)*H49 -> 106.908
A50: B | B50: Salário Educação | H50: 0.025 | I50: =(I38+I45)*H50 -> 13.3635
...

Sheet Limpeza Insp Bandeirantes
A1: PLANILHA DE CUSTOS E FORMAÇÃO DE PREÇOS
A3: Pregão Eletrônico n.º:
A4: Data: | C4: Horário:
A6: Categoria profissional:
A8: DISCRIMINAÇÃO DOS SERVIÇOS (DADOS REFERENTES À CONTRATAÇÃO)
A9: A | B9: Data de apresentação da proposta (dia/mês/ano):
A10: B | B10: Município/UF: BANDEIRANTES/PR | I10: PR
A11: C | B11: Ano do Acordo, Convenção ou Dissídio Coletivo | I11: 2025 á 2027
A12: D | B12: Nº de meses de execução contratual | I12: 12
A14: IDENTIFICAÇÃO DO SERVIÇO
A15: Tipo de Serviço | C15: Unidade de Medida (m2) | E15: Quantidade total a contratar (Em função da unidade de medida)
A16: Limpeza e conservação | E16: 1
A20: 1. MÓDULOS
A21: Mão de Obra
A22: Dados para composição dos custos referentes à mão-de-obra
A23: 1 | B23: Tipo de serviço (mesmo serviço com características distintas) | I23: Limpeza
A24: 2 | B24: Classificação Brasileira de Ocupações (CBO) | I24: 5143-20
A25: 3 | B25: Salário Nominativo da Categoria Profissional | I25: 1764
A26: 4 | B26: Categoria profissional (vinculada à execução contratual) | I26: Servente
A27: 5 | B27: Data base da categoria (dia/mês/ano) | I27: 46053
A29: MÓDULO 1 - COMPOSIÇÃO DA REMUNERAÇÃO
A30: 1 | B30: COMPOSIÇÃO DA REMUNERAÇÃO | H30: % | I30: VALOR (R$)
A31: A | B31: Salário Base | I31: =(I25/220)*60 -> 481.09091
A32: B | B32: Gratificação de função | H32: 0 | I32: 0
A33: C | B33: Adicional Insalubridade | H33: 0 | I33: =H33*I31 -> 0
A34: D | B34: Adicional Noturno | H34: 0 | I34: 0
A35: E | B35: Adicional de Hora Noturna Reduzida | H35: 0 | I35: 0
A36: F | B36: Adicional de Hora Extra no Feriado Trabalhado | H36: 0 | I36: 0
A37: G | B37: Outros (especificar) | H37: 0 | I37: 0
A38: TOTAL | I38: =TRUNC(SUM(I31:I37),4) -> 481.0909
A40: MÓDULO 2 – ENCARGOS E BENEFÍCIOS ANUAIS, MENSAIS E DIÁRIOS
A41: Submódulo 2.1 - 13º (décimo terceiro) Salário, Férias e Adicional de Férias
A42: 2.1 | B42: 13º (Décimo terceiro) Salário, Férias e Adicional de Férias | H42: % | I42: VALOR (R$)
A43: A | B43: 13 (Décimo-terceiro) salário | H43: 0.0833 | I43: =$I$38*H43 -> 40.074872
A44: B | B44: Férias e Adicional de Férias | H44: 0.0278 | I44: =H44*I38 -> 13.374327
A45: TOTAL | H45: =TRUNC(SUM(H43:H44),4) -> 0.1111 | I45: =TRUNC(SUM(I43:I44),4) -> 53.4491
A47: Submódulo 2.2 - Encargos Previdenciários (GPS), Fundo de Garantia por Tempo de Serviço (FGTS) e outras contribuições
A48: 2.2 | B48: GPS, FGTS e Outras Contribuições | H48: % | I48: VALOR (R$)
A49: A | B49: INSS | H49: 0.2 | I49: =(I38+I45)*H49 -> 106.908
A50: B | B50: Salário Educação | H50: 0.025 | I50: =(I38+I45)*H50 -> 13.3635
...

Sheet Limpeza Insp Campo Largo
A1: PLANILHA DE CUSTOS E FORMAÇÃO DE PREÇOS
A3: Pregão Eletrônico n.º:
A4: Data: | C4: Horário:
A6: Categoria profissional:
A8: DISCRIMINAÇÃO DOS SERVIÇOS (DADOS REFERENTES À CONTRATAÇÃO)
A9: A | B9: Data de apresentação da proposta (dia/mês/ano):
A10: B | B10: Município/UF: CAMPO LARGO/PR | I10: PR
A11: C | B11: Ano do Acordo, Convenção ou Dissídio Coletivo | I11: 2025 á 2027
A12: D | B12: Nº de meses de execução contratual | I12: 12
A14: IDENTIFICAÇÃO DO SERVIÇO
A15: Tipo de Serviço | C15: Unidade de Medida (m2) | E15: Quantidade total a contratar (Em função da unidade de medida)
A16: Limpeza e conservação | E16: 1
A20: 1. MÓDULOS
A21: Mão de Obra
A22: Dados para composição dos custos referentes à mão-de-obra
A23: 1 | B23: Tipo de serviço (mesmo serviço com características distintas) | I23: Limpeza
A24: 2 | B24: Classificação Brasileira de Ocupações (CBO) | I24: 5143-20
A25: 3 | B25: Salário Nominativo da Categoria Profissional | I25: 1764
A26: 4 | B26: Categoria profissional (vinculada à execução contratual) | I26: Servente
A27: 5 | B27: Data base da categoria (dia/mês/ano) | I27: 46053
A29: MÓDULO 1 - COMPOSIÇÃO DA REMUNERAÇÃO
A30: 1 | B30: COMPOSIÇÃO DA REMUNERAÇÃO | H30: % | I30: VALOR (R$)
A31: A | B31: Salário Base | I31: =(I25/220)*60 -> 481.09091
A32: B | B32: Gratificação de função | H32: 0 | I32: 0
A33: C | B33: Adicional Insalubridade | H33: 0 | I33: =H33*I31 -> 0
A34: D | B34: Adicional Noturno | H34: 0 | I34: 0
A35: E | B35: Adicional de Hora Noturna Reduzida | H35: 0 | I35: 0
A36: F | B36: Adicional de Hora Extra no Feriado Trabalhado | H36: 0 | I36: 0
A37: G | B37: Outros (especificar) | H37: 0 | I37: 0
A38: TOTAL | I38: =TRUNC(SUM(I31:I37),4) -> 481.0909
A40: MÓDULO 2 – ENCARGOS E BENEFÍCIOS ANUAIS, MENSAIS E DIÁRIOS
A41: Submódulo 2.1 - 13º (décimo terceiro) Salário, Férias e Adicional de Férias
A42: 2.1 | B42: 13º (Décimo terceiro) Salário, Férias e Adicional de Férias | H42: % | I42: VALOR (R$)
A43: A | B43: 13 (Décimo-terceiro) salário | H43: 0.0833 | I43: =$I$38*H43 -> 40.074872
A44: B | B44: Férias e Adicional de Férias | H44: 0.0278 | I44: =H44*I38 -> 13.374327
A45: TOTAL | H45: =TRUNC(SUM(H43:H44),4) -> 0.1111 | I45: =TRUNC(SUM(I43:I44),4) -> 53.4491
