Workbook
Name _Toc163742407: 'Sede Centro (Curitiba)'!$A$62
Name _Toc163742407: 'Sede Estadual Adm(Curitiba)'!$A$84
Name _Toc163742408: 'Sede Centro (Curitiba)'!$A$82
Name _Toc163742408: 'Sede Estadual Adm(Curitiba)'!$A$104
Name _Toc163742409: 'Sede Centro (Curitiba)'!$A$99
Name _Toc163742409: 'Sede Estadual Adm(Curitiba)'!$A$121
Name _Toc163742410: 'Sede Centro (Curitiba)'!$A$114
Name _Toc163742410: 'Sede Estadual Adm(Curitiba)'!$A$136
Name _Toc163742411: 'Sede Centro (Curitiba)'!$A$132
Name _Toc163742411: 'Sede Estadual Adm(Curitiba)'!$A$154
Name _Toc163742412: 'Sede Centro (Curitiba)'!$A$149
Name _Toc163742412: 'Sede Estadual Adm(Curitiba)'!$A$171
Name _Toc163742413: 'Sede Centro (Curitiba)'!$A$164
Name _Toc163742413: 'Sede Estadual Adm(Curitiba)'!$A$186
Name _Toc163742414: 'Sede Centro (Curitiba)'!$A$179
Name _Toc163742414: 'Sede Estadual Adm(Curitiba)'!$A$201
Name _Toc163742415: 'Sede Centro (Curitiba)'!$A$192
Name _Toc163742415: 'Sede Estadual Adm(Curitiba)'!$A$214
Name _Toc163742416: 'Sede Centro (Curitiba)'!$A$214
Name _Toc163742416: 'Sede Estadual Adm(Curitiba)'!$A$236
Name _Toc163742417: 'Sede Centro (Curitiba)'!$A$224
Name _Toc163742417: 'Sede Estadual Adm(Curitiba)'!$A$246
Name _Toc163742418: 'Sede Centro (Curitiba)'!$A$240
Name _Toc163742418: 'Sede Estadual Adm(Curitiba)'!$A$262
Name _Toc163742419: 'Sede Centro (Curitiba)'!$A$254
Name _Toc163742419: 'Sede Estadual Adm(Curitiba)'!$A$276
Name _Toc163742420: 'Sede Centro (Curitiba)'!$A$272
Name _Toc163742420: 'Sede Estadual Adm(Curitiba)'!$A$294
Name _Toc163742421: 'Sede Centro (Curitiba)'!$A$282
Name _Toc163742421: 'Sede Estadual Adm(Curitiba)'!$A$304
Name _Toc163742422: 'Sede Centro (Curitiba)'!$A$291
Name _Toc163742422: 'Sede Estadual Adm(Curitiba)'!$A$313
Name _Toc163742423: 'Sede Centro (Curitiba)'!$A$300
Name _Toc163742423: 'Sede Estadual Adm(Curitiba)'!$A$322
Name _Toc163742424: 'Sede Centro (Curitiba)'!$A$324
Name _Toc163742424: 'Sede Estadual Adm(Curitiba)'!$A$346
Name _Toc163742425: 'Sede Centro (Curitiba)'!$A$345
Name _Toc163742425: 'Sede Estadual Adm(Curitiba)'!$A$367
Name _Toc163742426: 'Sede Centro (Curitiba)'!$A$351
Name _Toc163742426: 'Sede Estadual Adm(Curitiba)'!$A$373
Name _Toc163742427: 'Sede Centro (Curitiba)'!$A$362
Name _Toc163742427: 'Sede Estadual Adm(Curitiba)'!$A$384
Name _Toc163742428: 'Sede Centro (Curitiba)'!$A$377
Name _Toc163742428: 'Sede Estadual Adm(Curitiba)'!$A$399
Name _Toc163742429: 'Sede Centro (Curitiba)'!$A$389
Name _Toc163742429: 'Sede Estadual Adm(Curitiba)'!$A$411
Name _Toc163742430: 'Sede Centro (Curitiba)'!$A$401
Name _Toc163742430: 'Sede Estadual Adm(Curitiba)'!$A$423
Name _Toc163742431: 'Sede Centro (Curitiba)'!$A$412
Name _Toc163742431: 'Sede Estadual Adm(Curitiba)'!$A$434
Name _Toc163742432: 'Sede Centro (Curitiba)'!$A$426
Name _Toc163742432: 'Sede Estadual Adm(Curitiba)'!$A$448
Name _Toc163742433: 'Sede Centro (Curitiba)'!$A$435
Name _Toc163742433: 'Sede Estadual Adm(Curitiba)'!$A$457
Name _Toc163742434: 'Sede Centro (Curitiba)'!$A$447
Name _Toc163742434: 'Sede Estadual Adm(Curitiba)'!$A$469
Name _Toc163742435: 'Sede Centro (Curitiba)'!$A$459
Name _Toc163742435: 'Sede Estadual Adm(Curitiba)'!$A$481
Name _Toc163742436: 'Sede Centro (Curitiba)'!$A$474
Name _Toc163742436: 'Sede Estadual Adm(Curitiba)'!$A$496

Sheet RESUMO GERAL
B1: RESUMO GERAL
A5: ITEM | B5: DESCRIÇÃO DO SERVIÇO | C5: VALOR ANUAL
A7: 1 | B7: Jardinagem e manutenção de paisagismo | C7: =SUM('Sede Estadual Adm(Curitiba):União da Vitória'!M13) -> 0
A8: 1.1 | B8: Insumos jardinagem | C8: 0
A9: 2 | B9: Limpeza e desinfecção de reservatórios de água | C9: =SUM('Sede Estadual Adm(Curitiba):União da Vitória'!M15) -> 0
A10: 3 | B10: Desinsetização, desratização e descupinização | C10: =SUM('Sede Estadual Adm(Curitiba):União da Vitória'!M17) -> 0
A11: 4 | B11: Recarga e manutenção de extintores de incêndio | C11: =SUM('Sede Estadual Adm(Curitiba):União da Vitória'!M19) -> 0
A12: 5 | B12: Limpeza e manutenção de purificadores de água | C12: =SUM('Sede Estadual Adm(Curitiba):União da Vitória'!M21) -> 0
A13: 6 | B13: Laudos de inspeção SPDA e subestações | C13: =SUM('Sede Estadual Adm(Curitiba):União da Vitória'!M23) -> 0
A14: 7 | B14: Laudos de pontos de ancoragem | C14: =SUM('Sede Estadual Adm(Curitiba):União da Vitória'!M25) -> 0
A15: 8 | B15: Inspeção predial | C15: =SUM('Sede Estadual Adm(Curitiba):União da Vitória'!M27) -> 0
A16: 9 | B16: Manutenção predial | C16: =SUM('Sede Estadual Adm(Curitiba):União da Vitória'!M29) -> 0
C17: =SUM(C7:C16) -> 0
A20: Data | B20: Nome completo
B21: Nº Registro Profissional

Sheet Sede Estadual Adm(Curitiba)
A1: PLANILHA DE CUSTOS E FORMAÇÃO DE PREÇOS
A2: Local: Sede Administrativa (Curitiba)
A3: Endereço: Rua Dr. Zamenhof, n.º 35
A5: Pregão Eletrônico n.º:
A6: Data: | C6: Horário:
I8: BDI | J8: =C69 -> 0
A11: ITEM | B11: DESCRIÇÃO DO SERVIÇO | C11: UNIDADE DE MEDIDA | D11: QUANTI DADE | E11: VALORES (R$)
E12: MATERIAL | F12: MÃO DE OBRA | G12: EQUIPAMENTO | H12: TOTAL UNITÁRIO | I12: TOTAL MATERIAL | J12: TOTAL MÃO DE OBRA | K12: TOTAL EQUIPAMENTO | L12: TOTAL SEM BDI | M12: TOTAL COM BDI
A13: 1 | B13: JARDINAGEM E MANUTENÇÃO DE PAISAGISMO | L13: =L14 -> 0 | M13: =M14 -> 0
A14: 1.1 | B14: Jardinagem e manutenção de paisagismo | C14: MÊS | D14: 12 | H14: =SUM(E14:G14) -> 0 | I14: =D14*E14 -> 0 | J14: =D14*F14 -> 0 | K14: =D14*G14 -> 0 | L14: =SUM(I14:K14) -> 0 | M14: =ROUND((L14*$J$8)+L14,2) -> 0
A15: 2 | B15: LIMPEZA E DESINFECÇÃO DE RESERVATÓRIOS DE ÁGUA | L15: =L16 -> 0 | M15: =M16 -> 0
A16: 2.1 | B16: Limpeza e desinfecção de reservatórios de água | C16: UN | D16: 1 | H16: =SUM(E16:G16) -> 0 | I16: =D16*E16 -> 0 | J16: =D16*F16 -> 0 | K16: =D16*G16 -> 0 | L16: =SUM(I16:K16) -> 0 | M16: =ROUND((L16*$J$8)+L16,2) -> 0
A17: 3 | B17: DESINSETIZAÇÃO, DESRATIZAÇÃO E DESCUPINIZAÇÃO | L17: =L18 -> 0 | M17: =M18 -> 0
A18: 3.1 | B18: Desinsetização, desratização e descupinização | C18: UN | D18: 2 | H18: =SUM(E18:G18) -> 0 | I18: =D18*E18 -> 0 | J18: =D18*F18 -> 0 | K18: =D18*G18 -> 0 | L18: =SUM(I18:K18) -> 0 | M18: =ROUND((L18*$J$8)+L18,2) -> 0
A19: 4 | B19: RECARGA E MANUTENÇÃO DE EXTINTORES DE INCÊNDIO | L19: =L20 -> 0 | M19: =M20 -> 0
A20: 4.1 | B20: Recarga e manutenção de extintores de incêndio | C20: CJ | D20: 1 | H20: =SUM(E20:G20) -> 0 | I20: =D20*E20 -> 0 | J20: =D20*F20 -> 0 | K20: =D20*G20 -> 0 | L20: =SUM(I20:K20) -> 0 | M20: =ROUND((L20*$J$8)+L20,2) -> 0
A21: 5 | B21: LIMPEZA E MANUTENÇÃO DE PURIFICADORES DE ÁGUA | L21: =L22 -> 0 | M21: =M22 -> 0
A22: 5.1 | B22: Limpeza e manutenção de purificadores de água | C22: UN | D22: 24 | H22: =SUM(E22:G22) -> 0 | I22: =D22*E22 -> 0 | J22: =D22*F22 -> 0 | K22: =D22*G22 -> 0 | L22: =SUM(I22:K22) -> 0 | M22: =ROUND((L22*$J$8)+L22,2) -> 0
A23: 6 | B23: LAUDOS DE INSPEÇÃO SPDA E SUBESTAÇÕES | L23: =L24 -> 0 | M23: =M24 -> 0
A24: 6.1 | B24: Laudos de inspeção SPDA e subestações | C24: UN | D24: 1 | H24: =SUM(E24:G24) -> 0 | I24: =D24*E24 -> 0 | J24: =D24*F24 -> 0 | K24: =D24*G24 -> 0 | L24: =SUM(I24:K24) -> 0 | M24: =ROUND((L24*$J$8)+L24,2) -> 0
A25: 7 | B25: LAUDOS DE PONTOS DE ANCORAGEM | L25: =L26 -> 0 | M25: =M26 -> 0
A26: 7.1 | B26: Laudos de pontos de Ancoragem | C26: UN | D26: 1 | H26: =SUM(E26:G26) -> 0 | I26: =D26*E26 -> 0 | J26: =D26*F26 -> 0 | K26: =D26*G26 -> 0 | L26: =SUM(I26:K26) -> 0 | M26: =ROUND((L26*$J$8)+L26,2) -> 0
A27: 8 | B27: INSPEÇÃO PREDIAL | L27: =L28 -> 0 | M27: =M28 -> 0
A28: 8.1 | B28: Laudo de Inspeção predial | C28: UN | D28: 1 | H28: =SUM(E28:G28) -> 0 | I28: =D28*E28 -> 0 | J28: =D28*F28 -> 0 | K28: =D28*G28 -> 0 | L28: =SUM(I28:K28) -> 0 | M28: =ROUND((L28*$J$8)+L28,2) -> 0
A29: 9 | B29: MANUTENÇÃO PREDIAL | L29: =SUM(L30:L52) -> 0 | M29: =SUM(M30:M52) -> 0
A30: 9.1 | B30: REMOÇÃO CALHAS E RUFOS, DE FORMA MANUAL, SEM REAPROVEITAMENTO. AF_09/2023 - SINAPI 104803 (03/2025) | C30: M | D30: 104 | H30: =SUM(E30:G30) -> 0 | I30: =D30*E30 -> 0 | J30: =D30*F30 -> 0 | K30: =D30*G30 -> 0 | L30: =SUM(I30:K30) -> 0 | M30: =ROUND((L30*$J$8)+L30,2) -> 0
A31: 9.2 | B31: CALHA EM CHAPA DE AÇO GALVANIZADO NÚMERO 24, DESENVOLVIMENTO DE 50 CM, INCLUSO TRANSPORTE VERTICAL. AF_07/2019 - SINAPI 94228 (03/2025) | C31: M | D31: 54 | H31: =SUM(E31:G31) -> 0 | I31: =D31*E31 -> 0 | J31: =D31*F31 -> 0 | K31: =D31*G31 -> 0 | L31: =SUM(I31:K31) -> 0 | M31: =ROUND((L31*$J$8)+L31,2) -> 0
A32: 9.3 | B32: RUFO EXTERNO/INTERNO EM CHAPA DE AÇO GALVANIZADO NÚMERO 26, CORTE DE 33 CM, INCLUSO IÇAMENTO. AF_07/2019 - SINAPI 100327 (03/2025) | C32: M | D32: 73 | H32: =SUM(E32:G32) -> 0 | I32: =D32*E32 -> 0 | J32: =D32*F32 -> 0 | K32: =D32*G32 -> 0 | L32: =SUM(I32:K32) -> 0 | M32: =ROUND((L32*$J$8)+L32,2) -> 0
A33: 9.4 | B33: EMASSAMENTO COM MASSA LÁTEX, APLICAÇÃO EM TETO, UMA DEMÃO, LIXAMENTO MANUAL. AF_04/2023 - SINAPI 88494 (03/2025) | C33: M² | D33: =D38 -> 120 | H33: =SUM(E33:G33) -> 0 | I33: =D33*E33 -> 0 | J33: =D33*F33 -> 0 | K33: =D33*G33 -> 0 | L33: =SUM(I33:K33) -> 0 | M33: =ROUND((L33*$J$8)+L33,2) -> 0
A34: 9.5 | B34: EMASSAMENTO COM MASSA LÁTEX, APLICAÇÃO EM PAREDE, UMA DEMÃO, LIXAMENTO MANUAL. AF_04/2023 - SINAPI 88495 (03/2025) | C34: M² | D34: =D37 -> 500 | H34: =SUM(E34:G34) -> 0 | I34: =D34*E34 -> 0 | J34: =D34*F34 -> 0 | K34: =D34*G34 -> 0 | L34: =SUM(I34:K34) -> 0 | M34: =ROUND((L34*$J$8)+L34,2) -> 0
A35: 9.6 | B35: FUNDO SELADOR ACRÍLICO, APLICAÇÃO MANUAL EM TETO, UMA DEMÃO. AF_04/2023 - SINAPI 88484 (03/2025) | C35: M² | D35: =D38 -> 120 | H35: =SUM(E35:G35) -> 0 | I35: =D35*E35 -> 0 | J35: =D35*F35 -> 0 | K35: =D35*G35 -> 0 | L35: =SUM(I35:K35) -> 0 | M35: =ROUND((L35*$J$8)+L35,2) -> 0
A36: 9.7 | B36: FUNDO SELADOR ACRÍLICO, APLICAÇÃO MANUAL EM PAREDE, UMA DEMÃO. AF_04/2023 - SINAPI 88485 (03/2025) | C36: M² | D36: =D37 -> 500 | H36: =SUM(E36:G36) -> 0 | I36: =D36*E36 -> 0 | J36: =D36*F36 -> 0 | K36: =D36*G36 -> 0 | L36: =SUM(I36:K36) -> 0 | M36: =ROUND((L36*$J$8)+L36,2) -> 0
A37: 9.8 | B37: PINTURA LÁTEX ACRÍLICA PREMIUM, APLICAÇÃO MANUAL EM PAREDES, DUAS DEMÃOS. AF_04/2023 - SINAPI 88489 (03/2025) | C37: M² | D37: 500 | H37: =SUM(E37:G37) -> 0 | I37: =D37*E37 -> 0 | J37: =D37*F37 -> 0 | K37: =D37*G37 -> 0 | L37: =SUM(I37:K37) -> 0 | M37: =ROUND((L37*$J$8)+L37,2) -> 0
A38: 9.9 | B38: PINTURA LÁTEX ACRÍLICA PREMIUM, APLICAÇÃO MANUAL EM TETO, DUAS DEMÃOS. AF_04/2023 - SINAPI 88488 (03/2025) | C38: M² | D38: 120 | H38: =SUM(E38:G38) -> 0 | I38: =D38*E38 -> 0 | J38: =D38*F38 -> 0 | K38: =D38*G38 -> 0 | L38: =SUM(I38:K38) -> 0 | M38: =ROUND((L38*$J$8)+L38,2) -> 0
A39: 9.10 | B39: PINTURA DE DEMARCAÇÃO DE VAGA COM TINTA ACRÍLICA, E = 10 CM, APLICAÇÃO MANUAL. AF_05/2021 - SINAPI 102500 (03/2025) | C39: M | D39: 100 | H39: =SUM(E39:G39) -> 0 | I39: =D39*E39 -> 0 | J39: =D39*F39 -> 0 | K39: =D39*G39 -> 0 | L39: =SUM(I39:K39) -> 0 | M39: =ROUND((L39*$J$8)+L39,2) -> 0
A40: 9.11 | B40: APLICAÇÃO MANUAL DE PINTURA COM TINTA TEXTURIZADA ACRÍLICA EM PANOS COM PRESENÇA DEVÃOS DE EDIFÍCIOS DE MÚLTIPLOS PAVIMENTOS, DUAS CORES. AF_03/2024 - SINAPI 88424 (03/2025) | C40: M² | D40: 2200 | H40: =SUM(E40:G40) -> 0 | I40: =D40*E40 -> 0 | J40: =D40*F40 -> 0 | K40: =D40*G40 -> 0 | L40: =SUM(I40:K40) -> 0 | M40: =ROUND((L40*$J$8)+L40,2) -> 0
A41: 9.12 | B41: LUMINÁRIA DE EMERGÊNCIA, COM 30 LÂMPADAS LED DE 2 W, SEM REATOR - FORNECIMENTO E INSTALAÇÃO. AF_02/2020 - SINAPI 97599 (03/2025) | C41: UN | D41: 10 | H41: =SUM(E41:G41) -> 0 | I41: =D41*E41 -> 0 | J41: =D41*F41 -> 0 | K41: =D41*G41 -> 0 | L41: =SUM(I41:K41) -> 0 | M41: =ROUND((L41*$J$8)+L41,2) -> 0
A42: 9.13 | B42: LÂMPADA TUBULAR LED DE 18/20 W, BASE G13 - FORNECIMENTO E INSTALAÇÃO. AF_02/2020_PS - SINAPI 100903 (03/2025) | C42: UN | D42: 30 | H42: =SUM(E42:G42) -> 0 | I42: =D42*E42 -> 0 | J42: =D42*F42 -> 0 | K42: =D42*G42 -> 0 | L42: =SUM(I42:K42) -> 0 | M42: =ROUND((L42*$J$8)+L42,2) -> 0
A43: 9.14 | B43: LÂMPADA COMPACTA DE LED 10 W, BASE E27 - FORNECIMENTO E INSTALAÇÃO. AF_02/2020 - SINAPI 97610 (03/2025) | C43: UN | D43: 15 | H43: =SUM(E43:G43) -> 0 | I43: =D43*E43 -> 0 | J43: =D43*F43 -> 0 | K43: =D43*G43 -> 0 | L43: =SUM(I43:K43) -> 0 | M43: =ROUND((L43*$J$8)+L43,2) -> 0
A44: 9.15 | B44: VÁLVULA DE DESCARGA METÁLICA, BASE 1 1/2", ACABAMENTO METALICO CROMADO - FORNECIMENTO E INSTALAÇÃO. AF_08/2021 - SINAPI 99635 (03/2025) | C44: UN | D44: 8 | H44: =SUM(E44:G44) -> 0 | I44: =D44*E44 -> 0 | J44: =D44*F44 -> 0 | K44: =D44*G44 -> 0 | L44: =SUM(I44:K44) -> 0 | M44: =ROUND((L44*$J$8)+L44,2) -> 0
...

Sheet Sede Centro (Curitiba)
A1: PLANILHA DE CUSTOS E FORMAÇÃO DE PREÇOS
A2: Local: Sede Administrativa (Curitiba)
A3: Endereço: Rua Comendador Araújo, n.º 551
A5: Pregão Eletrônico n.º:
A6: Data: | C6: Horário:
I8: BDI | J8: =C47 -> 0
A11: ITEM | B11: DESCRIÇÃO DO SERVIÇO | C11: UNIDADE DE MEDIDA | D11: QUANTI DADE | E11: VALORES (R$)
E12: MATERIAL | F12: MÃO DE OBRA | G12: EQUIPAMENTO | H12: TOTAL UNITÁRIO | I12: TOTAL MATERIAL | J12: TOTAL MÃO DE OBRA | K12: TOTAL EQUIPAMENTO | L12: TOTAL SEM BDI | M12: TOTAL COM BDI
A13: 1 | B13: JARDINAGEM E MANUTENÇÃO DE PAISAGISMO | L13: =L14 -> 0 | M13: =M14 -> 0
A14: 1.1 | B14: Jardinagem e manutenção de paisagismo | C14: MÊS | D14: 0 | H14: =SUM(E14:G14) -> 0 | I14: =D14*E14 -> 0 | J14: =D14*F14 -> 0 | K14: =D14*G14 -> 0 | L14: =SUM(I14:K14) -> 0 | M14: =ROUND((L14*$J$8)+L14,2) -> 0
A15: 2 | B15: LIMPEZA E DESINFECÇÃO DE RESERVATÓRIOS DE ÁGUA | L15: =L16 -> 0 | M15: =M16 -> 0
A16: 2.1 | B16: Limpeza e desinfecção de reservatórios de água | C16: UN | D16: 0 | H16: =SUM(E16:G16) -> 0 | I16: =D16*E16 -> 0 | J16: =D16*F16 -> 0 | K16: =D16*G16 -> 0 | L16: =SUM(I16:K16) -> 0 | M16: =ROUND((L16*$J$8)+L16,2) -> 0
A17: 3 | B17: DESINSETIZAÇÃO, DESRATIZAÇÃO E DESCUPINIZAÇÃO | L17: =L18 -> 0 | M17: =M18 -> 0
A18: 3.1 | B18: Desinsetização, desratização e descupinização | C18: UN | D18: 0 | H18: =SUM(E18:G18) -> 0 | I18: =D18*E18 -> 0 | J18: =D18*F18 -> 0 | K18: =D18*G18 -> 0 | L18: =SUM(I18:K18) -> 0 | M18: =ROUND((L18*$J$8)+L18,2) -> 0
A19: 4 | B19: RECARGA E MANUTENÇÃO DE EXTINTORES DE INCÊNDIO | L19: =L20 -> 0 | M19: =M20 -> 0
A20: 4.1 | B20: Recarga e manutenção de extintores de incêndio | C20: CJ | D20: 1 | H20: =SUM(E20:G20) -> 0 | I20: =D20*E20 -> 0 | J20: =D20*F20 -> 0 | K20: =D20*G20 -> 0 | L20: =SUM(I20:K20) -> 0 | M20: =ROUND((L20*$J$8)+L20,2) -> 0
A21: 5 | B21: LIMPEZA E MANUTENÇÃO DE PURIFICADORES DE ÁGUA | L21: =L22 -> 0 | M21: =M22 -> 0
A22: 5.1 | B22: Limpeza e manutenção de purificadores de água | C22: UN | D22: 0 | H22: =SUM(E22:G22) -> 0 | I22: =D22*E22 -> 0 | J22: =D22*F22 -> 0 | K22: =D22*G22 -> 0 | L22: =SUM(I22:K22) -> 0 | M22: =ROUND((L22*$J$8)+L22,2) -> 0
A23: 6 | B23: LAUDOS DE INSPEÇÃO SPDA E SUBESTAÇÕES | L23: =L24 -> 0 | M23: =M24 -> 0
A24: 6.1 | B24: Laudos de inspeção SPDA e subestações | C24: UN | D24: 0 | H24: =SUM(E24:G24) -> 0 | I24: =D24*E24 -> 0 | J24: =D24*F24 -> 0 | K24: =D24*G24 -> 0 | L24: =SUM(I24:K24) -> 0 | M24: =ROUND((L24*$J$8)+L24,2) -> 0
A25: 7 | B25: LAUDOS DE PONTOS DE ANCORAGEM | L25: =L26 -> 0 | M25: =M26 -> 0
A26: 7.1 | B26: Laudos de pontos de Ancoragem | C26: UN | D26: 0 | H26: =SUM(E26:G26) -> 0 | I26: =D26*E26 -> 0 | J26: =D26*F26 -> 0 | K26: =D26*G26 -> 0 | L26: =SUM(I26:K26) -> 0 | M26: =ROUND((L26*$J$8)+L26,2) -> 0
A27: 8 | B27: INSPEÇÃO PREDIAL | L27: =L28 -> 0 | M27: =M28 -> 0
A28: 8.1 | B28: Laudo de Inspeção predial | C28: UN | D28: 0 | H28: =SUM(E28:G28) -> 0 | I28: =D28*E28 -> 0 | J28: =D28*F28 -> 0 | K28: =D28*G28 -> 0 | L28: =SUM(I28:K28) -> 0 | M28: =ROUND((L28*$J$8)+L28,2) -> 0
A29: 9 | B29: MANUTENÇÃO PREDIAL | L29: =SUM(L30:L30) -> 0 | M29: =SUM(M30:M30) -> 0
A30: - | B30: - | C30: - | D30: 0 | H30: =SUM(E30:G30) -> 0 | I30: =D30*E30 -> 0 | J30: =D30*F30 -> 0 | K30: =D30*G30 -> 0 | L30: =SUM(I30:K30) -> 0 | M30: =ROUND((L30*$J$8)+L30,2) -> 0
M31: =M13+M15+M17+M19+M21+M23+M25+M29 -> 0
A33: BENEFÍCIOS E DESPESAS INDIRETAS (BDI)
A35: ITEM | B35: DISCRIMINAÇÃO | C35: TAXA BDI (%)
A37: 1 | B37: A – ADMINISTRAÇÃO CENTRAL
A38: 2 | B38: SG – seguros + garantias
A39: 3 | B39: R – riscos
A40: 4 | B40: F – despesas financeiras
A41: 5 | B41: L – lucro bruto
A42: 6 | B42: T - tributos
A43: 6.1 | B43: COFINS
A44: 6.2 | B44: PIS
A45: 6.3 | B45: Contribuição Previdenciária sobre Receita Bruta (CPRB)
A46: 6.4 | B46: ISS (Conforme Legislação Municipal)
A47: Fórmula BDI*
...

Sheet Regional Curitiba
A1: PLANILHA DE CUSTOS E FORMAÇÃO DE PREÇOS
A2: Local: Regional Curitiba
A3: Endereço: Avenida Victor Ferreira do Amaral, 306, térreo/1º andar
A5: Pregão Eletrônico n.º:
A6: Data: | C6: Horário:
I8: BDI | J8: =C52 -> 0
A11: ITEM | B11: DESCRIÇÃO DO SERVIÇO | C11: UNIDADE DE MEDIDA | D11: QUANTI DADE | E11: VALORES (R$)
E12: MATERIAL | F12: MÃO DE OBRA | G12: EQUIPAMENTO | H12: TOTAL UNITÁRIO | I12: TOTAL MATERIAL | J12: TOTAL MÃO DE OBRA | K12: TOTAL EQUIPAMENTO | L12: TOTAL SEM BDI | M12: TOTAL COM BDI
A13: 1 | B13: JARDINAGEM E MANUTENÇÃO DE PAISAGISMO | L13: =L14 -> 0 | M13: =M14 -> 0
A14: 1.1 | B14: Jardinagem e manutenção de paisagismo | C14: MÊS | D14: 0 | H14: =SUM(E14:G14) -> 0 | I14: =D14*E14 -> 0 | J14: =D14*F14 -> 0 | K14: =D14*G14 -> 0 | L14: =SUM(I14:K14) -> 0 | M14: =ROUND((L14*$J$8)+L14,2) -> 0
A15: 2 | B15: LIMPEZA E DESINFECÇÃO DE RESERVATÓRIOS DE ÁGUA | L15: =L16 -> 0 | M15: =M16 -> 0
A16: 2.1 | B16: Limpeza e desinfecção de reservatórios de água | C16: UN | D16: 0 | H16: =SUM(E16:G16) -> 0 | I16: =D16*E16 -> 0 | J16: =D16*F16 -> 0 | K16: =D16*G16 -> 0 | L16: =SUM(I16:K16) -> 0 | M16: =ROUND((L16*$J$8)+L16,2) -> 0
A17: 3 | B17: DESINSETIZAÇÃO, DESRATIZAÇÃO E DESCUPINIZAÇÃO | L17: =L18 -> 0 | M17: =M18 -> 0
A18: 3.1 | B18: Desinsetização, desratização e descupinização | C18: UN | D18: 2 | H18: =SUM(E18:G18) -> 0 | I18: =D18*E18 -> 0 | J18: =D18*F18 -> 0 | K18: =D18*G18 -> 0 | L18: =SUM(I18:K18) -> 0 | M18: =ROUND((L18*$J$8)+L18,2) -> 0
A19: 4 | B19: RECARGA E MANUTENÇÃO DE EXTINTORES DE INCÊNDIO | L19: =L20 -> 0 | M19: =M20 -> 0
A20: 4.1 | B20: Recarga e manutenção de extintores de incêndio | C20: CJ | D20: 0 | H20: =SUM(E20:G20) -> 0 | I20: =D20*E20 -> 0 | J20: =D20*F20 -> 0 | K20: =D20*G20 -> 0 | L20: =SUM(I20:K20) -> 0 | M20: =ROUND((L20*$J$8)+L20,2) -> 0
A21: 5 | B21: LIMPEZA E MANUTENÇÃO DE PURIFICADORES DE ÁGUA | L21: =L22 -> 0 | M21: =M22 -> 0
A22: 5.1 | B22: Limpeza e manutenção de purificadores de água | C22: UN | D22: 9 | H22: =SUM(E22:G22) -> 0 | I22: =D22*E22 -> 0 | J22: =D22*F22 -> 0 | K22: =D22*G22 -> 0 | L22: =SUM(I22:K22) -> 0 | M22: =ROUND((L22*$J$8)+L22,2) -> 0
A23: 6 | B23: LAUDOS DE INSPEÇÃO SPDA E SUBESTAÇÕES | L23: =L24 -> 0 | M23: =M24 -> 0
A24: 6.1 | B24: Laudos de inspeção SPDA e subestações | C24: UN | D24: 0 | H24: =SUM(E24:G24) -> 0 | I24: =D24*E24 -> 0 | J24: =D24*F24 -> 0 | K24: =D24*G24 -> 0 | L24: =SUM(I24:K24) -> 0 | M24: =ROUND((L24*$J$8)+L24,2) -> 0
A25: 7 | B25: LAUDOS DE PONTOS DE ANCORAGEM | L25: =L26 -> 0 | M25: =M26 -> 0
A26: 7.1 | B26: Laudos de pontos de Ancoragem | C26: UN | D26: 0 | H26: =SUM(E26:G26) -> 0 | I26: =D26*E26 -> 0 | J26: =D26*F26 -> 0 | K26: =D26*G26 -> 0 | L26: =SUM(I26:K26) -> 0 | M26: =ROUND((L26*$J$8)+L26,2) -> 0
A27: 8 | B27: INSPEÇÃO PREDIAL | L27: =L28 -> 0 | M27: =M28 -> 0
A28: 8.1 | B28: Laudo de Inspeção predial | C28: UN | D28: 1 | H28: =SUM(E28:G28) -> 0 | I28: =D28*E28 -> 0 | J28: =D28*F28 -> 0 | K28: =D28*G28 -> 0 | L28: =SUM(I28:K28) -> 0 | M28: =ROUND((L28*$J$8)+L28,2) -> 0
A29: 9 | B29: MANUTENÇÃO PREDIAL | L29: =SUM(L32:L35) -> 0 | M29: =SUM(M32:M35) -> 0
A30: 9.1 | B30: EMASSAMENTO COM MASSA LÁTEX, APLICAÇÃO EM PAREDE, UMA DEMÃO, LIXAMENTO MANUAL. AF_04/2023 - SINAPI 88495 (03/2025) | C30: M² | D30: =D31 -> 500 | H30: =SUM(E30:G30) -> 0 | I30: =D30*E30 -> 0 | J30: =D30*F30 -> 0 | K30: =D30*G30 -> 0 | L30: =SUM(I30:K30) -> 0 | M30: =ROUND((L30*$J$8)+L30,2) -> 0
A31: 9.2 | B31: FUNDO SELADOR ACRÍLICO, APLICAÇÃO MANUAL EM PAREDE, UMA DEMÃO. AF_04/2023 - SINAPI 88485 (03/2025) | C31: M² | D31: =D32 -> 500 | H31: =SUM(E31:G31) -> 0 | I31: =D31*E31 -> 0 | J31: =D31*F31 -> 0 | K31: =D31*G31 -> 0 | L31: =SUM(I31:K31) -> 0 | M31: =ROUND((L31*$J$8)+L31,2) -> 0
A32: 9.3 | B32: PINTURA LÁTEX ACRÍLICA PREMIUM, APLICAÇÃO MANUAL EM PAREDES, DUAS DEMÃOS. AF_04/2023 - SINAPI 88489 (03/2025) | C32: M² | D32: 500 | H32: =SUM(E32:G32) -> 0 | I32: =D32*E32 -> 0 | J32: =D32*F32 -> 0 | K32: =D32*G32 -> 0 | L32: =SUM(I32:K32) -> 0 | M32: =ROUND((L32*$J$8)+L32,2) -> 0
A33: 9.4 | B33: LUMINÁRIA DE EMERGÊNCIA, COM 30 LÂMPADAS LED DE 2 W, SEM REATOR - FORNECIMENTO E INSTALAÇÃO. AF_02/2020 - SINAPI 97599 (03/2025) | C33: UN | D33: 2 | H33: =SUM(E33:G33) -> 0 | I33: =D33*E33 -> 0 | J33: =D33*F33 -> 0 | K33: =D33*G33 -> 0 | L33: =SUM(I33:K33) -> 0 | M33: =ROUND((L33*$J$8)+L33,2) -> 0
A34: 9.5 | B34: LÂMPADA TUBULAR DE 18/20 W, BASE G5 - FORNECIMENTO E INSTALAÇÃO. AF_02/2020_PS - SINAPI 100903 (03/2025) -ADAPTADO | C34: UN | D34: 30 | H34: =SUM(E34:G34) -> 0 | I34: =D34*E34 -> 0 | J34: =D34*F34 -> 0 | K34: =D34*G34 -> 0 | L34: =SUM(I34:K34) -> 0 | M34: =ROUND((L34*$J$8)+L34,2) -> 0
A35: 9.6 | B35: TORNEIRA PARA LAVATORIO DE MESA PRESSMATIC BENEFIT DA DOCOL OU SIMILAR - AGESUL 2401001017 (01/2025) | C35: UN | D35: 1 | H35: =SUM(E35:G35) -> 0 | I35: =D35*E35 -> 0 | J35: =D35*F35 -> 0 | K35: =D35*G35 -> 0 | L35: =SUM(I35:K35) -> 0 | M35: =ROUND((L35*$J$8)+L35,2) -> 0
M36: =M13+M15+M17+M19+M21+M23+M25+M29 -> 0
A38: BENEFÍCIOS E DESPESAS INDIRETAS (BDI)
A40: ITEM | B40: DISCRIMINAÇÃO | C40: TAXA BDI (%)
A42: 1 | B42: A – ADMINISTRAÇÃO CENTRAL
A43: 2 | B43: SG – seguros + garantias
A44: 3 | B44: R – riscos
A45: 4 | B45: F – despesas financeiras
A46: 5 | B46: L – lucro bruto
A47: 6 | B47: T - tributos
...

Sheet Curitiba - Posto Água Verde
A1: PLANILHA DE CUSTOS E FORMAÇÃO DE PREÇOS
A2: Local: Posto Água Verde
A3: Endereço: Avenida Presidente Kennedy, 3115, loja 02
A5: Pregão Eletrônico n.º:
A6: Data: | C6: Horário:
I8: BDI | J8: =C52 -> 0
A11: ITEM | B11: DESCRIÇÃO DO SERVIÇO | C11: UNIDADE DE MEDIDA | D11: QUANTI DADE | E11: VALORES (R$)
E12: MATERIAL | F12: MÃO DE OBRA | G12: EQUIPAMENTO | H12: TOTAL UNITÁRIO | I12: TOTAL MATERIAL | J12: TOTAL MÃO DE OBRA | K12: TOTAL EQUIPAMENTO | L12: TOTAL SEM BDI | M12: TOTAL COM BDI
A13: 1 | B13: JARDINAGEM E MANUTENÇÃO DE PAISAGISMO | L13: =L14 -> 0 | M13: =M14 -> 0
A14: 1.1 | B14: Jardinagem e manutenção de paisagismo | C14: MÊS | D14: 0 | H14: =SUM(E14:G14) -> 0 | I14: =D14*E14 -> 0 | J14: =D14*F14 -> 0 | K14: =D14*G14 -> 0 | L14: =SUM(I14:K14) -> 0 | M14: =ROUND((L14*$J$8)+L14,2) -> 0
A15: 2 | B15: LIMPEZA E DESINFECÇÃO DE RESERVATÓRIOS DE ÁGUA | L15: =L16 -> 0 | M15: =M16 -> 0
A16: 2.1 | B16: Limpeza e desinfecção de reservatórios de água | C16: UN | D16: 0 | H16: =SUM(E16:G16) -> 0 | I16: =D16*E16 -> 0 | J16: =D16*F16 -> 0 | K16: =D16*G16 -> 0 | L16: =SUM(I16:K16) -> 0 | M16: =ROUND((L16*$J$8)+L16,2) -> 0
A17: 3 | B17: DESINSETIZAÇÃO, DESRATIZAÇÃO E DESCUPINIZAÇÃO | L17: =L18 -> 0 | M17: =M18 -> 0
A18: 3.1 | B18: Desinsetização, desratização e descupinização | C18: UN | D18: 2 | H18: =SUM(E18:G18) -> 0 | I18: =D18*E18 -> 0 | J18: =D18*F18 -> 0 | K18: =D18*G18 -> 0 | L18: =SUM(I18:K18) -> 0 | M18: =ROUND((L18*$J$8)+L18,2) -> 0
A19: 4 | B19: RECARGA E MANUTENÇÃO DE EXTINTORES DE INCÊNDIO | L19: =L20 -> 0 | M19: =M20 -> 0
A20: 4.1 | B20: Recarga e manutenção de extintores de incêndio | C20: CJ | D20: 1 | H20: =SUM(E20:G20) -> 0 | I20: =D20*E20 -> 0 | J20: =D20*F20 -> 0 | K20: =D20*G20 -> 0 | L20: =SUM(I20:K20) -> 0 | M20: =ROUND((L20*$J$8)+L20,2) -> 0
A21: 5 | B21: LIMPEZA E MANUTENÇÃO DE PURIFICADORES DE ÁGUA | L21: =L22 -> 0 | M21: =M22 -> 0
A22: 5.1 | B22: Limpeza e manutenção de purificadores de água | C22: UN | D22: 3 | H22: =SUM(E22:G22) -> 0 | I22: =D22*E22 -> 0 | J22: =D22*F22 -> 0 | K22: =D22*G22 -> 0 | L22: =SUM(I22:K22) -> 0 | M22: =ROUND((L22*$J$8)+L22,2) -> 0
A23: 6 | B23: LAUDOS DE INSPEÇÃO SPDA E SUBESTAÇÕES | L23: =L24 -> 0 | M23: =M24 -> 0
A24: 6.1 | B24: Laudos de inspeção SPDA e subestações | C24: UN | D24: 0 | H24: =SUM(E24:G24) -> 0 | I24: =D24*E24 -> 0 | J24: =D24*F24 -> 0 | K24: =D24*G24 -> 0 | L24: =SUM(I24:K24) -> 0 | M24: =ROUND((L24*$J$8)+L24,2) -> 0
A25: 7 | B25: LAUDOS DE PONTOS DE ANCORAGEM | L25: =L26 -> 0 | M25: =M26 -> 0
A26: 7.1 | B26: Laudos de pontos de Ancoragem | C26: UN | D26: 0 | H26: =SUM(E26:G26) -> 0 | I26: =D26*E26 -> 0 | J26: =D26*F26 -> 0 | K26: =D26*G26 -> 0 | L26: =SUM(I26:K26) -> 0 | M26: =ROUND((L26*$J$8)+L26,2) -> 0
A27: 8 | B27: INSPEÇÃO PREDIAL | L27: =L28 -> 0 | M27: =M28 -> 0
A28: 8.1 | B28: Laudo de Inspeção predial | C28: UN | D28: 1 | H28: =SUM(E28:G28) -> 0 | I28: =D28*E28 -> 0 | J28: =D28*F28 -> 0 | K28: =D28*G28 -> 0 | L28: =SUM(I28:K28) -> 0 | M28: =ROUND((L28*$J$8)+L28,2) -> 0
A29: 9 | B29: MANUTENÇÃO PREDIAL | L29: =SUM(L32:L35) -> 0 | M29: =SUM(M32:M35) -> 0
A30: 9.1 | B30: EMASSAMENTO COM MASSA LÁTEX, APLICAÇÃO EM PAREDE, UMA DEMÃO, LIXAMENTO MANUAL. AF_04/2023 - SINAPI 88495 (03/2025) | C30: M² | D30: =D31 -> 166 | H30: =SUM(E30:G30) -> 0 | I30: =D30*E30 -> 0 | J30: =D30*F30 -> 0 | K30: =D30*G30 -> 0 | L30: =SUM(I30:K30) -> 0 | M30: =ROUND((L30*$J$8)+L30,2) -> 0
A31: 9.2 | B31: FUNDO SELADOR ACRÍLICO, APLICAÇÃO MANUAL EM PAREDE, UMA DEMÃO. AF_04/2023 - SINAPI 88485 (03/2025) | C31: M² | D31: =D32 -> 166 | H31: =SUM(E31:G31) -> 0 | I31: =D31*E31 -> 0 | J31: =D31*F31 -> 0 | K31: =D31*G31 -> 0 | L31: =SUM(I31:K31) -> 0 | M31: =ROUND((L31*$J$8)+L31,2) -> 0
A32: 9.3 | B32: PINTURA LÁTEX ACRÍLICA PREMIUM, APLICAÇÃO MANUAL EM PAREDES, DUAS DEMÃOS. AF_04/2023 - SINAPI 88489 (03/2025) | C32: M² | D32: 166 | H32: =SUM(E32:G32) -> 0 | I32: =D32*E32 -> 0 | J32: =D32*F32 -> 0 | K32: =D32*G32 -> 0 | L32: =SUM(I32:K32) -> 0 | M32: =ROUND((L32*$J$8)+L32,2) -> 0
A33: 9.4 | B33: LÂMPADA TUBULAR LED DE 9/10 W, COM SOQUETE, BASE G13 - FORNECIMENTO E INSTALAÇÃO. AF_09/2024_PS - SINAPI 100902 (03/2025) | C33: UN | D33: 16 | H33: =SUM(E33:G33) -> 0 | I33: =D33*E33 -> 0 | J33: =D33*F33 -> 0 | K33: =D33*G33 -> 0 | L33: =SUM(I33:K33) -> 0 | M33: =ROUND((L33*$J$8)+L33,2) -> 0
A34: 9.5 | B34: VEDAÇÃO DE ESQUADRIAS COM APLICAÇÃO DE SELANTE À BASE DE SILICONE - SETOP - ED-50992 (01/2025) | C34: M | D34: 100 | H34: =SUM(E34:G34) -> 0 | I34: =D34*E34 -> 0 | J34: =D34*F34 -> 0 | K34: =D34*G34 -> 0 | L34: =SUM(I34:K34) -> 0 | M34: =ROUND((L34*$J$8)+L34,2) -> 0
A35: 9.6 | B35: TORNEIRA PARA LAVATORIO DE MESA PRESSMATIC BENEFIT DA DOCOL OU SIMILAR - AGESUL 2401001017 (01/2025) | C35: UN | D35: 1 | H35: =SUM(E35:G35) -> 0 | I35: =D35*E35 -> 0 | J35: =D35*F35 -> 0 | K35: =D35*G35 -> 0 | L35: =SUM(I35:K35) -> 0 | M35: =ROUND((L35*$J$8)+L35,2) -> 0
M36: =M13+M15+M17+M19+M21+M23+M25+M29 -> 0
A38: BENEFÍCIOS E DESPESAS INDIRETAS (BDI)
A40: ITEM | B40: DISCRIMINAÇÃO | C40: TAXA BDI (%)
A42: 1 | B42: A – ADMINISTRAÇÃO CENTRAL
A43: 2 | B43: SG – seguros + garantias
A44: 3 | B44: R – riscos
A45: 4 | B45: F – despesas financeiras
A46: 5 | B46: L – lucro bruto
A47: 6 | B47: T - tributos
...

Sheet Terreno Mateus Leme
A1: PLANILHA DE CUSTOS E FORMAÇÃO DE PREÇOS
A2: Local: Terreno Mateus Leme
A3: Endereço:
A5: Pregão Eletrônico n.º:
A6: Data: | C6: Horário:
I8: BDI | J8: =C47 -> 0
A11: ITEM | B11: DESCRIÇÃO DO SERVIÇO | C11: UNIDADE DE MEDIDA | D11: QUANTI DADE | E11: VALORES (R$)
E12: MATERIAL | F12: MÃO DE OBRA | G12: EQUIPAMENTO | H12: TOTAL UNITÁRIO | I12: TOTAL MATERIAL | J12: TOTAL MÃO DE OBRA | K12: TOTAL EQUIPAMENTO | L12: TOTAL SEM BDI | M12: TOTAL COM BDI
A13: 1 | B13: JARDINAGEM E MANUTENÇÃO DE PAISAGISMO | L13: =L14 -> 0 | M13: =M14 -> 0
A14: 1.1 | B14: Jardinagem e manutenção de paisagismo | C14: MÊS | D14: 12 | H14: =SUM(E14:G14) -> 0 | I14: =D14*E14 -> 0 | J14: =D14*F14 -> 0 | K14: =D14*G14 -> 0 | L14: =SUM(I14:K14) -> 0 | M14: =ROUND((L14*$J$8)+L14,2) -> 0
A15: 2 | B15: LIMPEZA E DESINFECÇÃO DE RESERVATÓRIOS DE ÁGUA | L15: =L16 -> 0 | M15: =M16 -> 0
A16: 2.1 | B16: Limpeza e desinfecção de reservatórios de água | C16: UN | D16: 0 | H16: =SUM(E16:G16) -> 0 | I16: =D16*E16 -> 0 | J16: =D16*F16 -> 0 | K16: =D16*G16 -> 0 | L16: =SUM(I16:K16) -> 0 | M16: =ROUND((L16*$J$8)+L16,2) -> 0
A17: 3 | B17: DESINSETIZAÇÃO, DESRATIZAÇÃO E DESCUPINIZAÇÃO | L17: =L18 -> 0 | M17: =M18 -> 0
A18: 3.1 | B18: Desinsetização, desratização e descupinização | C18: UN | D18: 0 | H18: =SUM(E18:G18) -> 0 | I18: =D18*E18 -> 0 | J18: =D18*F18 -> 0 | K18: =D18*G18 -> 0 | L18: =SUM(I18:K18) -> 0 | M18: =ROUND((L18*$J$8)+L18,2) -> 0
A19: 4 | B19: RECARGA E MANUTENÇÃO DE EXTINTORES DE INCÊNDIO | L19: =L20 -> 0 | M19: =M20 -> 0
A20: 4.1 | B20: Recarga e manutenção de extintores de incêndio | C20: CJ | D20: 0 | H20: =SUM(E20:G20) -> 0 | I20: =D20*E20 -> 0 | J20: =D20*F20 -> 0 | K20: =D20*G20 -> 0 | L20: =SUM(I20:K20) -> 0 | M20: =ROUND((L20*$J$8)+L20,2) -> 0
A21: 5 | B21: LIMPEZA E MANUTENÇÃO DE PURIFICADORES DE ÁGUA | L21: =L22 -> 0 | M21: =M22 -> 0
A22: 5.1 | B22: Limpeza e manutenção de purificadores de água | C22: UN | D22: 0 | H22: =SUM(E22:G22) -> 0 | I22: =D22*E22 -> 0 | J22: =D22*F22 -> 0 | K22: =D22*G22 -> 0 | L22: =SUM(I22:K22) -> 0 | M22: =ROUND((L22*$J$8)+L22,2) -> 0
A23: 6 | B23: LAUDOS DE INSPEÇÃO SPDA E SUBESTAÇÕES | L23: =L24 -> 0 | M23: =M24 -> 0
A24: 6.1 | B24: Laudos de inspeção SPDA e subestações | C24: UN | D24: 0 | H24: =SUM(E24:G24) -> 0 | I24: =D24*E24 -> 0 | J24: =D24*F24 -> 0 | K24: =D24*G24 -> 0 | L24: =SUM(I24:K24) -> 0 | M24: =ROUND((L24*$J$8)+L24,2) -> 0
A25: 7 | B25: LAUDOS DE PONTOS DE ANCORAGEM | L25: =L26 -> 0 | M25: =M26 -> 0
A26: 7.1 | B26: Laudos de pontos de Ancoragem | C26: UN | D26: 0 | H26: =SUM(E26:G26) -> 0 | I26: =D26*E26 -> 0 | J26: =D26*F26 -> 0 | K26: =D26*G26 -> 0 | L26: =SUM(I26:K26) -> 0 | M26: =ROUND((L26*$J$8)+L26,2) -> 0
A27: 8 | B27: INSPEÇÃO PREDIAL | L27: =L28 -> 0 | M27: =M28 -> 0
A28: 8.1 | B28: Laudo de Inspeção predial | C28: UN | D28: 0 | H28: =SUM(E28:G28) -> 0 | I28: =D28*E28 -> 0 | J28: =D28*F28 -> 0 | K28: =D28*G28 -> 0 | L28: =SUM(I28:K28) -> 0 | M28: =ROUND((L28*$J$8)+L28,2) -> 0
A29: 9 | B29: MANUTENÇÃO PREDIAL | L29: =SUM(L30:L30) -> 0 | M29: =SUM(M30:M30) -> 0
A30: - | B30: - | C30: - | D30: - | H30: =SUM(E30:G30) -> 0 | I30: 0 | J30: 0 | K30: 0 | L30: =SUM(I30:K30) -> 0 | M30: =ROUND((L30*$J$8)+L30,2) -> 0
M31: =M13+M15+M17+M19+M21+M23+M25+M29 -> 0
A33: BENEFÍCIOS E DESPESAS INDIRETAS (BDI)
A35: ITEM | B35: DISCRIMINAÇÃO | C35: TAXA BDI (%)
A37: 1 | B37: A – ADMINISTRAÇÃO CENTRAL
A38: 2 | B38: SG – seguros + garantias
A39: 3 | B39: R – riscos
A40: 4 | B40: F – despesas financeiras
A41: 5 | B41: L – lucro bruto
A42: 6 | B42: T - tributos
A43: 6.1 | B43: COFINS
A44: 6.2 | B44: PIS
A45: 6.3 | B45: Contribuição Previdenciária sobre Receita Bruta (CPRB)
A46: 6.4 | B46: ISS (Conforme Legislação Municipal)
A47: Fórmula BDI*
...

Sheet Apucarana
A1: PLANILHA DE CUSTOS E FORMAÇÃO DE PREÇOS
A2: Local: Regional Apucarana
A3: Endereço: Rua Guarapuava, 580
A5: Pregão Eletrônico n.º:
A6: Data: | C6: Horário:
I8: BDI | J8: =C63 -> 0
A11: ITEM | B11: DESCRIÇÃO DO SERVIÇO | C11: UNIDADE DE MEDIDA | D11: QUANTI DADE | E11: VALORES (R$)
E12: MATERIAL | F12: MÃO DE OBRA | G12: EQUIPAMENTO | H12: TOTAL UNITÁRIO | I12: TOTAL MATERIAL | J12: TOTAL MÃO DE OBRA | K12: TOTAL EQUIPAMENTO | L12: TOTAL SEM BDI | M12: TOTAL COM BDI
A13: 1 | B13: JARDINAGEM E MANUTENÇÃO DE PAISAGISMO | L13: =L14 -> 0 | M13: =M14 -> 0
A14: 1.1 | B14: Jardinagem e manutenção de paisagismo | C14: MÊS | D14: 12 | H14: =SUM(E14:G14) -> 0 | I14: =D14*E14 -> 0 | J14: =D14*F14 -> 0 | K14: =D14*G14 -> 0 | L14: =SUM(I14:K14) -> 0 | M14: =ROUND((L14*$J$8)+L14,2) -> 0
A15: 2 | B15: LIMPEZA E DESINFECÇÃO DE RESERVATÓRIOS DE ÁGUA | L15: =L16 -> 0 | M15: =M16 -> 0
A16: 2.1 | B16: Limpeza e desinfecção de reservatórios de água | C16: UN | D16: 1 | H16: =SUM(E16:G16) -> 0 | I16: =D16*E16 -> 0 | J16: =D16*F16 -> 0 | K16: =D16*G16 -> 0 | L16: =SUM(I16:K16) -> 0 | M16: =ROUND((L16*$J$8)+L16,2) -> 0
A17: 3 | B17: DESINSETIZAÇÃO, DESRATIZAÇÃO E DESCUPINIZAÇÃO | L17: =L18 -> 0 | M17: =M18 -> 0
A18: 3.1 | B18: Desinsetização, desratização e descupinização | C18: UN | D18: 2 | H18: =SUM(E18:G18) -> 0 | I18: =D18*E18 -> 0 | J18: =D18*F18 -> 0 | K18: =D18*G18 -> 0 | L18: =SUM(I18:K18) -> 0 | M18: =ROUND((L18*$J$8)+L18,2) -> 0
A19: 4 | B19: RECARGA E MANUTENÇÃO DE EXTINTORES DE INCÊNDIO | L19: =L20 -> 0 | M19: =M20 -> 0
A20: 4.1 | B20: Recarga e manutenção de extintores de incêndio | C20: CJ | D20: 1 | H20: =SUM(E20:G20) -> 0 | I20: =D20*E20 -> 0 | J20: =D20*F20 -> 0 | K20: =D20*G20 -> 0 | L20: =SUM(I20:K20) -> 0 | M20: =ROUND((L20*$J$8)+L20,2) -> 0
A21: 5 | B21: LIMPEZA E MANUTENÇÃO DE PURIFICADORES DE ÁGUA | L21: =L22 -> 0 | M21: =M22 -> 0
A22: 5.1 | B22: Limpeza e manutenção de purificadores de água | C22: UN | D22: 6 | H22: =SUM(E22:G22) -> 0 | I22: =D22*E22 -> 0 | J22: =D22*F22 -> 0 | K22: =D22*G22 -> 0 | L22: =SUM(I22:K22) -> 0 | M22: =ROUND((L22*$J$8)+L22,2) -> 0
A23: 6 | B23: LAUDOS DE INSPEÇÃO SPDA E SUBESTAÇÕES | L23: =L24 -> 0 | M23: =M24 -> 0
A24: 6.1 | B24: Laudos de inspeção SPDA e subestações | C24: UN | D24: 1 | H24: =SUM(E24:G24) -> 0 | I24: =D24*E24 -> 0 | J24: =D24*F24 -> 0 | K24: =D24*G24 -> 0 | L24: =SUM(I24:K24) -> 0 | M24: =ROUND((L24*$J$8)+L24,2) -> 0
A25: 7 | B25: LAUDOS DE PONTOS DE ANCORAGEM | L25: =L26 -> 0 | M25: =M26 -> 0
A26: 7.1 | B26: Laudos de pontos de Ancoragem | C26: UN | D26: 1 | H26: =SUM(E26:G26) -> 0 | I26: =D26*E26 -> 0 | J26: =D26*F26 -> 0 | K26: =D26*G26 -> 0 | L26: =SUM(I26:K26) -> 0 | M26: =ROUND((L26*$J$8)+L26,2) -> 0
A27: 8 | B27: INSPEÇÃO PREDIAL | L27: =L28 -> 0 | M27: =M28 -> 0
A28: 8.1 | B28: Laudo de Inspeção predial | C28: UN | D28: 1 | H28: =SUM(E28:G28) -> 0 | I28: =D28*E28 -> 0 | J28: =D28*F28 -> 0 | K28: =D28*G28 -> 0 | L28: =SUM(I28:K28) -> 0 | M28: =ROUND((L28*$J$8)+L28,2) -> 0
A29: 9 | B29: MANUTENÇÃO PREDIAL | L29: =SUM(L30:L46) -> 0 | M29: =SUM(M30:M46) -> 0
A30: 9.1 | B30: REMOÇÃO CALHAS E RUFOS, DE FORMA MANUAL, SEM REAPROVEITAMENTO. AF_09/2023 - SINAPI 104803 (03/2025) | C30: M | D30: 50 | H30: =SUM(E30:G30) -> 0 | I30: =D30*E30 -> 0 | J30: =D30*F30 -> 0 | K30: =D30*G30 -> 0 | L30: =SUM(I30:K30) -> 0 | M30: =ROUND((L30*$J$8)+L30,2) -> 0
A31: 9.2 | B31: CALHA EM CHAPA DE AÇO GALVANIZADO NÚMERO 24, DESENVOLVIMENTO DE 50 CM, INCLUSO TRANSPORTE VERTICAL. AF_07/2019 - SINAPI 94228 (03/2025) | C31: M | D31: 25 | H31: =SUM(E31:G31) -> 0 | I31: =D31*E31 -> 0 | J31: =D31*F31 -> 0 | K31: =D31*G31 -> 0 | L31: =SUM(I31:K31) -> 0 | M31: =ROUND((L31*$J$8)+L31,2) -> 0
A32: 9.3 | B32: RUFO EXTERNO/INTERNO EM CHAPA DE AÇO GALVANIZADO NÚMERO 26, CORTE DE 33 CM, INCLUSO IÇAMENTO. AF_07/2019 - SINAPI 100327 (03/2025) | C32: M | D32: 25 | H32: =SUM(E32:G32) -> 0 | I32: =D32*E32 -> 0 | J32: =D32*F32 -> 0 | K32: =D32*G32 -> 0 | L32: =SUM(I32:K32) -> 0 | M32: =ROUND((L32*$J$8)+L32,2) -> 0
A33: 9.4 | B33: EMASSAMENTO COM MASSA LÁTEX, APLICAÇÃO EM TETO, UMA DEMÃO, LIXAMENTO MANUAL. AF_04/2023 - SINAPI 88494 (03/2025) | C33: M² | D33: =D38 -> 50 | H33: =SUM(E33:G33) -> 0 | I33: =D33*E33 -> 0 | J33: =D33*F33 -> 0 | K33: =D33*G33 -> 0 | L33: =SUM(I33:K33) -> 0 | M33: =ROUND((L33*$J$8)+L33,2) -> 0
A34: 9.5 | B34: EMASSAMENTO COM MASSA LÁTEX, APLICAÇÃO EM PAREDE, UMA DEMÃO, LIXAMENTO MANUAL. AF_04/2023 - SINAPI 88495 (03/2025) | C34: M² | D34: =D37 -> 1687 | H34: =SUM(E34:G34) -> 0 | I34: =D34*E34 -> 0 | J34: =D34*F34 -> 0 | K34: =D34*G34 -> 0 | L34: =SUM(I34:K34) -> 0 | M34: =ROUND((L34*$J$8)+L34,2) -> 0
A35: 9.6 | B35: FUNDO SELADOR ACRÍLICO, APLICAÇÃO MANUAL EM TETO, UMA DEMÃO. AF_04/2023 - SINAPI 88484 (03/2025) | C35: M² | D35: =D38 -> 50 | H35: =SUM(E35:G35) -> 0 | I35: =D35*E35 -> 0 | J35: =D35*F35 -> 0 | K35: =D35*G35 -> 0 | L35: =SUM(I35:K35) -> 0 | M35: =ROUND((L35*$J$8)+L35,2) -> 0
A36: 9.7 | B36: FUNDO SELADOR ACRÍLICO, APLICAÇÃO MANUAL EM PAREDE, UMA DEMÃO. AF_04/2023 - SINAPI 88485 (03/2025) | C36: M² | D36: =D37 -> 1687 | H36: =SUM(E36:G36) -> 0 | I36: =D36*E36 -> 0 | J36: =D36*F36 -> 0 | K36: =D36*G36 -> 0 | L36: =SUM(I36:K36) -> 0 | M36: =ROUND((L36*$J$8)+L36,2) -> 0
A37: 9.4 | B37: PINTURA LÁTEX ACRÍLICA PREMIUM, APLICAÇÃO MANUAL EM PAREDES, DUAS DEMÃOS. AF_04/2023 - SINAPI 88489 (03/2025) | C37: M² | D37: 1687 | H37: =SUM(E37:G37) -> 0 | I37: =D37*E37 -> 0 | J37: =D37*F37 -> 0 | K37: =D37*G37 -> 0 | L37: =SUM(I37:K37) -> 0 | M37: =ROUND((L37*$J$8)+L37,2) -> 0
A38: 9.5 | B38: PINTURA LÁTEX ACRÍLICA PREMIUM, APLICAÇÃO MANUAL EM TETO, DUAS DEMÃOS. AF_04/2023 - SINAPI 88488 (03/2025) | C38: M² | D38: 50 | H38: =SUM(E38:G38) -> 0 | I38: =D38*E38 -> 0 | J38: =D38*F38 -> 0 | K38: =D38*G38 -> 0 | L38: =SUM(I38:K38) -> 0 | M38: =ROUND((L38*$J$8)+L38,2) -> 0
A39: 9.6 | B39: PINTURA DE DEMARCAÇÃO DE VAGA COM TINTA ACRÍLICA, E = 10 CM, APLICAÇÃO MANUAL. AF_05/2021 - SINAPI 102500 (03/2025) | C39: M | D39: 35 | H39: =SUM(E39:G39) -> 0 | I39: =D39*E39 -> 0 | J39: =D39*F39 -> 0 | K39: =D39*G39 -> 0 | L39: =SUM(I39:K39) -> 0 | M39: =ROUND((L39*$J$8)+L39,2) -> 0
A40: 9.7 | B40: APLICAÇÃO MANUAL DE PINTURA COM TINTA TEXTURIZADA ACRÍLICA EM PANOS COM PRESENÇA DEVÃOS DE EDIFÍCIOS DE MÚLTIPLOS PAVIMENTOS, DUAS CORES. AF_03/2024 - SINAPI 88424 (03/2025) | C40: M² | D40: 948 | H40: =SUM(E40:G40) -> 0 | I40: =D40*E40 -> 0 | J40: =D40*F40 -> 0 | K40: =D40*G40 -> 0 | L40: =SUM(I40:K40) -> 0 | M40: =ROUND((L40*$J$8)+L40,2) -> 0
A41: 9.8 | B41: LUMINÁRIA DE EMERGÊNCIA, COM 30 LÂMPADAS LED DE 2 W, SEM REATOR - FORNECIMENTO E INSTALAÇÃO. AF_02/2020 - SINAPI 97599 (03/2025) | C41: UN | D41: 5 | H41: =SUM(E41:G41) -> 0 | I41: =D41*E41 -> 0 | J41: =D41*F41 -> 0 | K41: =D41*G41 -> 0 | L41: =SUM(I41:K41) -> 0 | M41: =ROUND((L41*$J$8)+L41,2) -> 0
A42: 9.10 | B42: LÂMPADA COMPACTA DE LED 10 W, BASE E27 - FORNECIMENTO E INSTALAÇÃO. AF_02/2020 - SINAPI 97610 (03/2025) | C42: UN | D42: 5 | H42: =SUM(E42:G42) -> 0 | I42: =D42*E42 -> 0 | J42: =D42*F42 -> 0 | K42: =D42*G42 -> 0 | L42: =SUM(I42:K42) -> 0 | M42: =ROUND((L42*$J$8)+L42,2) -> 0
A43: 9.12 | B43: SUBSTITUIÇÃO DE RELÉ FOTOELÉTRICO PARA COMANDO DE ILUMINAÇÃO EXTERNA 1000 W - FORNECIMENTO E INSTALAÇÃO. AF_08/2020 - SINAPI 101633 (03/2025) | C43: UN | D43: 1 | H43: =SUM(E43:G43) -> 0 | I43: =D43*E43 -> 0 | J43: =D43*F43 -> 0 | K43: =D43*G43 -> 0 | L43: =SUM(I43:K43) -> 0 | M43: =ROUND((L43*$J$8)+L43,2) -> 0
A44: 9.14 | B44: TORNEIRA PARA LAVATORIO DE MESA PRESSMATIC BENEFIT DA DOCOL OU SIMILAR - AGESUL 2401001017 (01/2025) | C44: UN | D44: 1 | H44: =SUM(E44:G44) -> 0 | I44: =D44*E44 -> 0 | J44: =D44*F44 -> 0 | K44: =D44*G44 -> 0 | L44: =SUM(I44:K44) -> 0 | M44: =ROUND((L44*$J$8)+L44,2) -> 0
...

Sheet Cascavel (P)
A1: PLANILHA DE CUSTOS E FORMAÇÃO DE PREÇOS
A2: Local: Regional Cascavel (próprio)
A3: Endereço: Rua Presidente Bernardes, 2069
A5: Pregão Eletrônico n.º:
A6: Data: | C6: Horário:
I8: BDI | J8: =C49 -> 0
A11: ITEM | B11: DESCRIÇÃO DO SERVIÇO | C11: UNIDADE DE MEDIDA | D11: QUANTI DADE | E11: VALORES (R$)
E12: MATERIAL | F12: MÃO DE OBRA | G12: EQUIPAMENTO | H12: TOTAL UNITÁRIO | I12: TOTAL MATERIAL | J12: TOTAL MÃO DE OBRA | K12: TOTAL EQUIPAMENTO | L12: TOTAL SEM BDI | M12: TOTAL COM BDI
A13: 1 | B13: JARDINAGEM E MANUTENÇÃO DE PAISAGISMO | L13: =L14 -> 0 | M13: =M14 -> 0
A14: 1.1 | B14: Jardinagem e manutenção de paisagismo | C14: MÊS | D14: 12 | H14: =SUM(E14:G14) -> 0 | I14: =D14*E14 -> 0 | J14: =D14*F14 -> 0 | K14: =D14*G14 -> 0 | L14: =SUM(I14:K14) -> 0 | M14: =ROUND((L14*$J$8)+L14,2) -> 0
A15: 2 | B15: LIMPEZA E DESINFECÇÃO DE RESERVATÓRIOS DE ÁGUA | L15: =L16 -> 0 | M15: =M16 -> 0
A16: 2.1 | B16: Limpeza e desinfecção de reservatórios de água | C16: UN | D16: 0 | H16: =SUM(E16:G16) -> 0 | I16: =D16*E16 -> 0 | J16: =D16*F16 -> 0 | K16: =D16*G16 -> 0 | L16: =SUM(I16:K16) -> 0 | M16: =ROUND((L16*$J$8)+L16,2) -> 0
A17: 3 | B17: DESINSETIZAÇÃO, DESRATIZAÇÃO E DESCUPINIZAÇÃO | L17: =L18 -> 0 | M17: =M18 -> 0
A18: 3.1 | B18: Desinsetização, desratização e descupinização | C18: UN | D18: 0 | H18: =SUM(E18:G18) -> 0 | I18: =D18*E18 -> 0 | J18: =D18*F18 -> 0 | K18: =D18*G18 -> 0 | L18: =SUM(I18:K18) -> 0 | M18: =ROUND((L18*$J$8)+L18,2) -> 0
A19: 4 | B19: RECARGA E MANUTENÇÃO DE EXTINTORES DE INCÊNDIO | L19: =L20 -> 0 | M19: =M20 -> 0
A20: 4.1 | B20: Recarga e manutenção de extintores de incêndio | C20: CJ | D20: 0 | H20: =SUM(E20:G20) -> 0 | I20: =D20*E20 -> 0 | J20: =D20*F20 -> 0 | K20: =D20*G20 -> 0 | L20: =SUM(I20:K20) -> 0 | M20: =ROUND((L20*$J$8)+L20,2) -> 0
A21: 5 | B21: LIMPEZA E MANUTENÇÃO DE PURIFICADORES DE ÁGUA | L21: =L22 -> 0 | M21: =M22 -> 0
A22: 5.1 | B22: Limpeza e manutenção de purificadores de água | C22: UN | D22: 12 | H22: =SUM(E22:G22) -> 0 | I22: =D22*E22 -> 0 | J22: =D22*F22 -> 0 | K22: =D22*G22 -> 0 | L22: =SUM(I22:K22) -> 0 | M22: =ROUND((L22*$J$8)+L22,2) -> 0
A23: 6 | B23: LAUDOS DE INSPEÇÃO SPDA E SUBESTAÇÕES | L23: =L24 -> 0 | M23: =M24 -> 0
A24: 6.1 | B24: Laudos de inspeção SPDA e subestações | C24: UN | D24: 0 | H24: =SUM(E24:G24) -> 0 | I24: =D24*E24 -> 0 | J24: =D24*F24 -> 0 | K24: =D24*G24 -> 0 | L24: =SUM(I24:K24) -> 0 | M24: =ROUND((L24*$J$8)+L24,2) -> 0
A25: 7 | B25: LAUDOS DE PONTOS DE ANCORAGEM | L25: =L26 -> 0 | M25: =M26 -> 0
A26: 7.1 | B26: Laudos de pontos de Ancoragem | C26: UN | D26: 0 | H26: =SUM(E26:G26) -> 0 | I26: =D26*E26 -> 0 | J26: =D26*F26 -> 0 | K26: =D26*G26 -> 0 | L26: =SUM(I26:K26) -> 0 | M26: =ROUND((L26*$J$8)+L26,2) -> 0
A27: 8 | B27: INSPEÇÃO PREDIAL | L27: =L28 -> 0 | M27: =M28 -> 0
A28: 8.1 | B28: Laudo de Inspeção predial | C28: UN | D28: 0 | H28: =SUM(E28:G28) -> 0 | I28: =D28*E28 -> 0 | J28: =D28*F28 -> 0 | K28: =D28*G28 -> 0 | L28: =SUM(I28:K28) -> 0 | M28: =ROUND((L28*$J$8)+L28,2) -> 0
A29: 9 | B29: MANUTENÇÃO PREDIAL | L29: =SUM(L32:L32) -> 0 | M29: =SUM(M30:M32) -> 0
A30: 9.1 | B30: EMASSAMENTO COM MASSA LÁTEX, APLICAÇÃO EM PAREDE, UMA DEMÃO, LIXAMENTO MANUAL. AF_04/2023 - SINAPI 88495 (03/2025) | C30: M² | D30: =D31 -> 50 | H30: =SUM(E30:G30) -> 0 | I30: =D30*E30 -> 0 | J30: =D30*F30 -> 0 | K30: =D30*G30 -> 0 | L30: =SUM(I30:K30) -> 0 | M30: =ROUND((L30*$J$8)+L30,2) -> 0
A31: 9.2 | B31: FUNDO SELADOR ACRÍLICO, APLICAÇÃO MANUAL EM PAREDE, UMA DEMÃO. AF_04/2023 - SINAPI 88485 (03/2025) | C31: M² | D31: =D32 -> 50 | H31: =SUM(E31:G31) -> 0 | I31: =D31*E31 -> 0 | J31: =D31*F31 -> 0 | K31: =D31*G31 -> 0 | L31: =SUM(I31:K31) -> 0 | M31: =ROUND((L31*$J$8)+L31,2) -> 0
A32: 9.3 | B32: PINTURA LÁTEX ACRÍLICA PREMIUM, APLICAÇÃO MANUAL EM PAREDES, DUAS DEMÃOS. AF_04/2023 - SINAPI 88489 (03/2025) | C32: M² | D32: 50 | H32: =SUM(E32:G32) -> 0 | I32: =D32*E32 -> 0 | J32: =D32*F32 -> 0 | K32: =D32*G32 -> 0 | L32: =SUM(I32:K32) -> 0 | M32: =ROUND((L32*$J$8)+L32,2) -> 0
M33: =M13+M15+M17+M19+M21+M23+M25+M29 -> 0
A35: BENEFÍCIOS E DESPESAS INDIRETAS (BDI)
A37: ITEM | B37: DISCRIMINAÇÃO | C37: TAXA BDI (%)
A39: 1 | B39: A – ADMINISTRAÇÃO CENTRAL
A40: 2 | B40: SG – seguros + garantias
A41: 3 | B41: R – riscos
A42: 4 | B42: F – despesas financeiras
A43: 5 | B43: L – lucro bruto
A44: 6 | B44: T - tributos
A45: 6.1 | B45: COFINS
A46: 6.2 | B46: PIS
A47: 6.3 | B47: Contribuição Previdenciária sobre Receita Bruta (CPRB)
...

Sheet Cascavel (L)
A1: PLANILHA DE CUSTOS E FORMAÇÃO DE PREÇOS
A2: Local: Regional Cascavel (locado)
A3: Endereço: Rua Presidente Kennedy, 2145, salas 1 e 2 (térreo)
A5: Pregão Eletrônico n.º:
A6: Data: | C6: Horário:
I8: BDI | J8: =C51 -> 0
A11: ITEM | B11: DESCRIÇÃO DO SERVIÇO | C11: UNIDADE DE MEDIDA | D11: QUANTI DADE | E11: VALORES (R$)
E12: MATERIAL | F12: MÃO DE OBRA | G12: EQUIPAMENTO | H12: TOTAL UNITÁRIO | I12: TOTAL MATERIAL | J12: TOTAL MÃO DE OBRA | K12: TOTAL EQUIPAMENTO | L12: TOTAL SEM BDI | M12: TOTAL COM BDI
A13: 1 | B13: JARDINAGEM E MANUTENÇÃO DE PAISAGISMO | L13: =L14 -> 0 | M13: =M14 -> 0
A14: 1.1 | B14: Jardinagem e manutenção de paisagismo | C14: MÊS | D14: 0 | H14: =SUM(E14:G14) -> 0 | I14: =D14*E14 -> 0 | J14: =D14*F14 -> 0 | K14: =D14*G14 -> 0 | L14: =SUM(I14:K14) -> 0 | M14: =ROUND((L14*$J$8)+L14,2) -> 0
A15: 2 | B15: LIMPEZA E DESINFECÇÃO DE RESERVATÓRIOS DE ÁGUA | L15: =L16 -> 0 | M15: =M16 -> 0
A16: 2.1 | B16: Limpeza e desinfecção de reservatórios de água | C16: UN | D16: 1 | H16: =SUM(E16:G16) -> 0 | I16: =D16*E16 -> 0 | J16: =D16*F16 -> 0 | K16: =D16*G16 -> 0 | L16: =SUM(I16:K16) -> 0 | M16: =ROUND((L16*$J$8)+L16,2) -> 0
A17: 3 | B17: DESINSETIZAÇÃO, DESRATIZAÇÃO E DESCUPINIZAÇÃO | L17: =L18 -> 0 | M17: =M18 -> 0
A18: 3.1 | B18: Desinsetização, desratização e descupinização | C18: UN | D18: 2 | H18: =SUM(E18:G18) -> 0 | I18: =D18*E18 -> 0 | J18: =D18*F18 -> 0 | K18: =D18*G18 -> 0 | L18: =SUM(I18:K18) -> 0 | M18: =ROUND((L18*$J$8)+L18,2) -> 0
A19: 4 | B19: RECARGA E MANUTENÇÃO DE EXTINTORES DE INCÊNDIO | L19: =L20 -> 0 | M19: =M20 -> 0
A20: 4.1 | B20: Recarga e manutenção de extintores de incêndio | C20: CJ | D20: 1 | H20: =SUM(E20:G20) -> 0 | I20: =D20*E20 -> 0 | J20: =D20*F20 -> 0 | K20: =D20*G20 -> 0 | L20: =SUM(I20:K20) -> 0 | M20: =ROUND((L20*$J$8)+L20,2) -> 0
A21: 5 | B21: LIMPEZA E MANUTENÇÃO DE PURIFICADORES DE ÁGUA | L21: =L22 -> 0 | M21: =M22 -> 0
A22: 5.1 | B22: Limpeza e manutenção de purificadores de água | C22: UN | D22: 3 | H22: =SUM(E22:G22) -> 0 | I22: =D22*E22 -> 0 | J22: =D22*F22 -> 0 | K22: =D22*G22 -> 0 | L22: =SUM(I22:K22) -> 0 | M22: =ROUND((L22*$J$8)+L22,2) -> 0
A23: 6 | B23: LAUDOS DE INSPEÇÃO SPDA E SUBESTAÇÕES | L23: =L24 -> 0 | M23: =M24 -> 0
A24: 6.1 | B24: Laudos de inspeção SPDA e subestações | C24: UN | D24: 0 | H24: =SUM(E24:G24) -> 0 | I24: =D24*E24 -> 0 | J24: =D24*F24 -> 0 | K24: =D24*G24 -> 0 | L24: =SUM(I24:K24) -> 0 | M24: =ROUND((L24*$J$8)+L24,2) -> 0
A25: 7 | B25: LAUDOS DE PONTOS DE ANCORAGEM | L25: =L26 -> 0 | M25: =M26 -> 0
A26: 7.1 | B26: Laudos de pontos de Ancoragem | C26: UN | D26: 0 | H26: =SUM(E26:G26) -> 0 | I26: =D26*E26 -> 0 | J26: =D26*F26 -> 0 | K26: =D26*G26 -> 0 | L26: =SUM(I26:K26) -> 0 | M26: =ROUND((L26*$J$8)+L26,2) -> 0
A27: 8 | B27: INSPEÇÃO PREDIAL | L27: =L28 -> 0 | M27: =M28 -> 0
A28: 8.1 | B28: Laudo de Inspeção predial | C28: UN | D28: 1 | H28: =SUM(E28:G28) -> 0 | I28: =D28*E28 -> 0 | J28: =D28*F28 -> 0 | K28: =D28*G28 -> 0 | L28: =SUM(I28:K28) -> 0 | M28: =ROUND((L28*$J$8)+L28,2) -> 0
A29: 9 | B29: MANUTENÇÃO PREDIAL | L29: =SUM(L32:L34) -> 0 | M29: =SUM(M30:M34) -> 0
A30: 9.1 | B30: EMASSAMENTO COM MASSA LÁTEX, APLICAÇÃO EM PAREDE, UMA DEMÃO, LIXAMENTO MANUAL. AF_04/2023 - SINAPI 88495 (03/2025) | C30: M² | D30: =D31 -> 150 | H30: =SUM(E30:G30) -> 0 | I30: =D30*E30 -> 0 | J30: =D30*F30 -> 0 | K30: =D30*G30 -> 0 | L30: =SUM(I30:K30) -> 0 | M30: =ROUND((L30*$J$8)+L30,2) -> 0
A31: 9.2 | B31: FUNDO SELADOR ACRÍLICO, APLICAÇÃO MANUAL EM PAREDE, UMA DEMÃO. AF_04/2023 - SINAPI 88485 (03/2025) | C31: M² | D31: =D32 -> 150 | H31: =SUM(E31:G31) -> 0 | I31: =D31*E31 -> 0 | J31: =D31*F31 -> 0 | K31: =D31*G31 -> 0 | L31: =SUM(I31:K31) -> 0 | M31: =ROUND((L31*$J$8)+L31,2) -> 0
A32: 9.3 | B32: PINTURA LÁTEX ACRÍLICA PREMIUM, APLICAÇÃO MANUAL EM PAREDES, DUAS DEMÃOS. AF_04/2023 - SINAPI 88489 (03/2025) | C32: M² | D32: 150 | H32: =SUM(E32:G32) -> 0 | I32: =D32*E32 -> 0 | J32: =D32*F32 -> 0 | K32: =D32*G32 -> 0 | L32: =SUM(I32:K32) -> 0 | M32: =ROUND((L32*$J$8)+L32,2) -> 0
A33: 9.4 | B33: LUMINÁRIA DE EMERGÊNCIA, COM 30 LÂMPADAS LED DE 2 W, SEM REATOR - FORNECIMENTO E INSTALAÇÃO. AF_02/2020 - SINAPI 97599 (03/2025) | C33: UN | D33: 1 | H33: =SUM(E33:G33) -> 0 | I33: =D33*E33 -> 0 | J33: =D33*F33 -> 0 | K33: =D33*G33 -> 0 | L33: =SUM(I33:K33) -> 0 | M33: =ROUND((L33*$J$8)+L33,2) -> 0
A34: 9.5 | B34: ASSENTO EM POLIPROPILENO COM SISTEMA DE FECHAMENTO SUAVE PARA VASO SANITÁRIO - FORNECIMENTO E INSTALAÇÃO - AGETOP CIVIL 080526 (12/2024) | C34: UN | D34: 10 | H34: =SUM(E34:G34) -> 0 | I34: =D34*E34 -> 0 | J34: =D34*F34 -> 0 | K34: =D34*G34 -> 0 | L34: =SUM(I34:K34) -> 0 | M34: =ROUND((L34*$J$8)+L34,2) -> 0
M35: =M13+M15+M17+M19+M21+M23+M25+M29 -> 0
A37: BENEFÍCIOS E DESPESAS INDIRETAS (BDI)
A39: ITEM | B39: DISCRIMINAÇÃO | C39: TAXA BDI (%)
A41: 1 | B41: A – ADMINISTRAÇÃO CENTRAL
A42: 2 | B42: SG – seguros + garantias
A43: 3 | B43: R – riscos
A44: 4 | B44: F – despesas financeiras
A45: 5 | B45: L – lucro bruto
A46: 6 | B46: T - tributos
A47: 6.1 | B47: COFINS
...

Sheet Guarapuava
A1: PLANILHA DE CUSTOS E FORMAÇÃO DE PREÇOS
A2: Local: Regional Guarapuava
A3: Endereço: Rua Primavera, 231, 2º andar, salas 203 e 204
A5: Pregão Eletrônico n.º:
A6: Data: | C6: Horário:
I8: BDI | J8: =C47 -> 0
A11: ITEM | B11: DESCRIÇÃO DO SERVIÇO | C11: UNIDADE DE MEDIDA | D11: QUANTI DADE | E11: VALORES (R$)
E12: MATERIAL | F12: MÃO DE OBRA | G12: EQUIPAMENTO | H12: TOTAL UNITÁRIO | I12: TOTAL MATERIAL | J12: TOTAL MÃO DE OBRA | K12: TOTAL EQUIPAMENTO | L12: TOTAL SEM BDI | M12: TOTAL COM BDI
A13: 1 | B13: JARDINAGEM E MANUTENÇÃO DE PAISAGISMO | L13: =L14 -> 0 | M13: =M14 -> 0
A14: 1.1 | B14: Jardinagem e manutenção de paisagismo | C14: MÊS | D14: 0 | H14: =SUM(E14:G14) -> 0 | I14: =D14*E14 -> 0 | J14: =D14*F14 -> 0 | K14: =D14*G14 -> 0 | L14: =SUM(I14:K14) -> 0 | M14: =ROUND((L14*$J$8)+L14,2) -> 0
A15: 2 | B15: LIMPEZA E DESINFECÇÃO DE RESERVATÓRIOS DE ÁGUA | L15: =L16 -> 0 | M15: =M16 -> 0
A16: 2.1 | B16: Limpeza e desinfecção de reservatórios de água | C16: UN | D16: 0 | H16: =SUM(E16:G16) -> 0 | I16: =D16*E16 -> 0 | J16: =D16*F16 -> 0 | K16: =D16*G16 -> 0 | L16: =SUM(I16:K16) -> 0 | M16: =ROUND((L16*$J$8)+L16,2) -> 0
A17: 3 | B17: DESINSETIZAÇÃO, DESRATIZAÇÃO E DESCUPINIZAÇÃO | L17: =L18 -> 0 | M17: =M18 -> 0
A18: 3.1 | B18: Desinsetização, desratização e descupinização | C18: UN | D18: 2 | H18: =SUM(E18:G18) -> 0 | I18: =D18*E18 -> 0 | J18: =D18*F18 -> 0 | K18: =D18*G18 -> 0 | L18: =SUM(I18:K18) -> 0 | M18: =ROUND((L18*$J$8)+L18,2) -> 0
A19: 4 | B19: RECARGA E MANUTENÇÃO DE EXTINTORES DE INCÊNDIO | L19: =L20 -> 0 | M19: =M20 -> 0
A20: 4.1 | B20: Recarga e manutenção de extintores de incêndio | C20: CJ | D20: 0 | H20: =SUM(E20:G20) -> 0 | I20: =D20*E20 -> 0 | J20: =D20*F20 -> 0 | K20: =D20*G20 -> 0 | L20: =SUM(I20:K20) -> 0 | M20: =ROUND((L20*$J$8)+L20,2) -> 0
A21: 5 | B21: LIMPEZA E MANUTENÇÃO DE PURIFICADORES DE ÁGUA | L21: =L22 -> 0 | M21: =M22 -> 0
A22: 5.1 | B22: Limpeza e manutenção de purificadores de água | C22: UN | D22: 1 | H22: =SUM(E22:G22) -> 0 | I22: =D22*E22 -> 0 | J22: =D22*F22 -> 0 | K22: =D22*G22 -> 0 | L22: =SUM(I22:K22) -> 0 | M22: =ROUND((L22*$J$8)+L22,2) -> 0
A23: 6 | B23: LAUDOS DE INSPEÇÃO SPDA E SUBESTAÇÕES | L23: =L24 -> 0 | M23: =M24 -> 0
A24: 6.1 | B24: Laudos de inspeção SPDA e subestações | C24: UN | D24: 0 | H24: =SUM(E24:G24) -> 0 | I24: =D24*E24 -> 0 | J24: =D24*F24 -> 0 | K24: =D24*G24 -> 0 | L24: =SUM(I24:K24) -> 0 | M24: =ROUND((L24*$J$8)+L24,2) -> 0
A25: 7 | B25: LAUDOS DE PONTOS DE ANCORAGEM | L25: =L26 -> 0 | M25: =M26 -> 0
A26: 7.1 | B26: Laudos de pontos de Ancoragem | C26: UN | D26: 0 | H26: =SUM(E26:G26) -> 0 | I26: =D26*E26 -> 0 | J26: =D26*F26 -> 0 | K26: =D26*G26 -> 0 | L26: =SUM(I26:K26) -> 0 | M26: =ROUND((L26*$J$8)+L26,2) -> 0
A27: 8 | B27: INSPEÇÃO PREDIAL | L27: =L28 -> 0 | M27: =M28 -> 0
A28: 8.1 | B28: Laudo de Inspeção predial | C28: UN | D28: 1 | H28: =SUM(E28:G28) -> 0 | I28: =D28*E28 -> 0 | J28: =D28*F28 -> 0 | K28: =D28*G28 -> 0 | L28: =SUM(I28:K28) -> 0 | M28: =ROUND((L28*$J$8)+L28,2) -> 0
A29: 9 | B29: MANUTENÇÃO PREDIAL | L29: =L30 -> 0 | M29: =SUM(M30:M30) -> 0
A30: - | B30: - | C30: - | D30: 0 | H30: =SUM(E30:G30) -> 0 | I30: =D30*E30 -> 0 | J30: =D30*F30 -> 0 | K30: =D30*G30 -> 0 | L30: =SUM(I30:K30) -> 0 | M30: =ROUND((L30*$J$8)+L30,2) -> 0
M31: =M13+M15+M17+M19+M21+M23+M25+M29 -> 0
A33: BENEFÍCIOS E DESPESAS INDIRETAS (BDI)
A35: ITEM | B35: DISCRIMINAÇÃO | C35: TAXA BDI (%)
A37: 1 | B37: A – ADMINISTRAÇÃO CENTRAL
A38: 2 | B38: SG – seguros + garantias
A39: 3 | B39: R – riscos
A40: 4 | B40: F – despesas financeiras
A41: 5 | B41: L – lucro bruto
A42: 6 | B42: T - tributos
A43: 6.1 | B43: COFINS
A44: 6.2 | B44: PIS
A45: 6.3 | B45: Contribuição Previdenciária sobre Receita Bruta (CPRB)
A46: 6.4 | B46: ISS (Conforme Legislação Municipal)
A47: Fórmula BDI*
...

Sheet Londrina
A1: PLANILHA DE CUSTOS E FORMAÇÃO DE PREÇOS
A2: Local: Regional Londrina
A3: Endereço: Av. Duque de Caxias, 630
A5: Pregão Eletrônico n.º:
A6: Data: | C6: Horário:
I8: BDI | J8: =C57 -> 0
A11: ITEM | B11: DESCRIÇÃO DO SERVIÇO | C11: UNIDADE DE MEDIDA | D11: QUANTI DADE | E11: VALORES (R$)
E12: MATERIAL | F12: MÃO DE OBRA | G12: EQUIPAMENTO | H12: TOTAL UNITÁRIO | I12: TOTAL MATERIAL | J12: TOTAL MÃO DE OBRA | K12: TOTAL EQUIPAMENTO | L12: TOTAL SEM BDI | M12: TOTAL COM BDI
A13: 1 | B13: JARDINAGEM E MANUTENÇÃO DE PAISAGISMO | L13: =L14 -> 0 | M13: =M14 -> 0
A14: 1.1 | B14: Jardinagem e manutenção de paisagismo | C14: MÊS | D14: 12 | H14: =SUM(E14:G14) -> 0 | I14: =D14*E14 -> 0 | J14: =D14*F14 -> 0 | K14: =D14*G14 -> 0 | L14: =SUM(I14:K14) -> 0 | M14: =ROUND((L14*$J$8)+L14,2) -> 0
A15: 2 | B15: LIMPEZA E DESINFECÇÃO DE RESERVATÓRIOS DE ÁGUA | L15: =L16 -> 0 | M15: =M16 -> 0
A16: 2.1 | B16: Limpeza e desinfecção de reservatórios de água | C16: UN | D16: 1 | H16: =SUM(E16:G16) -> 0 | I16: =D16*E16 -> 0 | J16: =D16*F16 -> 0 | K16: =D16*G16 -> 0 | L16: =SUM(I16:K16) -> 0 | M16: =ROUND((L16*$J$8)+L16,2) -> 0
A17: 3 | B17: DESINSETIZAÇÃO, DESRATIZAÇÃO E DESCUPINIZAÇÃO | L17: =L18 -> 0 | M17: =M18 -> 0
A18: 3.1 | B18: Desinsetização, desratização e descupinização | C18: UN | D18: 2 | H18: =SUM(E18:G18) -> 0 | I18: =D18*E18 -> 0 | J18: =D18*F18 -> 0 | K18: =D18*G18 -> 0 | L18: =SUM(I18:K18) -> 0 | M18: =ROUND((L18*$J$8)+L18,2) -> 0
A19: 4 | B19: RECARGA E MANUTENÇÃO DE EXTINTORES DE INCÊNDIO | L19: =L20 -> 0 | M19: =M20 -> 0
A20: 4.1 | B20: Recarga e manutenção de extintores de incêndio | C20: CJ | D20: 1 | H20: =SUM(E20:G20) -> 0 | I20: =D20*E20 -> 0 | J20: =D20*F20 -> 0 | K20: =D20*G20 -> 0 | L20: =SUM(I20:K20) -> 0 | M20: =ROUND((L20*$J$8)+L20,2) -> 0
A21: 5 | B21: LIMPEZA E MANUTENÇÃO DE PURIFICADORES DE ÁGUA | L21: =L22 -> 0 | M21: =M22 -> 0
A22: 5.1 | B22: Limpeza e manutenção de purificadores de água | C22: UN | D22: 12 | H22: =SUM(E22:G22) -> 0 | I22: =D22*E22 -> 0 | J22: =D22*F22 -> 0 | K22: =D22*G22 -> 0 | L22: =SUM(I22:K22) -> 0 | M22: =ROUND((L22*$J$8)+L22,2) -> 0
A23: 6 | B23: LAUDOS DE INSPEÇÃO SPDA E SUBESTAÇÕES | L23: =L24 -> 0 | M23: =M24 -> 0
A24: 6.1 | B24: Laudos de inspeção SPDA e subestações | C24: UN | D24: 1 | H24: =SUM(E24:G24) -> 0 | I24: =D24*E24 -> 0 | J24: =D24*F24 -> 0 | K24: =D24*G24 -> 0 | L24: =SUM(I24:K24) -> 0 | M24: =ROUND((L24*$J$8)+L24,2) -> 0
A25: 7 | B25: LAUDOS DE PONTOS DE ANCORAGEM | L25: =L26 -> 0 | M25: =M26 -> 0
A26: 7.1 | B26: Laudos de pontos de Ancoragem | C26: UN | D26: 1 | H26: =SUM(E26:G26) -> 0 | I26: =D26*E26 -> 0 | J26: =D26*F26 -> 0 | K26: =D26*G26 -> 0 | L26: =SUM(I26:K26) -> 0 | M26: =ROUND((L26*$J$8)+L26,2) -> 0
A27: 8 | B27: INSPEÇÃO PREDIAL | L27: =L28 -> 0 | M27: =M28 -> 0
A28: 8.1 | B28: Laudo de Inspeção predial | C28: UN | D28: 1 | H28: =SUM(E28:G28) -> 0 | I28: =D28*E28 -> 0 | J28: =D28*F28 -> 0 | K28: =D28*G28 -> 0 | L28: =SUM(I28:K28) -> 0 | M28: =ROUND((L28*$J$8)+L28,2) -> 0
A29: 9 | B29: MANUTENÇÃO PREDIAL | L29: =SUM(L34:L40) -> 0 | M29: =SUM(M30:M40) -> 0
A30: 9.1 | B30: EMASSAMENTO COM MASSA LÁTEX, APLICAÇÃO EM TETO, UMA DEMÃO, LIXAMENTO MANUAL. AF_04/2023 - SINAPI 88494 (03/2025) | C30: M² | D30: =D35 -> 200 | H30: =SUM(E30:G30) -> 0 | I30: =D30*E30 -> 0 | J30: =D30*F30 -> 0 | K30: =D30*G30 -> 0 | L30: =SUM(I30:K30) -> 0 | M30: =ROUND((L30*$J$8)+L30,2) -> 0
A31: 9.2 | B31: EMASSAMENTO COM MASSA LÁTEX, APLICAÇÃO EM PAREDE, UMA DEMÃO, LIXAMENTO MANUAL. AF_04/2023 - SINAPI 88495 (03/2025) | C31: M² | D31: =D34 -> 400 | H31: =SUM(E31:G31) -> 0 | I31: =D31*E31 -> 0 | J31: =D31*F31 -> 0 | K31: =D31*G31 -> 0 | L31: =SUM(I31:K31) -> 0 | M31: =ROUND((L31*$J$8)+L31,2) -> 0
A32: 9.3 | B32: FUNDO SELADOR ACRÍLICO, APLICAÇÃO MANUAL EM TETO, UMA DEMÃO. AF_04/2023 - SINAPI 88484 (03/2025) | C32: M² | D32: =D35 -> 200 | H32: =SUM(E32:G32) -> 0 | I32: =D32*E32 -> 0 | J32: =D32*F32 -> 0 | K32: =D32*G32 -> 0 | L32: =SUM(I32:K32) -> 0 | M32: =ROUND((L32*$J$8)+L32,2) -> 0
A33: 9.4 | B33: FUNDO SELADOR ACRÍLICO, APLICAÇÃO MANUAL EM PAREDE, UMA DEMÃO. AF_04/2023 - SINAPI 88485 (03/2025) | C33: M² | D33: =D34 -> 400 | H33: =SUM(E33:G33) -> 0 | I33: =D33*E33 -> 0 | J33: =D33*F33 -> 0 | K33: =D33*G33 -> 0 | L33: =SUM(I33:K33) -> 0 | M33: =ROUND((L33*$J$8)+L33,2) -> 0
A34: 9.5 | B34: PINTURA LÁTEX ACRÍLICA PREMIUM, APLICAÇÃO MANUAL EM PAREDES, DUAS DEMÃOS. AF_04/2023 - SINAPI 88489 (03/2025) | C34: M² | D34: 400 | H34: =SUM(E34:G34) -> 0 | I34: =D34*E34 -> 0 | J34: =D34*F34 -> 0 | K34: =D34*G34 -> 0 | L34: =SUM(I34:K34) -> 0 | M34: =ROUND((L34*$J$8)+L34,2) -> 0
A35: 9.6 | B35: PINTURA LÁTEX ACRÍLICA PREMIUM, APLICAÇÃO MANUAL EM TETO, DUAS DEMÃOS. AF_04/2023 - SINAPI 88488 (03/2025) | C35: M² | D35: 200 | H35: =SUM(E35:G35) -> 0 | I35: =D35*E35 -> 0 | J35: =D35*F35 -> 0 | K35: =D35*G35 -> 0 | L35: =SUM(I35:K35) -> 0 | M35: =ROUND((L35*$J$8)+L35,2) -> 0
A36: 9.7 | B36: APLICAÇÃO MANUAL DE PINTURA COM TINTA TEXTURIZADA ACRÍLICA EM PANOS COM PRESENÇA DEVÃOS DE EDIFÍCIOS DE MÚLTIPLOS PAVIMENTOS, DUAS CORES. AF_03/2024 - SINAPI 88424 (03/2025) | C36: M² | D36: 200 | H36: =SUM(E36:G36) -> 0 | I36: =D36*E36 -> 0 | J36: =D36*F36 -> 0 | K36: =D36*G36 -> 0 | L36: =SUM(I36:K36) -> 0 | M36: =ROUND((L36*$J$8)+L36,2) -> 0
A37: 9.8 | B37: LUMINÁRIA DE EMERGÊNCIA, COM 30 LÂMPADAS LED DE 2 W, SEM REATOR - FORNECIMENTO E INSTALAÇÃO. AF_02/2020 - SINAPI 97599 (03/2025) | C37: UN | D37: 5 | H37: =SUM(E37:G37) -> 0 | I37: =D37*E37 -> 0 | J37: =D37*F37 -> 0 | K37: =D37*G37 -> 0 | L37: =SUM(I37:K37) -> 0 | M37: =ROUND((L37*$J$8)+L37,2) -> 0
A38: 9.9 | B38: VÁLVULA DE DESCARGA METÁLICA, BASE 1 1/2", ACABAMENTO METALICO CROMADO - FORNECIMENTO E INSTALAÇÃO. AF_08/2021 - SINAPI 99635 (03/2025) | C38: UN | D38: 2 | H38: =SUM(E38:G38) -> 0 | I38: =D38*E38 -> 0 | J38: =D38*F38 -> 0 | K38: =D38*G38 -> 0 | L38: =SUM(I38:K38) -> 0 | M38: =ROUND((L38*$J$8)+L38,2) -> 0
A39: 9.10 | B39: TORNEIRA PARA LAVATORIO DE MESA PRESSMATIC BENEFIT DA DOCOL OU SIMILAR - AGESUL 2401001017 (01/2025) | C39: UN | D39: 1 | H39: =SUM(E39:G39) -> 0 | I39: =D39*E39 -> 0 | J39: =D39*F39 -> 0 | K39: =D39*G39 -> 0 | L39: =SUM(I39:K39) -> 0 | M39: =ROUND((L39*$J$8)+L39,2) -> 0
A40: 9.11 | B40: TOMADA DE REDE RJ45 - FORNECIMENTO E INSTALAÇÃO. AF_11/2019 - SINAPI 98307 (03/2025) | C40: UN | D40: 5 | H40: =SUM(E40:G40) -> 0 | I40: =D40*E40 -> 0 | J40: =D40*F40 -> 0 | K40: =D40*G40 -> 0 | L40: =SUM(I40:K40) -> 0 | M40: =ROUND((L40*$J$8)+L40,2) -> 0
M41: =M13+M15+M17+M19+M21+M23+M25+M29 -> 0
A43: BENEFÍCIOS E DESPESAS INDIRETAS (BDI)
A45: ITEM | B45: DISCRIMINAÇÃO | C45: TAXA BDI (%)
A47: 1 | B47: A – ADMINISTRAÇÃO CENTRAL
...

Sheet Maringá
A1: PLANILHA DE CUSTOS E FORMAÇÃO DE PREÇOS
A2: Local: Regional Maringá
A3: Endereço: Av. Bento Munhoz da Rocha Neto, 1139
A5: Pregão Eletrônico n.º:
A6: Data: | C6: Horário:
I8: BDI | J8: =C57 -> 0
A11: ITEM | B11: DESCRIÇÃO DO SERVIÇO | C11: UNIDADE DE MEDIDA | D11: QUANTI DADE | E11: VALORES (R$)
E12: MATERIAL | F12: MÃO DE OBRA | G12: EQUIPAMENTO | H12: TOTAL UNITÁRIO | I12: TOTAL MATERIAL | J12: TOTAL MÃO DE OBRA | K12: TOTAL EQUIPAMENTO | L12: TOTAL SEM BDI | M12: TOTAL COM BDI
A13: 1 | B13: JARDINAGEM E MANUTENÇÃO DE PAISAGISMO | L13: =L14 -> 0 | M13: =M14 -> 0
A14: 1.1 | B14: Jardinagem e manutenção de paisagismo | C14: MÊS | D14: 12 | H14: =SUM(E14:G14) -> 0 | I14: =D14*E14 -> 0 | J14: =D14*F14 -> 0 | K14: =D14*G14 -> 0 | L14: =SUM(I14:K14) -> 0 | M14: =ROUND((L14*$J$8)+L14,2) -> 0
A15: 2 | B15: LIMPEZA E DESINFECÇÃO DE RESERVATÓRIOS DE ÁGUA | L15: =L16 -> 0 | M15: =M16 -> 0
A16: 2.1 | B16: Limpeza e desinfecção de reservatórios de água | C16: UN | D16: 1 | H16: =SUM(E16:G16) -> 0 | I16: =D16*E16 -> 0 | J16: =D16*F16 -> 0 | K16: =D16*G16 -> 0 | L16: =SUM(I16:K16) -> 0 | M16: =ROUND((L16*$J$8)+L16,2) -> 0
A17: 3 | B17: DESINSETIZAÇÃO, DESRATIZAÇÃO E DESCUPINIZAÇÃO | L17: =L18 -> 0 | M17: =M18 -> 0
A18: 3.1 | B18: Desinsetização, desratização e descupinização | C18: UN | D18: 2 | H18: =SUM(E18:G18) -> 0 | I18: =D18*E18 -> 0 | J18: =D18*F18 -> 0 | K18: =D18*G18 -> 0 | L18: =SUM(I18:K18) -> 0 | M18: =ROUND((L18*$J$8)+L18,2) -> 0
A19: 4 | B19: RECARGA E MANUTENÇÃO DE EXTINTORES DE INCÊNDIO | L19: =L20 -> 0 | M19: =M20 -> 0
A20: 4.1 | B20: Recarga e manutenção de extintores de incêndio | C20: CJ | D20: 1 | H20: =SUM(E20:G20) -> 0 | I20: =D20*E20 -> 0 | J20: =D20*F20 -> 0 | K20: =D20*G20 -> 0 | L20: =SUM(I20:K20) -> 0 | M20: =ROUND((L20*$J$8)+L20,2) -> 0
